From mboxrd@z Thu Jan 1 00:00:00 1970 Return-Path: Received: from mails.dpdk.org (mails.dpdk.org [217.70.189.124]) by inbox.dpdk.org (Postfix) with ESMTP id 05B3A48B1B for ; Sat, 15 Nov 2025 17:02:55 +0100 (CET) Received: from mails.dpdk.org (localhost [127.0.0.1]) by mails.dpdk.org (Postfix) with ESMTP id D75E0402A2; Sat, 15 Nov 2025 17:02:54 +0100 (CET) Received: from mail-yw1-f226.google.com (mail-yw1-f226.google.com [209.85.128.226]) by mails.dpdk.org (Postfix) with ESMTP id 3D5EF402A2 for ; Sat, 15 Nov 2025 17:02:53 +0100 (CET) Received: by mail-yw1-f226.google.com with SMTP id 00721157ae682-787e35ab178so30170967b3.2 for ; Sat, 15 Nov 2025 08:02:53 -0800 (PST) DKIM-Signature: v=1; a=rsa-sha256; c=relaxed/relaxed; d=iol.unh.edu; s=unh-iol; t=1763222572; x=1763827372; darn=dpdk.org; h=references:in-reply-to:cc:to:from:subject:message-id:date:from:to :cc:subject:date:message-id:reply-to; bh=RtF4AHGXkpNahptC8Cd+QqtQvhme2H87XsVPPEnm+Vw=; b=XbIrjDHQiKqlNSVXDSjx39F7VZPujdfU8cRzseOOXqLxkxIYwmlfsVSvUIE/DphXw3 guMLq5LaOxCDzSQS+5CT5Gru4X8Eo130Jsip/vLss/DEWyuVoS099lx12HkOopVTOrEq +18xgJu+6CS0HsXY5BrThbJ0mdAQS13AXQBxw= X-Google-DKIM-Signature: v=1; a=rsa-sha256; c=relaxed/relaxed; d=1e100.net; s=20230601; t=1763222572; x=1763827372; h=references:in-reply-to:cc:to:from:subject:message-id:date:x-gm-gg :x-gm-message-state:from:to:cc:subject:date:message-id:reply-to; bh=RtF4AHGXkpNahptC8Cd+QqtQvhme2H87XsVPPEnm+Vw=; b=D30H+Iv8G2r1s6yDb0DTBs60farf8bPdZOIdKXc/jQPL2JMoEjfqqiM1MJ5HBpGRWr 7AZh6FsHPi+z+A3LeaCbLIfdndyjRrPGl7ARtWCLiruZvImfvb7UYVZzjAGYr/b/PhlW 5TljOVskHFppgWOwqdSErMS9TbzxuLgI3Xb5oT1J4omnP9KbxemLPJkRr7q4LkTKIRC/ XH4HOJX+IOVx4h+TAAT9uMOQrBXa58N9e+Zd2ItmBPOUSFpEgGq6G5CRORG82leXL92+ nHwC4yq8ieLdhzHHUw9IbDEv7XkZ24vzcdVh1713C7gh7nlhVUdOfUiSWN0v5HsfmUgj 3Row== X-Gm-Message-State: AOJu0YxJw8wvph7pLibP6ZSt0+xh4B0sOO8bWoh6flPAY126wzycNIc5 GszyzHwFzM0Vacvug+h+aRGgJasiZRz9qVbcam4/1XJm/XjGJbXn38/v/rbbVJihnx5zoobOgxg 6dNy4kbraTcf0bnPzFloDeH9oA4TgiYRLwJzIWKcQWhkEfPSvO8Ke2Q4wa7g+ X-Gm-Gg: ASbGncsM3DxgETUSUt/7QkfAP5aWy6uLJXuPFX3FSlluBZ3+z/dVxM8lhwgaBS279a1 w35whLqAEpCaiLliSUfYkyW6TeRoDRva8EMjLMgbVqgqbIxs2IxVVraOkOuPT0PzOlijt3WrIl5 tf0UWoMWO+dJpZ9MvBzPo1Ou742PGuTFwVG/Fn3LwMiDs+K/oYwioZ7DEwyk0gX6bLCdTvv59B2 zDyVvREO2I62bhP1q4T+oF4nApabOD5GfnKJvURa7hlzWp0lQbQGHcy/LkcM5s+nHbAjD5Hd8Bv DWcb+2nSNG0VzGfeYc485IqEk5ePcGQTkyLwz+lgazvdEmGOjUSxkNkwx4PhHN0NDcDS/OGPyM/ liW5tTcY+ X-Google-Smtp-Source: AGHT+IEHJV9ppg+GLFdHUa/5RgMK45ASYH+/Q218OEWMPerTHSPEilwMnTZ4jcTzKB6UWwljRutf0aN/Kj7x X-Received: by 2002:a05:690e:4308:b0:640:e13b:acaa with SMTP id 956f58d0204a3-641e766376amr3777419d50.56.1763222572428; Sat, 15 Nov 2025 08:02:52 -0800 (PST) Received: from postal.iol.unh.edu (postal.iol.unh.edu. [2606:4100:3880:1234::84]) by smtp-relay.gmail.com with ESMTPS id 00721157ae682-78821fe84a6sm5058457b3.31.2025.11.15.08.02.52 (version=TLS1_2 cipher=ECDHE-ECDSA-AES128-GCM-SHA256 bits=128/128); Sat, 15 Nov 2025 08:02:52 -0800 (PST) X-Relaying-Domain: iol.unh.edu Date: Sat, 15 Nov 2025 08:02:52 -0800 (PST) Message-ID: <6918a42c.050a0220.12ebdc.9837SMTPIN_ADDED_MISSING@mx.google.com> Received: from [172.21.0.4] (unknown [172.18.0.240]) by postal.iol.unh.edu (Postfix) with ESMTP id DF5316051830; Sat, 15 Nov 2025 11:02:51 -0500 (EST) Subject: |SUCCESS| pw158821 [PATCH] net/mlx5: fix higher flow tag indexes sup From: dpdklab@iol.unh.edu To: Test Report Cc: dpdk-test-reports@iol.unh.edu In-Reply-To: <20251114201720.1639238-1-dsosnowski@nvidia.com> References: <20251114201720.1639238-1-dsosnowski@nvidia.com> Content-Type: text/plain X-BeenThere: test-report@dpdk.org X-Mailman-Version: 2.1.29 Precedence: list List-Id: automatic DPDK test reports List-Unsubscribe: , List-Archive: List-Post: List-Help: List-Subscribe: , Errors-To: test-report-bounces@dpdk.org Test-Label: iol-compile-amd64-testing Test-Status: SUCCESS http://dpdk.org/patch/158821 _Testing PASS_ Submitter: Dariusz Sosnowski Date: Friday, November 14 2025 20:17:20 DPDK git baseline: Repo:dpdk-next-net-mlx Branch: master CommitID:ae657d56b1f0ea979b3f611edf28d773efc2ddcf 158821 --> testing pass Upstream job id: Generic-DPDK-Compile-Meson#444842 Test environment and result as below: +-------------------------------+--------------------+-------------------+-------------------------+----------------------+------------------+ | Environment | dpdk_meson_compile | dpdk_msvc_compile | dpdk_llvm_clang_compile | dpdk_mingw64_compile | dpdk_compile_ovs | +===============================+====================+===================+=========================+======================+==================+ | Ubuntu 20.04 | PASS | SKIPPED | SKIPPED | SKIPPED | SKIPPED | +-------------------------------+--------------------+-------------------+-------------------------+----------------------+------------------+ | FreeBSD 14.2 | PASS | SKIPPED | SKIPPED | SKIPPED | SKIPPED | +-------------------------------+--------------------+-------------------+-------------------------+----------------------+------------------+ | CentOS Stream 9 | PASS | SKIPPED | SKIPPED | SKIPPED | SKIPPED | +-------------------------------+--------------------+-------------------+-------------------------+----------------------+------------------+ | CentOS Stream 10 | PASS | SKIPPED | SKIPPED | SKIPPED | SKIPPED | +-------------------------------+--------------------+-------------------+-------------------------+----------------------+------------------+ | Debian GNU/Linux 12 | PASS | SKIPPED | SKIPPED | SKIPPED | SKIPPED | +-------------------------------+--------------------+-------------------+-------------------------+----------------------+------------------+ | Fedora Linux 42 | PASS | SKIPPED | SKIPPED | SKIPPED | PASS | +-------------------------------+--------------------+-------------------+-------------------------+----------------------+------------------+ | openSUSE Leap 15.6 | PASS | SKIPPED | SKIPPED | SKIPPED | SKIPPED | +-------------------------------+--------------------+-------------------+-------------------------+----------------------+------------------+ | Red Hat Enterprise Linux 8.10 | PASS | SKIPPED | SKIPPED | SKIPPED | SKIPPED | +-------------------------------+--------------------+-------------------+-------------------------+----------------------+------------------+ | Red Hat Enterprise Linux 9.5 | PASS | SKIPPED | SKIPPED | SKIPPED | SKIPPED | +-------------------------------+--------------------+-------------------+-------------------------+----------------------+------------------+ | Ubuntu 22.04 | PASS | SKIPPED | SKIPPED | SKIPPED | SKIPPED | +-------------------------------+--------------------+-------------------+-------------------------+----------------------+------------------+ | Ubuntu 24.04 | PASS | SKIPPED | SKIPPED | SKIPPED | PASS | +-------------------------------+--------------------+-------------------+-------------------------+----------------------+------------------+ | Alpine Linux 3.22.0 | PASS | SKIPPED | SKIPPED | SKIPPED | SKIPPED | +-------------------------------+--------------------+-------------------+-------------------------+----------------------+------------------+ | Windows Server 2022 | SKIPPED | PASS | PASS | PASS | SKIPPED | +-------------------------------+--------------------+-------------------+-------------------------+----------------------+------------------+ Ubuntu 20.04 Kernel: 4.19 Compiler: gcc gcc (Ubuntu 9.4.0-1ubuntu1~20.04.2) 9.4.0 FreeBSD 14.2 Kernel: 14.2-RELEASE Compiler: clang 18.1.6 CentOS Stream 9 Kernel: 5.15 Compiler: gcc gcc (GCC) 11.5.0 20240719 (Red Hat 11.5.0-11) CentOS Stream 10 Kernel: 5.15 Compiler: gcc gcc (GCC) 14.2.1 20250110 (Red Hat 14.2.1-8) Debian GNU/Linux 12 Kernel: 5.15 Compiler: gcc gcc (Debian 12.2.0-14+deb12u1) 12.2.0 Fedora Linux 42 Kernel: 5.15 Compiler: clang gcc (GCC) 15.2.1 20250808 (Red Hat 15.2.1-1) openSUSE Leap 15.6 Kernel: 5.15 Compiler: gcc gcc (SUSE Linux) 7.5.0 Red Hat Enterprise Linux 8.10 Kernel: 5.15 Compiler: gcc gcc (GCC) 8.5.0 20210514 (Red Hat 8.5.0-22) Red Hat Enterprise Linux 9.5 Kernel: 5.15 Compiler: gcc gcc (GCC) 11.5.0 20240719 (Red Hat 11.5.0-2) Ubuntu 22.04 Kernel: 5.15 Compiler: gcc gcc (Ubuntu 11.4.0-1ubuntu1~22.04) 11.4.0 Ubuntu 24.04 Kernel: 5.15 Compiler: gcc gcc (Ubuntu 13.3.0-6ubuntu2~24.04) 13.3.0 Alpine Linux 3.22.0 Kernel: 5.15 Compiler: gcc gcc (Alpine 14.2.0) 14.2.0 Windows Server 2022 Kernel: 10.0.20348.2031 Compiler: clang 15.0.7, gcc 14.1.0 (MinGW), and MSVC VS 19.39.33521 To view detailed results, visit: https://lab.dpdk.org/results/dashboard/patchsets/34603/ UNH-IOL DPDK Community Lab To manage your email subscriptions, visit: https://lab.dpdk.org/results/dashboard/preferences/subscriptions/