From mboxrd@z Thu Jan 1 00:00:00 1970 Return-Path: Received: from mails.dpdk.org (mails.dpdk.org [217.70.189.124]) by inbox.dpdk.org (Postfix) with ESMTP id 67E1848B1B for ; Sat, 15 Nov 2025 17:07:59 +0100 (CET) Received: from mails.dpdk.org (localhost [127.0.0.1]) by mails.dpdk.org (Postfix) with ESMTP id 4B476402CD; Sat, 15 Nov 2025 17:07:59 +0100 (CET) Received: from mail-io1-f99.google.com (mail-io1-f99.google.com [209.85.166.99]) by mails.dpdk.org (Postfix) with ESMTP id 29529402CD for ; Sat, 15 Nov 2025 17:07:58 +0100 (CET) Received: by mail-io1-f99.google.com with SMTP id ca18e2360f4ac-948c66f367cso196125839f.2 for ; Sat, 15 Nov 2025 08:07:58 -0800 (PST) DKIM-Signature: v=1; a=rsa-sha256; c=relaxed/relaxed; d=iol.unh.edu; s=unh-iol; t=1763222877; x=1763827677; darn=dpdk.org; h=cc:to:from:subject:message-id:date:from:to:cc:subject:date :message-id:reply-to; bh=f6m9+7AnDsu0JSltCvoqZsFUwVcKSnaYTkkx3pbk1AY=; b=jSC0qOchvkURWJUS+4it1pPSzVQBPl6/ZlfkTuKve4g+SUwNY0T/y2LCHbYd54P74T JjiocEpY3Hm0sL8cHZq6aibB20OiM477IXjy6JFJcsWwhgkXj+T0GGyIR0L9/bC+r1M7 dfuQbcIx2ll06BNiqSTJ6TPn/cAO4hY33qKH4= X-Google-DKIM-Signature: v=1; a=rsa-sha256; c=relaxed/relaxed; d=1e100.net; s=20230601; t=1763222877; x=1763827677; h=cc:to:from:subject:message-id:date:x-gm-gg:x-gm-message-state:from :to:cc:subject:date:message-id:reply-to; bh=f6m9+7AnDsu0JSltCvoqZsFUwVcKSnaYTkkx3pbk1AY=; b=vMDCJy8l0Vc7+5Ui7VcVCtRmZSm5i2Ln+RP2LJHs5vGjG+RgboJp8ZiTBRXApuGYFC Dj7rOijgAbimgg+sCmsKdGFAXsX8F8r76OVrue4KwPRp14FaHVc8itHf/G52p9YTQzHo ZiBB59/FMOORBMROodKvCRdHHwikwtbzqxWQhcefBuaNaLvPm0lwH1qpBpgn3uYhAAS1 IBGCeZUPEA8sB0Z5yEm7/XyXql6IgmzAdODYiY6HRbqamnJ4ccW3IkcpAqgT+Nt7dZrJ h+4lVBiOXShdNXwJJ0yRqgoDkswK3Kdd/gZEy1k31JUEkwYXaupgPbHnmxm8IiCbp61K JKjg== X-Gm-Message-State: AOJu0Yw5KMANRJV7WX50O6aJjryQaaW32vKzMWCJWeTfC0p+lTbaJewn 7JE4JlShJHVwLVGbrpEMhY+YROLKARMYEnQMj2kpCl/rrw3WZtQA5ceROhKZMzHqIlPcRki7Vwn eVW2a5/KgSN1IrL7QJSag4J6bNmHJXmvbHezhIE8TJDm7dYC8Rb6x X-Gm-Gg: ASbGncsinM8lBLrRL/0+bhVzZ3EwZUNOupWr69GhmzS97NtayOr38HzbSKqnVDCGZSx Hjbyw0YlsukG+8wdrdQVNkMUKc0+lvHt0AUAh2a/of7exRyvVbCzWpBthysPtbtD5u340YNOPev v36HrGzrrVzEnrcuMFI8peUyNdpKD56WCF3kgnqXiPPg4G5m9E7srlidQrSsu03dX/rsm7MuhGH ve06gN3IZAaSGTZzDfIVBSz7/pFrSpHusevLBsa11DJ7/p+M/k7pqadRdXQenKG3EUC+L66z24f WNEZiAzv2yRWwBWdns/fOnsknOIDeVzBawMQ5IVyS6m0fBvriPlc5xDRBPTtVuO0SgyifaWJyyq nZPdrp8aK X-Google-Smtp-Source: AGHT+IFmfeKDlibedPxNuTn8yrCZqXVv8eIPoTMRulxJwelwiHnvl6+KtkDRDYdLUUqfaf3l5rELVj0BY33M X-Received: by 2002:a02:ac16:0:b0:57b:66fe:15ef with SMTP id 8926c6da1cb9f-5b7c9e0370cmr2562606173.19.1763222877397; Sat, 15 Nov 2025 08:07:57 -0800 (PST) Received: from postal.iol.unh.edu (postal.iol.unh.edu. [2606:4100:3880:1234::84]) by smtp-relay.gmail.com with ESMTPS id 8926c6da1cb9f-5b7bd2674f5sm455666173.14.2025.11.15.08.07.57 (version=TLS1_2 cipher=ECDHE-ECDSA-AES128-GCM-SHA256 bits=128/128); Sat, 15 Nov 2025 08:07:57 -0800 (PST) X-Relaying-Domain: iol.unh.edu Date: Sat, 15 Nov 2025 08:07:57 -0800 (PST) Message-ID: <6918a55d.050a0220.267eb6.5af0SMTPIN_ADDED_MISSING@mx.google.com> Received: from [172.21.0.2] (unknown [172.18.0.240]) by postal.iol.unh.edu (Postfix) with ESMTP id E439B6051830; Sat, 15 Nov 2025 11:07:56 -0500 (EST) Subject: |SUCCESS| [GIT MASTER] 0bd935abcb823f581ce53986986aa54eaf6f8140 From: dpdklab@iol.unh.edu To: Test Report Cc: dpdk-test-reports@iol.unh.edu, Xueming Li , Christian Ehrhardt , Kevin Traynor , Luca Boccassi Content-Type: text/plain X-BeenThere: test-report@dpdk.org X-Mailman-Version: 2.1.29 Precedence: list List-Id: automatic DPDK test reports List-Unsubscribe: , List-Archive: List-Post: List-Help: List-Subscribe: , Errors-To: test-report-bounces@dpdk.org _Testing PASS_ Branch: tags/v24.11 0bd935abcb823f581ce53986986aa54eaf6f8140 --> testing pass Upstream job id: Generic-DPDK-Compile-Meson#444828 Test environment and result as below: +-------------------------------+--------------------+-------------------+-------------------------+----------------------+------------------+ | Environment | dpdk_meson_compile | dpdk_msvc_compile | dpdk_llvm_clang_compile | dpdk_mingw64_compile | dpdk_compile_ovs | +===============================+====================+===================+=========================+======================+==================+ | Ubuntu 20.04 | PASS | SKIPPED | SKIPPED | SKIPPED | SKIPPED | +-------------------------------+--------------------+-------------------+-------------------------+----------------------+------------------+ | FreeBSD 14.2 | PASS | SKIPPED | SKIPPED | SKIPPED | SKIPPED | +-------------------------------+--------------------+-------------------+-------------------------+----------------------+------------------+ | CentOS Stream 9 | PASS | SKIPPED | SKIPPED | SKIPPED | SKIPPED | +-------------------------------+--------------------+-------------------+-------------------------+----------------------+------------------+ | CentOS Stream 10 | PASS | SKIPPED | SKIPPED | SKIPPED | SKIPPED | +-------------------------------+--------------------+-------------------+-------------------------+----------------------+------------------+ | Debian GNU/Linux 12 | PASS | SKIPPED | SKIPPED | SKIPPED | SKIPPED | +-------------------------------+--------------------+-------------------+-------------------------+----------------------+------------------+ | Fedora Linux 42 | PASS | SKIPPED | SKIPPED | SKIPPED | PASS | +-------------------------------+--------------------+-------------------+-------------------------+----------------------+------------------+ | openSUSE Leap 15.6 | PASS | SKIPPED | SKIPPED | SKIPPED | SKIPPED | +-------------------------------+--------------------+-------------------+-------------------------+----------------------+------------------+ | Red Hat Enterprise Linux 8.10 | PASS | SKIPPED | SKIPPED | SKIPPED | SKIPPED | +-------------------------------+--------------------+-------------------+-------------------------+----------------------+------------------+ | Red Hat Enterprise Linux 9.5 | PASS | SKIPPED | SKIPPED | SKIPPED | SKIPPED | +-------------------------------+--------------------+-------------------+-------------------------+----------------------+------------------+ | Ubuntu 22.04 | PASS | SKIPPED | SKIPPED | SKIPPED | SKIPPED | +-------------------------------+--------------------+-------------------+-------------------------+----------------------+------------------+ | Ubuntu 24.04 | PASS | SKIPPED | SKIPPED | SKIPPED | PASS | +-------------------------------+--------------------+-------------------+-------------------------+----------------------+------------------+ | Alpine Linux 3.22.0 | PASS | SKIPPED | SKIPPED | SKIPPED | SKIPPED | +-------------------------------+--------------------+-------------------+-------------------------+----------------------+------------------+ | Windows Server 2022 | SKIPPED | PASS | PASS | PASS | SKIPPED | +-------------------------------+--------------------+-------------------+-------------------------+----------------------+------------------+ Ubuntu 20.04 Kernel: 4.19 Compiler: gcc gcc (Ubuntu 9.4.0-1ubuntu1~20.04.2) 9.4.0 FreeBSD 14.2 Kernel: 14.2-RELEASE Compiler: clang 18.1.6 CentOS Stream 9 Kernel: 5.15 Compiler: gcc gcc (GCC) 11.5.0 20240719 (Red Hat 11.5.0-11) CentOS Stream 10 Kernel: 5.15 Compiler: gcc gcc (GCC) 14.2.1 20250110 (Red Hat 14.2.1-8) Debian GNU/Linux 12 Kernel: 5.15 Compiler: gcc gcc (Debian 12.2.0-14+deb12u1) 12.2.0 Fedora Linux 42 Kernel: 5.15 Compiler: clang gcc (GCC) 15.2.1 20250808 (Red Hat 15.2.1-1) openSUSE Leap 15.6 Kernel: 5.15 Compiler: gcc gcc (SUSE Linux) 7.5.0 Red Hat Enterprise Linux 8.10 Kernel: 5.15 Compiler: gcc gcc (GCC) 8.5.0 20210514 (Red Hat 8.5.0-22) Red Hat Enterprise Linux 9.5 Kernel: 5.15 Compiler: gcc gcc (GCC) 11.5.0 20240719 (Red Hat 11.5.0-2) Ubuntu 22.04 Kernel: 5.15 Compiler: gcc gcc (Ubuntu 11.4.0-1ubuntu1~22.04) 11.4.0 Ubuntu 24.04 Kernel: 5.15 Compiler: gcc gcc (Ubuntu 13.3.0-6ubuntu2~24.04) 13.3.0 Alpine Linux 3.22.0 Kernel: 5.15 Compiler: gcc gcc (Alpine 14.2.0) 14.2.0 Windows Server 2022 Kernel: 10.0.20348.2031 Compiler: clang 15.0.7, gcc 14.1.0 (MinGW), and MSVC VS 19.39.33521 To view detailed results, visit: https://lab.dpdk.org/results/dashboard/tarballs/35608/ UNH-IOL DPDK Community Lab To manage your email subscriptions, visit: https://lab.dpdk.org/results/dashboard/preferences/subscriptions/