From mboxrd@z Thu Jan 1 00:00:00 1970 Return-Path: Received: from mails.dpdk.org (mails.dpdk.org [217.70.189.124]) by inbox.dpdk.org (Postfix) with ESMTP id 9609E48B1C for ; Sat, 15 Nov 2025 18:26:30 +0100 (CET) Received: from mails.dpdk.org (localhost [127.0.0.1]) by mails.dpdk.org (Postfix) with ESMTP id 6CF7A402A2; Sat, 15 Nov 2025 18:26:30 +0100 (CET) Received: from mail-yx1-f97.google.com (mail-yx1-f97.google.com [74.125.224.97]) by mails.dpdk.org (Postfix) with ESMTP id A3213402A2 for ; Sat, 15 Nov 2025 18:26:29 +0100 (CET) Received: by mail-yx1-f97.google.com with SMTP id 956f58d0204a3-63f996d4e1aso2640032d50.0 for ; Sat, 15 Nov 2025 09:26:29 -0800 (PST) DKIM-Signature: v=1; a=rsa-sha256; c=relaxed/relaxed; d=iol.unh.edu; s=unh-iol; t=1763227589; x=1763832389; darn=dpdk.org; h=references:in-reply-to:cc:to:from:subject:message-id:date:from:to :cc:subject:date:message-id:reply-to; bh=4gi265vIgd2l7YmxujG56jCrAq1B8B0/2gMPa8bVTxk=; b=Q8g5UqWalTW703ZDdGalqBUC5tO6c7C+Os5PNRzdDBuKWJCxMrzGmxLC6kLS/+uxUJ UKY5DCg4KWpwNQmarn1oAHClxKLOjH1OPxbVWoJrgd5l8BK6jWogFmUBUIvgtmat/Idg WBgKDz6kTBVpoSgN8ZvNXVs2uaSFdXJKLG7v8= X-Google-DKIM-Signature: v=1; a=rsa-sha256; c=relaxed/relaxed; d=1e100.net; s=20230601; t=1763227589; x=1763832389; h=references:in-reply-to:cc:to:from:subject:message-id:date:x-gm-gg :x-gm-message-state:from:to:cc:subject:date:message-id:reply-to; bh=4gi265vIgd2l7YmxujG56jCrAq1B8B0/2gMPa8bVTxk=; b=kh1Os93fe9zIDhIvtNWgc5kujRj6nMwOPaCmttDHlaz2aFnTil899Lr7O2nx8fU/V0 8okq/7TlGmduwxN2T4zyA5ghTfoXxrHTwL54GFuiJF+JArrXcMOyLWLOgpkPOEQY8qk7 zKZr+Yq4+LIwyoIVjcWdoSgAymH4BU+scPCI0yEZsdUQdBU/sGCYJZnICa2+Srrj6kXH t2+PSxTMnIGytgXfOdYSi6ejAX0gIV6A1idI9v3/ZQinIloIV/s4DvH1xMyY/bfi95HP ncDfqYOnscmpqFLpfwD5GmiGz2R+l93X5LFPPPuTKwyOgWTP2gI268oQg3imAkgDUkXF 7xfQ== X-Gm-Message-State: AOJu0Yw7OmZqOWxcVfWYQMndkL8LMGcL3iRBGjDRZtsDSlYtBXuO2eGn eTYVoGc2ulmB9LYlQeNTihpmhb/T/fkCSarw+lziDVB+SUcsWA5mE9dBFrwl5DvlUmVVAOnGQLU 9O7jzBkKZriSPE7xu1luQeR66MqZzv2okvDnNDwk9ckWseZD+Rm00DbsNXel4 X-Gm-Gg: ASbGncujP6w5nqIrpknjtFqmQPrd86oJnCVaGqSI248dOBRVsKhfOgPrkZhcdnKV7n4 e1dLvOLiodteC6rOhDhhUuneFK2Y/UqKNPm/kxkwzaLhNTD/Wi98cuuONFKLFQeJKjq2d4pHHSL qNQgIrq34pmrp7BjVn9F58To7jjaOuFHAEwsdmwlVdPSnS1R9ExaYLeVB0J84tpm2X7H3p+ZinP hkqXGqidimfuumI9qrPwO7mw1ROkOWN5tRWzM9ewU0IJ4z71IAQEVH4iPdcCcmhEBYak+v8iH8I N9xsqfrihNgN8//BSRgiDlfCDOI1yW+7Ri8ZUTnQX/HcEtYufbm5B/fo35Y/pyTkCyYHJ8naZKm 1lBdK9XVN X-Google-Smtp-Source: AGHT+IF/F4Ql/xP6XKl96teQfW6xo7hMXnofKEgIGFdT4XMvV1Z6nfsr11pEYbZMlhum8KsNyMbWcrmW5h6w X-Received: by 2002:a05:690e:d51:b0:63f:a488:ba46 with SMTP id 956f58d0204a3-641e769cdd8mr5865354d50.32.1763227588857; Sat, 15 Nov 2025 09:26:28 -0800 (PST) Received: from postal.iol.unh.edu (postal.iol.unh.edu. [2606:4100:3880:1234::84]) by smtp-relay.gmail.com with ESMTPS id 00721157ae682-78945df637csm391927b3.11.2025.11.15.09.26.28 (version=TLS1_2 cipher=ECDHE-ECDSA-AES128-GCM-SHA256 bits=128/128); Sat, 15 Nov 2025 09:26:28 -0800 (PST) X-Relaying-Domain: iol.unh.edu Date: Sat, 15 Nov 2025 09:26:28 -0800 (PST) Message-ID: <6918b7c4.050a0220.2fa68a.1fcaSMTPIN_ADDED_MISSING@mx.google.com> Received: from [172.21.0.3] (unknown [172.18.0.240]) by postal.iol.unh.edu (Postfix) with ESMTP id 7926D6051830; Sat, 15 Nov 2025 12:26:28 -0500 (EST) Subject: |SUCCESS| pw158813 [PATCH] [v2] net/mlx5: fix warning from uninitial From: dpdklab@iol.unh.edu To: Test Report Cc: dpdk-test-reports@iol.unh.edu In-Reply-To: <20251114174912.1103626-1-stephen@networkplumber.org> References: <20251114174912.1103626-1-stephen@networkplumber.org> Content-Type: text/plain X-BeenThere: test-report@dpdk.org X-Mailman-Version: 2.1.29 Precedence: list List-Id: automatic DPDK test reports List-Unsubscribe: , List-Archive: List-Post: List-Help: List-Subscribe: , Errors-To: test-report-bounces@dpdk.org Test-Label: iol-compile-arm64-testing Test-Status: SUCCESS http://dpdk.org/patch/158813 _Testing PASS_ Submitter: Stephen Hemminger Date: Friday, November 14 2025 17:49:12 DPDK git baseline: Repo:dpdk-next-net-mlx Branch: master CommitID:ae657d56b1f0ea979b3f611edf28d773efc2ddcf 158813 --> testing pass Upstream job id: Generic-DPDK-Compile-Meson#444646 Test environment and result as below: +------------------------------+--------------------+ | Environment | dpdk_meson_compile | +==============================+====================+ | Fedora Linux 42 | PASS | +------------------------------+--------------------+ | Ubuntu 20.04 | PASS | +------------------------------+--------------------+ | Red Hat Enterprise Linux 9.5 | PASS | +------------------------------+--------------------+ | Ubuntu 24.04 | PASS | +------------------------------+--------------------+ | Debian GNU/Linux 12 | PASS | +------------------------------+--------------------+ | Ubuntu 22.04 | PASS | +------------------------------+--------------------+ | CentOS Stream 9 | PASS | +------------------------------+--------------------+ | CentOS Stream 10 | PASS | +------------------------------+--------------------+ Fedora Linux 42 Kernel: 5.4 Compiler: clang gcc (GCC) 15.2.1 20250808 (Red Hat 15.2.1-1) Ubuntu 20.04 Kernel: 5.15 Compiler: aarch64-linux-gnu-gcc gcc (Ubuntu 9.4.0-1ubuntu1~20.04.2) 9.4.0 Red Hat Enterprise Linux 9.5 Kernel: 5.4 Compiler: gcc gcc (GCC) 11.5.0 20240719 (Red Hat 11.5.0-2) Ubuntu 24.04 Kernel: 5.4 Compiler: gcc gcc (Ubuntu 13.3.0-6ubuntu2~24.04) 13.3.0 Debian GNU/Linux 12 Kernel: 5.4 Compiler: gcc gcc (Debian 12.2.0-14+deb12u1) 12.2.0 Ubuntu 22.04 Kernel: 5.4 Compiler: gcc gcc (Ubuntu 11.4.0-1ubuntu1~22.04) 11.4.0 CentOS Stream 9 Kernel: 5.4 Compiler: gcc gcc (GCC) 11.5.0 20240719 (Red Hat 11.5.0-11) CentOS Stream 10 Kernel: 5.4 Compiler: gcc gcc (GCC) 14.2.1 20250110 (Red Hat 14.2.1-8) To view detailed results, visit: https://lab.dpdk.org/results/dashboard/patchsets/34595/ UNH-IOL DPDK Community Lab To manage your email subscriptions, visit: https://lab.dpdk.org/results/dashboard/preferences/subscriptions/