From mboxrd@z Thu Jan 1 00:00:00 1970 Return-Path: Received: from mails.dpdk.org (mails.dpdk.org [217.70.189.124]) by inbox.dpdk.org (Postfix) with ESMTP id F1D6D48B1C for ; Sat, 15 Nov 2025 18:53:16 +0100 (CET) Received: from mails.dpdk.org (localhost [127.0.0.1]) by mails.dpdk.org (Postfix) with ESMTP id D701A402A2; Sat, 15 Nov 2025 18:53:16 +0100 (CET) Received: from mail-yw1-f226.google.com (mail-yw1-f226.google.com [209.85.128.226]) by mails.dpdk.org (Postfix) with ESMTP id DCA2D402A2 for ; Sat, 15 Nov 2025 18:53:15 +0100 (CET) Received: by mail-yw1-f226.google.com with SMTP id 00721157ae682-7881b67dc3aso49582777b3.1 for ; Sat, 15 Nov 2025 09:53:15 -0800 (PST) DKIM-Signature: v=1; a=rsa-sha256; c=relaxed/relaxed; d=iol.unh.edu; s=unh-iol; t=1763229195; x=1763833995; darn=dpdk.org; h=references:in-reply-to:cc:to:from:subject:message-id:date:from:to :cc:subject:date:message-id:reply-to; bh=xaCN7cBRTP5HZPna7e+rAPow7F++NoNF6KLlwJqTNDw=; b=YJsmq5mUq+KPT6Jc9/NWJNOsCWKZQZ5LBuLo6rNeBZuixVpKmjj9FGdIZIDh8YVRV5 gJy8ZqeahtN8WO+oJj6LY6lnSfvb5lAVrc5c14GaElVp31LbdWPaqGjDgRdhndFqNYOo fawn9CU7pdDP5Ymf4ILLH5SAw6/yOROKF/a5M= X-Google-DKIM-Signature: v=1; a=rsa-sha256; c=relaxed/relaxed; d=1e100.net; s=20230601; t=1763229195; x=1763833995; h=references:in-reply-to:cc:to:from:subject:message-id:date:x-gm-gg :x-gm-message-state:from:to:cc:subject:date:message-id:reply-to; bh=xaCN7cBRTP5HZPna7e+rAPow7F++NoNF6KLlwJqTNDw=; b=T355gT5/xBnJ6nDbwHtbpWy+p6FZynMV/t8G6ksSwFPR6F8BYVc/Vhdnbt4WLxRHY+ j4Xcguho3ja5dnOz8yiIhpLedH2JBWRfG2lkF/uYzmP+qWhNc7zx0VmUoo3hyp+F29Qc VNRH42GITVFjcKkhhoJIPTypIr3VClcfKjTkWniXp79xx/2EHfYenKUCtGuehUb8Z1sf eXIrJOR3sALEN9/OH3R+SEwFIKnVHJohyoqir190MP6tYtxJaeULGZQWyHpBppEcScPM clfJyJtTvh7IvX9N2nNqgZpqkDQ5N6ko9dD9d0jtLcTHsAbzKB/wrWICZ7MbxRFKT4na N2mg== X-Gm-Message-State: AOJu0YzUaXzNg/f5eg+XiRAgRhtAo6C5k+lyC9ULIHF5xfbVlbn2KMFR 3TAe64v2pcBZtss2TW604G5KQTSV+IMgU/X3BA3g3PaQwuF7IpjNY7LoBqbT02VrR0D88vr34tt 10JWUFLCuZoBvdghue3DIEzz75E3Qu8s5iSokXXXj06J6jCwQSW/WtgYdpIbq X-Gm-Gg: ASbGnctY3p7fcjilR85ZxvLmh7SH/4amZqlD6paFRWNbRhtpQFjd6bk29Ecr8Ol5s/y Q0wYM+y8IUaDws0f5JzwAksEz+vWUkwyUiYxzX2L4laepFVHEByceVJyGOnX/LAnJ3lsal91rVh b0haQwqrK3/odeZjtt6K+VjmhvdSzMU4sXfsDZ0t8ZUXG3z5eTohxN62uu81KwRPyRChl96jK/F IeTeaLmMzlD91iuaUG50BkQu68U69PaF2/UPFizjFdeuju0+xmxy5oR1Soys7T67AI5E2Q93K6I drfrkTd751808vGVa0X4Ysmzq42iVbF2/vUDvUXyhDyK3jFJHjNOxoYFs29nlBL88kgU5AD8El7 28i3uLk3G X-Google-Smtp-Source: AGHT+IEr3ZGsRxoJfn1rDUjpIcTLCTeEkkhY7TCqjSc9i2Yjs93UPR26w88vTiC12N5PJA+WjXcEMxY2n1hD X-Received: by 2002:a05:690c:14b:b0:788:1258:2042 with SMTP id 00721157ae682-788206bdc29mr72484107b3.26.1763229195165; Sat, 15 Nov 2025 09:53:15 -0800 (PST) Received: from postal.iol.unh.edu (postal.iol.unh.edu. [2606:4100:3880:1234::84]) by smtp-relay.gmail.com with ESMTPS id 00721157ae682-78821fb7c6esm4269507b3.25.2025.11.15.09.53.15 (version=TLS1_2 cipher=ECDHE-ECDSA-AES128-GCM-SHA256 bits=128/128); Sat, 15 Nov 2025 09:53:15 -0800 (PST) X-Relaying-Domain: iol.unh.edu Date: Sat, 15 Nov 2025 09:53:15 -0800 (PST) Message-ID: <6918be0b.0d0a0220.2681d8.4e30SMTPIN_ADDED_MISSING@mx.google.com> Received: from [172.21.0.5] (unknown [172.18.0.240]) by postal.iol.unh.edu (Postfix) with ESMTP id CEAA260003F4; Sat, 15 Nov 2025 12:53:14 -0500 (EST) Subject: |SUCCESS| pw158815 [PATCH] net/qede: remove unused file From: dpdklab@iol.unh.edu To: Test Report Cc: dpdk-test-reports@iol.unh.edu In-Reply-To: <20251114180251.1233757-1-stephen@networkplumber.org> References: <20251114180251.1233757-1-stephen@networkplumber.org> Content-Type: text/plain X-BeenThere: test-report@dpdk.org X-Mailman-Version: 2.1.29 Precedence: list List-Id: automatic DPDK test reports List-Unsubscribe: , List-Archive: List-Post: List-Help: List-Subscribe: , Errors-To: test-report-bounces@dpdk.org Test-Label: iol-compile-arm64-testing Test-Status: SUCCESS http://dpdk.org/patch/158815 _Testing PASS_ Submitter: Stephen Hemminger Date: Friday, November 14 2025 18:02:51 DPDK git baseline: Repo:dpdk-next-net-mrvl Branch: master CommitID:db4c93a4c6e088346c7e6d7e744178295b568461 158815 --> testing pass Upstream job id: Generic-DPDK-Compile-Meson#444676 Test environment and result as below: +------------------------------+--------------------+ | Environment | dpdk_meson_compile | +==============================+====================+ | Ubuntu 20.04 | PASS | +------------------------------+--------------------+ | Red Hat Enterprise Linux 9.5 | PASS | +------------------------------+--------------------+ | Debian GNU/Linux 12 | PASS | +------------------------------+--------------------+ | Fedora Linux 42 | PASS | +------------------------------+--------------------+ | Ubuntu 22.04 | PASS | +------------------------------+--------------------+ | CentOS Stream 9 | PASS | +------------------------------+--------------------+ | Ubuntu 24.04 | PASS | +------------------------------+--------------------+ | CentOS Stream 10 | PASS | +------------------------------+--------------------+ Ubuntu 20.04 Kernel: 5.15 Compiler: aarch64-linux-gnu-gcc gcc (Ubuntu 9.4.0-1ubuntu1~20.04.2) 9.4.0 Red Hat Enterprise Linux 9.5 Kernel: 5.4 Compiler: gcc gcc (GCC) 11.5.0 20240719 (Red Hat 11.5.0-2) Debian GNU/Linux 12 Kernel: 5.4 Compiler: gcc gcc (Debian 12.2.0-14+deb12u1) 12.2.0 Fedora Linux 42 Kernel: 5.4 Compiler: gcc gcc (GCC) 15.2.1 20250808 (Red Hat 15.2.1-1) Ubuntu 22.04 Kernel: 5.4 Compiler: gcc gcc (Ubuntu 11.4.0-1ubuntu1~22.04) 11.4.0 CentOS Stream 9 Kernel: 5.4 Compiler: gcc gcc (GCC) 11.5.0 20240719 (Red Hat 11.5.0-11) Ubuntu 24.04 Kernel: 5.4 Compiler: gcc gcc (Ubuntu 13.3.0-6ubuntu2~24.04) 13.3.0 CentOS Stream 10 Kernel: 5.4 Compiler: gcc gcc (GCC) 14.2.1 20250110 (Red Hat 14.2.1-8) To view detailed results, visit: https://lab.dpdk.org/results/dashboard/patchsets/34597/ UNH-IOL DPDK Community Lab To manage your email subscriptions, visit: https://lab.dpdk.org/results/dashboard/preferences/subscriptions/