From mboxrd@z Thu Jan 1 00:00:00 1970 Return-Path: Received: from mails.dpdk.org (mails.dpdk.org [217.70.189.124]) by inbox.dpdk.org (Postfix) with ESMTP id E6C3A48B1C for ; Sat, 15 Nov 2025 19:49:46 +0100 (CET) Received: from mails.dpdk.org (localhost [127.0.0.1]) by mails.dpdk.org (Postfix) with ESMTP id C42AC402A2; Sat, 15 Nov 2025 19:49:46 +0100 (CET) Received: from mail-qv1-f98.google.com (mail-qv1-f98.google.com [209.85.219.98]) by mails.dpdk.org (Postfix) with ESMTP id 155F8402A2 for ; Sat, 15 Nov 2025 19:49:46 +0100 (CET) Received: by mail-qv1-f98.google.com with SMTP id 6a1803df08f44-880576ebe38so32077876d6.2 for ; Sat, 15 Nov 2025 10:49:46 -0800 (PST) DKIM-Signature: v=1; a=rsa-sha256; c=relaxed/relaxed; d=iol.unh.edu; s=unh-iol; t=1763232585; x=1763837385; darn=dpdk.org; h=references:in-reply-to:cc:to:from:subject:message-id:date:from:to :cc:subject:date:message-id:reply-to; bh=DCBQKykMAy/aBOQpFvH8f1nLipRNbXcRX5Tv6VUjLJ4=; b=CUPKyPaisORBcCmJVYEDRqUgom/i8rBW83UtRJJXZgpK/yeOd6L+COifv6yM6Q4/iw zDw9hu5ORFk0EYmjxAYUznc5L1B2jBrFfysedgDdKaEncL6jDpEvC1OqvI4Vr0o6HE+9 L/sN0/8NbAfkKHKZLp7qp8ruNxZtsQfjXY6VU= X-Google-DKIM-Signature: v=1; a=rsa-sha256; c=relaxed/relaxed; d=1e100.net; s=20230601; t=1763232585; x=1763837385; h=references:in-reply-to:cc:to:from:subject:message-id:date:x-gm-gg :x-gm-message-state:from:to:cc:subject:date:message-id:reply-to; bh=DCBQKykMAy/aBOQpFvH8f1nLipRNbXcRX5Tv6VUjLJ4=; b=d9UyDXbwaaNy79J6TWLBUMTgvWjVOx8c9FF5wtoXQtFJsKTuuLWagaGXViUBInyfet 9pH4jWpFuwiC/O6gxlEq+kuTe++eh+cH7jqXzJkbA3lZ7rpBNNaHr7LHXVYKp7hD8oQj f9ddmA54ht8kG5qBMXCRcx4Nh0vBxIgMcGNF3Mtlct9tjh4FOJNZDE5VkGdfJVtfFx3J e6+1h+F3sp7oXeGc+JgickjwkXTfVaTIem5zFX8UaZPa0Cp64J0jhv5ppA/HW+iUKvcQ mEP+PuJBFau9gyhXqy6XMYNHzDi6l/tkmTmd4ib+qngDmfSN+aboQQzraleNHEGu6rOa TZ4w== X-Gm-Message-State: AOJu0YyzDIgpSpqOlBah53r1RH5bmxnRDlNTNTYPsFA5kIVwiB+6MDgQ CRQ/hgXlJUUhKIEzoaFF1qeAK9VBYTlDOmpbyql/Ycd8E843CjKXC5bNMFGLyBb7aP9QxanIa2S 22op9JstUD6bVxig68+iV+7C/TaN5uyHLw3B6XBSUpL1f X-Gm-Gg: ASbGncvIA1mRRGIG5j/w2i4oBBLfMBvqOehj+iMd0egWLS0HKSGp3pQUcAcB/3vrYUc NBlSRB9wctFu+kFmZdWyTpexOLgczTuC1+fSepD/gmMOtZGLMqNv6hM8dz/IZlHUEs+imLj4sYu +u4VvkBvm6LSvZUNrRTHDdMgFQS5gNHiqBPusHRbtFD2k6SH1HJHerH5DVeVpAyeWoiAyTc0JEl evkk2NUevHW/j1v7iu5O+puNCjUZkMKl4uRsUVR5psgYDT0MojiTkeGpEihy4o8cbt/08HRTr+u 6NIVJp2IjMSzvPTzyg5QcUX3+HxHG5QWA0wCjqaz/d2sHZ+W7kMwsFm4YbG1VdPDLJqv6jSNX6R vDNIBZ6oGfjpXcHHDNc7n3PgFDbB571s= X-Google-Smtp-Source: AGHT+IF9gdi4EXb0WWg74+bRni6+UYZPZwr5JfnxZvIaOcC+DTvpkyFHsgMj4ZZMO95gEolbq2aAsugY8/uA X-Received: by 2002:a05:6214:250e:b0:880:6719:db40 with SMTP id 6a1803df08f44-882926e6729mr89396476d6.64.1763232585258; Sat, 15 Nov 2025 10:49:45 -0800 (PST) Received: from postal.iol.unh.edu (postal.iol.unh.edu. [132.177.123.84]) by smtp-relay.gmail.com with ESMTPS id 6a1803df08f44-8828656bc18sm9845036d6.23.2025.11.15.10.49.45 (version=TLS1_2 cipher=ECDHE-ECDSA-AES128-GCM-SHA256 bits=128/128); Sat, 15 Nov 2025 10:49:45 -0800 (PST) X-Relaying-Domain: iol.unh.edu Date: Sat, 15 Nov 2025 10:49:45 -0800 (PST) Message-ID: <6918cb49.050a0220.237ff6.0309SMTPIN_ADDED_MISSING@mx.google.com> Received: from [172.21.0.2] (unknown [172.18.0.240]) by postal.iol.unh.edu (Postfix) with ESMTP id E9A536051830; Sat, 15 Nov 2025 13:49:44 -0500 (EST) Subject: |SUCCESS| pw158819 [PATCH] net/mlx5: improve error on completing tab From: dpdklab@iol.unh.edu To: Test Report Cc: dpdk-test-reports@iol.unh.edu In-Reply-To: <20251114192712.1637369-1-dsosnowski@nvidia.com> References: <20251114192712.1637369-1-dsosnowski@nvidia.com> Content-Type: text/plain X-BeenThere: test-report@dpdk.org X-Mailman-Version: 2.1.29 Precedence: list List-Id: automatic DPDK test reports List-Unsubscribe: , List-Archive: List-Post: List-Help: List-Subscribe: , Errors-To: test-report-bounces@dpdk.org Test-Label: iol-compile-arm64-testing Test-Status: SUCCESS http://dpdk.org/patch/158819 _Testing PASS_ Submitter: Dariusz Sosnowski Date: Friday, November 14 2025 19:27:12 DPDK git baseline: Repo:dpdk-next-net-mlx Branch: master CommitID:ae657d56b1f0ea979b3f611edf28d773efc2ddcf 158819 --> testing pass Upstream job id: Generic-DPDK-Compile-Meson#444719 Test environment and result as below: +------------------------------+--------------------+ | Environment | dpdk_meson_compile | +==============================+====================+ | Red Hat Enterprise Linux 9.5 | PASS | +------------------------------+--------------------+ | Ubuntu 20.04 | PASS | +------------------------------+--------------------+ | Debian GNU/Linux 12 | PASS | +------------------------------+--------------------+ | Fedora Linux 42 | PASS | +------------------------------+--------------------+ | Ubuntu 22.04 | PASS | +------------------------------+--------------------+ | Ubuntu 24.04 | PASS | +------------------------------+--------------------+ | CentOS Stream 9 | PASS | +------------------------------+--------------------+ | CentOS Stream 10 | PASS | +------------------------------+--------------------+ Red Hat Enterprise Linux 9.5 Kernel: 5.4 Compiler: gcc gcc (GCC) 11.5.0 20240719 (Red Hat 11.5.0-2) Ubuntu 20.04 Kernel: 5.15 Compiler: aarch64-linux-gnu-gcc gcc (Ubuntu 9.4.0-1ubuntu1~20.04.2) 9.4.0 Debian GNU/Linux 12 Kernel: 5.4 Compiler: gcc gcc (Debian 12.2.0-14+deb12u1) 12.2.0 Fedora Linux 42 Kernel: 5.4 Compiler: gcc gcc (GCC) 15.2.1 20250808 (Red Hat 15.2.1-1) Ubuntu 22.04 Kernel: 5.4 Compiler: gcc gcc (Ubuntu 11.4.0-1ubuntu1~22.04) 11.4.0 Ubuntu 24.04 Kernel: 5.4 Compiler: gcc gcc (Ubuntu 13.3.0-6ubuntu2~24.04) 13.3.0 CentOS Stream 9 Kernel: 5.4 Compiler: gcc gcc (GCC) 11.5.0 20240719 (Red Hat 11.5.0-11) CentOS Stream 10 Kernel: 5.4 Compiler: gcc gcc (GCC) 14.2.1 20250110 (Red Hat 14.2.1-8) To view detailed results, visit: https://lab.dpdk.org/results/dashboard/patchsets/34601/ UNH-IOL DPDK Community Lab To manage your email subscriptions, visit: https://lab.dpdk.org/results/dashboard/preferences/subscriptions/