From mboxrd@z Thu Jan 1 00:00:00 1970 Return-Path: Received: from mails.dpdk.org (mails.dpdk.org [217.70.189.124]) by inbox.dpdk.org (Postfix) with ESMTP id 3486A48B1C for ; Sat, 15 Nov 2025 19:53:04 +0100 (CET) Received: from mails.dpdk.org (localhost [127.0.0.1]) by mails.dpdk.org (Postfix) with ESMTP id 30F76402A2; Sat, 15 Nov 2025 19:53:04 +0100 (CET) Received: from mail-yx1-f98.google.com (mail-yx1-f98.google.com [74.125.224.98]) by mails.dpdk.org (Postfix) with ESMTP id C4C9B402A2 for ; Sat, 15 Nov 2025 19:52:58 +0100 (CET) Received: by mail-yx1-f98.google.com with SMTP id 956f58d0204a3-63fc6115d65so2881701d50.0 for ; Sat, 15 Nov 2025 10:52:58 -0800 (PST) DKIM-Signature: v=1; a=rsa-sha256; c=relaxed/relaxed; d=iol.unh.edu; s=unh-iol; t=1763232778; x=1763837578; darn=dpdk.org; h=cc:to:from:subject:message-id:date:from:to:cc:subject:date :message-id:reply-to; bh=UdL7p6kq7LXLQ1Hwo7D8vNtKH+F3kT3VPLCBDPrG4vY=; b=DKCwgjOsDNKN3y40QDxZXVVND1eRtaryhiU1ojlQFEnj8uLsXeIyqQ6BTxItBPaH4v tYI9EfO/auhK5PVsAq2oeFLZrwRu8XAALlZ9lOt/g5t6Coa1pcvuPuih3tQBnuGi+lAR VivhOTDjDZwWgbToxexGHpVsUE31x/0Qjqr5o= X-Google-DKIM-Signature: v=1; a=rsa-sha256; c=relaxed/relaxed; d=1e100.net; s=20230601; t=1763232778; x=1763837578; h=cc:to:from:subject:message-id:date:x-gm-gg:x-gm-message-state:from :to:cc:subject:date:message-id:reply-to; bh=UdL7p6kq7LXLQ1Hwo7D8vNtKH+F3kT3VPLCBDPrG4vY=; b=C588YS3rL3I0R/uc8MQSFHE0F+Z15VwyuT353n+sMB0ufoyXPfQfatOG/4XHfd+iBO bkUocyjIyZBF1fqlI6l7BM2+17ZcAvA7Qzwq79U2dnehgJAObBgK/ciCwr+ZokOQ3IOE ztCuFTTxq8wP/5VyLhW7BYv+N4SlkY6rxSPwGn3Adj9VveNj0cc/in1Hs11bRffS7egN xXPSfbuKZoDhrZ2mUBqH53saq5tihN2hdAcJ1++gYpPIqix6OviI/kRBxEPMEpsf5rYF FTGtlP/F8LcvSN1PKBp6Fd0X/9A11/M2sRV3fnoFcPKCmeCoFgaiVPE6ihp2bFbGeTb5 FuAw== X-Gm-Message-State: AOJu0YwTUoc9FJxpUgP9IIh6RjXqcuAOp+eYTa0kZP6dg34qakBoEgfv oWX8HfSRIkFPgeA9gkV06YQfukXCGwIqMA68vSo+3nPoUadTf7fclKxj3R3XCz9QMwKc641Hnte EgcbMymJLJcxHuIhQkhCsSitO1BPIPlwO5atWYuq/V/DEyizrABY2 X-Gm-Gg: ASbGnctDI6d/Cc3QIJQWzCYDLDQoBehZxTIDgSO14nRxK+rl+Ea0zjbt38TG12bCFIN PLp5uHI4XrG+9JhxyjW9e/1x5Q9Tqn9nWmT15535Wi/djwSQ8+j6Ecm8Ec0e5oEIopHFlbE5cDc +QeT2394nWMXGcgsCjf7iEu47fbFLS4K5bD0QwR5jOYQlZo/DtLJ+h+B/Y9PpP9L/L4u64evtKm /UeKgntMdxQTS3QOUZopIpRHnVc5t0nZMHf+ncu0b6L+W3borqKktZjfDU+t2EcKk3tZUYfjgbW zDcg+zPQX0LiMhD7kh22yn500YrJpJ+O9DjBkMDM74MMQppOrJ/2shz6NoM0BDleQH/DtDADexz GRrd0kd3B X-Google-Smtp-Source: AGHT+IE/jLKJ72THhAZIWlqJU71mwsq6ltA4ZD6JSgzZTRbCFTQ4tUQdpZJA82mQIF6vpgWPm/lOhE2pBC0U X-Received: by 2002:a05:690e:2598:b0:63f:a6da:4b3b with SMTP id 956f58d0204a3-641e74a5b30mr4888763d50.14.1763232778100; Sat, 15 Nov 2025 10:52:58 -0800 (PST) Received: from postal.iol.unh.edu (postal.iol.unh.edu. [2606:4100:3880:1234::84]) by smtp-relay.gmail.com with ESMTPS id 00721157ae682-78821f65cf0sm4555757b3.22.2025.11.15.10.52.58 (version=TLS1_2 cipher=ECDHE-ECDSA-AES128-GCM-SHA256 bits=128/128); Sat, 15 Nov 2025 10:52:58 -0800 (PST) X-Relaying-Domain: iol.unh.edu Date: Sat, 15 Nov 2025 10:52:58 -0800 (PST) Message-ID: <6918cc0a.050a0220.3cef13.67caSMTPIN_ADDED_MISSING@mx.google.com> Received: from [172.21.0.4] (unknown [172.18.0.240]) by postal.iol.unh.edu (Postfix) with ESMTP id C47936051830; Sat, 15 Nov 2025 13:52:57 -0500 (EST) Subject: |SUCCESS| [GIT MASTER] 9784db2c5af1eecd02fc21132b59b5b266039b87 From: dpdklab@iol.unh.edu To: Test Report Cc: dpdk-test-reports@iol.unh.edu, Xueming Li , Christian Ehrhardt , Kevin Traynor , Luca Boccassi Content-Type: text/plain X-BeenThere: test-report@dpdk.org X-Mailman-Version: 2.1.29 Precedence: list List-Id: automatic DPDK test reports List-Unsubscribe: , List-Archive: List-Post: List-Help: List-Subscribe: , Errors-To: test-report-bounces@dpdk.org _Testing PASS_ Branch: tags/v22.11 9784db2c5af1eecd02fc21132b59b5b266039b87 --> testing pass Upstream job id: Generic-DPDK-Compile-Meson#444773 Test environment and result as below: +------------------------------+--------------------+ | Environment | dpdk_meson_compile | +==============================+====================+ | Red Hat Enterprise Linux 9.5 | PASS | +------------------------------+--------------------+ | Ubuntu 20.04 | PASS | +------------------------------+--------------------+ | Debian GNU/Linux 12 | PASS | +------------------------------+--------------------+ | Ubuntu 22.04 | PASS | +------------------------------+--------------------+ | Fedora Linux 42 | PASS | +------------------------------+--------------------+ | CentOS Stream 10 | PASS | +------------------------------+--------------------+ | Ubuntu 24.04 | PASS | +------------------------------+--------------------+ | CentOS Stream 9 | PASS | +------------------------------+--------------------+ Red Hat Enterprise Linux 9.5 Kernel: 5.4 Compiler: gcc gcc (GCC) 11.5.0 20240719 (Red Hat 11.5.0-2) Ubuntu 20.04 Kernel: 5.4 Compiler: gcc gcc (Ubuntu 9.4.0-1ubuntu1~20.04.2) 9.4.0 Debian GNU/Linux 12 Kernel: 5.4 Compiler: gcc gcc (Debian 12.2.0-14+deb12u1) 12.2.0 Ubuntu 22.04 Kernel: 5.4 Compiler: gcc gcc (Ubuntu 11.4.0-1ubuntu1~22.04) 11.4.0 Fedora Linux 42 Kernel: 5.4 Compiler: clang gcc (GCC) 15.2.1 20250808 (Red Hat 15.2.1-1) CentOS Stream 10 Kernel: 5.4 Compiler: gcc gcc (GCC) 14.2.1 20250110 (Red Hat 14.2.1-8) Ubuntu 24.04 Kernel: 5.4 Compiler: gcc gcc (Ubuntu 13.3.0-6ubuntu2~24.04) 13.3.0 CentOS Stream 9 Kernel: 5.4 Compiler: gcc gcc (GCC) 11.5.0 20240719 (Red Hat 11.5.0-11) To view detailed results, visit: https://lab.dpdk.org/results/dashboard/tarballs/35606/ UNH-IOL DPDK Community Lab To manage your email subscriptions, visit: https://lab.dpdk.org/results/dashboard/preferences/subscriptions/