From mboxrd@z Thu Jan 1 00:00:00 1970 Return-Path: Received: from mails.dpdk.org (mails.dpdk.org [217.70.189.124]) by inbox.dpdk.org (Postfix) with ESMTP id 439EF48B1C for ; Sat, 15 Nov 2025 19:53:24 +0100 (CET) Received: from mails.dpdk.org (localhost [127.0.0.1]) by mails.dpdk.org (Postfix) with ESMTP id 3EF00402A2; Sat, 15 Nov 2025 19:53:24 +0100 (CET) Received: from mail-ot1-f99.google.com (mail-ot1-f99.google.com [209.85.210.99]) by mails.dpdk.org (Postfix) with ESMTP id B4929402A2 for ; Sat, 15 Nov 2025 19:53:22 +0100 (CET) Received: by mail-ot1-f99.google.com with SMTP id 46e09a7af769-7c69476dd8cso1836316a34.2 for ; Sat, 15 Nov 2025 10:53:22 -0800 (PST) DKIM-Signature: v=1; a=rsa-sha256; c=relaxed/relaxed; d=iol.unh.edu; s=unh-iol; t=1763232802; x=1763837602; darn=dpdk.org; h=cc:to:from:subject:message-id:date:from:to:cc:subject:date :message-id:reply-to; bh=ETYI2nhuKX2jH9Wsr/k01tCQ5o5vzIwxy6FN/oMHqrA=; b=DlMCYquVjeQLKoVmeLpkwRjjVO1jf+k+6fIWRrgnrVn424auoALB3DLP8OTymutPd8 FCOQfz/W1hFgjja23nCO2frKjSO1yveuRox+dHtB8MtFb/PA9O5Xrq0YBQsgafECOCHW AYYe1VDf04g7YB2pWVna+0sJoW7HKH17VesiY= X-Google-DKIM-Signature: v=1; a=rsa-sha256; c=relaxed/relaxed; d=1e100.net; s=20230601; t=1763232802; x=1763837602; h=cc:to:from:subject:message-id:date:x-gm-gg:x-gm-message-state:from :to:cc:subject:date:message-id:reply-to; bh=ETYI2nhuKX2jH9Wsr/k01tCQ5o5vzIwxy6FN/oMHqrA=; b=HCR4n3gBLeR8fnLkdsYyLhr4vksknSMWI3KRThJDJo+BQC3AgT4DR2TMJE6ImJFQcB 7N4tP1YKdrueTjZwFTx2Y5CBQPF6hHEVe0Qt0aCaBm1znLUHOtKQSM3kT5XYUJlK4PQG 9pjg3ytc5k+uFIeFMLhjVObzMb3HKmSP7N1quMtcaHGGflAFmUPd1Gjk3P26rDS0e9I8 u3MQTs7u/prkeJwHnSrzC+iZ4iqzGPcViAteMgoWgCdsmDaZ9WhOiqJG3Zawkjex5W+7 Xr6NgYWWs4PbZsGpYwH1Zr+q9ZE7p9K4TLPGLWnL5BMcxiN8/Z8l35sTuYDGCo1SSRPW y3oQ== X-Gm-Message-State: AOJu0YwXux79FmR7A0xdkuhD42HaU4IXeQQuY9tO8xT5ZXDAbNMGtnx0 u42CIejbBgBTFnx8embsiDEmRbDq1l3U1mbBWA9z8dXvEOMEvwDqFu6kvQ1dX2Tu4KanN53FThS xKkkvvf2SpcY08CzCoajcqjOXxi62hvf3AJMy X-Gm-Gg: ASbGncvQsWd7cFwg4B8C+ZXZHnYdtwPTNKCE6m0dXxXtaOL2spbu9swhO9qx6hUvGDB KWDqJ4Ohn8E9VRgcTcqPZui5VwPzdHuiYP2GJ1VRD5HtlDfADghrs/au67WCFVlwvo9LOoEhCUj ltWFBFwF6X/kFa05Rya4QAOENmOrrZG4lm4ZVMPLcLZ3H1/KzmXeZ9O6GKjcID17Oa2Zek+JCMz Sw7s40YbO1kiFzw1S9viyIUCMFJwLjR2cbh63i7wDEZhKvvst1rEhuORuyLupnuNvdurdqxBcgK Fae1a0fAdHZiXWI8u/onB6+M7vQBIeNbSyHZjLMs+2IwM4EYAG8vtVaAf0WtQOI9dma+Sc20uZF nQPE5Yu4iTHTqdAHEXbhmEcvnxFkSXio= X-Google-Smtp-Source: AGHT+IGRX6a19qTYjLogl0IRlUKCPjnSRSgEwE2xO2cQCvc8dafLhKIRVl4BoZ7TY1kxwKIGjA2UW2C1h8Hm X-Received: by 2002:a05:6830:4424:b0:7c7:5d3c:2dc6 with SMTP id 46e09a7af769-7c75d3c392cmr138773a34.23.1763232801713; Sat, 15 Nov 2025 10:53:21 -0800 (PST) Received: from postal.iol.unh.edu (postal.iol.unh.edu. [132.177.123.84]) by smtp-relay.gmail.com with ESMTPS id 46e09a7af769-7c73a324d05sm824410a34.3.2025.11.15.10.53.21 (version=TLS1_2 cipher=ECDHE-ECDSA-AES128-GCM-SHA256 bits=128/128); Sat, 15 Nov 2025 10:53:21 -0800 (PST) X-Relaying-Domain: iol.unh.edu Date: Sat, 15 Nov 2025 10:53:21 -0800 (PST) Message-ID: <6918cc21.050a0220.31b66b.a934SMTPIN_ADDED_MISSING@mx.google.com> Received: from [172.21.0.2] (unknown [172.18.0.240]) by postal.iol.unh.edu (Postfix) with ESMTP id 447156051830; Sat, 15 Nov 2025 13:53:21 -0500 (EST) Subject: |SUCCESS| [GIT MASTER] 9784db2c5af1eecd02fc21132b59b5b266039b87 From: dpdklab@iol.unh.edu To: Test Report Cc: dpdk-test-reports@iol.unh.edu, Xueming Li , Christian Ehrhardt , Kevin Traynor , Luca Boccassi Content-Type: text/plain X-BeenThere: test-report@dpdk.org X-Mailman-Version: 2.1.29 Precedence: list List-Id: automatic DPDK test reports List-Unsubscribe: , List-Archive: List-Post: List-Help: List-Subscribe: , Errors-To: test-report-bounces@dpdk.org _Testing PASS_ Branch: tags/v22.11 9784db2c5af1eecd02fc21132b59b5b266039b87 --> testing pass Upstream job id: Generic-DPDK-Compile-Meson#444779 Test environment and result as below: +------------------------------+--------------------+ | Environment | dpdk_meson_compile | +==============================+====================+ | Red Hat Enterprise Linux 9.5 | PASS | +------------------------------+--------------------+ | Ubuntu 20.04 | PASS | +------------------------------+--------------------+ | Debian GNU/Linux 12 | PASS | +------------------------------+--------------------+ | Ubuntu 22.04 | PASS | +------------------------------+--------------------+ | Fedora Linux 42 | PASS | +------------------------------+--------------------+ | CentOS Stream 10 | PASS | +------------------------------+--------------------+ | Ubuntu 24.04 | PASS | +------------------------------+--------------------+ | CentOS Stream 9 | PASS | +------------------------------+--------------------+ Red Hat Enterprise Linux 9.5 Kernel: 5.4 Compiler: gcc gcc (GCC) 11.5.0 20240719 (Red Hat 11.5.0-2) Ubuntu 20.04 Kernel: 5.4 Compiler: gcc gcc (Ubuntu 9.4.0-1ubuntu1~20.04.2) 9.4.0 Debian GNU/Linux 12 Kernel: 5.4 Compiler: gcc gcc (Debian 12.2.0-14+deb12u1) 12.2.0 Ubuntu 22.04 Kernel: 5.4 Compiler: gcc gcc (Ubuntu 11.4.0-1ubuntu1~22.04) 11.4.0 Fedora Linux 42 Kernel: 5.4 Compiler: clang gcc (GCC) 15.2.1 20250808 (Red Hat 15.2.1-1) CentOS Stream 10 Kernel: 5.4 Compiler: gcc gcc (GCC) 14.2.1 20250110 (Red Hat 14.2.1-8) Ubuntu 24.04 Kernel: 5.4 Compiler: gcc gcc (Ubuntu 13.3.0-6ubuntu2~24.04) 13.3.0 CentOS Stream 9 Kernel: 5.4 Compiler: gcc gcc (GCC) 11.5.0 20240719 (Red Hat 11.5.0-11) To view detailed results, visit: https://lab.dpdk.org/results/dashboard/tarballs/35606/ UNH-IOL DPDK Community Lab To manage your email subscriptions, visit: https://lab.dpdk.org/results/dashboard/preferences/subscriptions/