From mboxrd@z Thu Jan 1 00:00:00 1970 Return-Path: Received: from mails.dpdk.org (mails.dpdk.org [217.70.189.124]) by inbox.dpdk.org (Postfix) with ESMTP id 3039848B1D for ; Sat, 15 Nov 2025 21:57:36 +0100 (CET) Received: from mails.dpdk.org (localhost [127.0.0.1]) by mails.dpdk.org (Postfix) with ESMTP id 19ADB4025E; Sat, 15 Nov 2025 21:57:36 +0100 (CET) Received: from mail-pf1-f226.google.com (mail-pf1-f226.google.com [209.85.210.226]) by mails.dpdk.org (Postfix) with ESMTP id B14C84025E for ; Sat, 15 Nov 2025 21:57:34 +0100 (CET) Received: by mail-pf1-f226.google.com with SMTP id d2e1a72fcca58-7b86e0d9615so2773225b3a.0 for ; Sat, 15 Nov 2025 12:57:34 -0800 (PST) DKIM-Signature: v=1; a=rsa-sha256; c=relaxed/relaxed; d=iol.unh.edu; s=unh-iol; t=1763240254; x=1763845054; darn=dpdk.org; h=cc:to:from:subject:message-id:date:from:to:cc:subject:date :message-id:reply-to; bh=5BmjwkviLnw9XTIaqxvLFNAZXmeqGJnXr74q9xaStSs=; b=glATVHODldvDELmnnvcWBftGySwl1M4SkhDwv6ufYffKYYhkYPKbe6o3OnvJI49dXL vS1Bx2yVOltDMbvIjQ0LV4wGg7zaEKb10MyNWPGjUaImV0eXBZ3L66PqDnIs9FmnFI3S C7WRV+/qSgZkH45vtr/gUp4SCBw0bBK7DIpGQ= X-Google-DKIM-Signature: v=1; a=rsa-sha256; c=relaxed/relaxed; d=1e100.net; s=20230601; t=1763240254; x=1763845054; h=cc:to:from:subject:message-id:date:x-gm-gg:x-gm-message-state:from :to:cc:subject:date:message-id:reply-to; bh=5BmjwkviLnw9XTIaqxvLFNAZXmeqGJnXr74q9xaStSs=; b=c2JgUpA68JGSmkzUyYhSkRMKKonTuKtRQNISCQTzofKTeE0vY+0RiozY6Ym72pjyVf DgOgY5lYasDKEpZ/7fBTjP7CB+aMiqppec3JxLmZwo6+uL5CGWRfUu28wl0l68C6OBCs tcLCxgNfankd6jsO9CdbYEwQdXOfItDL4OdM1i+b2VJ2r5/xK+I39YFtKCbbW1F5Ec4j e9jDAm7f8MHkd1h+q+tfiszSBfO2lV8GSYBxYd75iySq7+zRtw51Omuo9yOrvQhieBLq 3Plckq/JBBn9t8TgRNlI0xuG/J6HCTy7AttNZepZI2z0KgUWdXRHm2adbsROo1wMoxEE I7bA== X-Gm-Message-State: AOJu0Yz9KPOLXED5B3NC+zhn3aDxcRQA6m71G/NYbSdBMDWIx3wjGdsS kayspSz8Y4Vg6udNss2TEuR5hSmvE1JSTuQ1YCCQD9MQF/rMy05bdcAtiscB8NyKTwwSJ7U7jVS yu2YDI6dGRAPkRLetr1auTVelfFC3KXFcqyh3 X-Gm-Gg: ASbGncufDiZTwiahcV54phOGS9LJ9CssmD0eZHH5xj5ZW/8ibLTGMbYtuQl7YizlYDC CtUI1Z4d8SZPYFRfgTCLkZN7Ludv1F8Fe9aDZnvSBY3k7TdpBT7fKcbfQOMu4bPUit1RTbADHs0 uCJKao1FoxLCXTnT8gNaLQ9BUxNVNMrMOxWw+YwOR+ZmQIr5MoW+W+g04jKKKjXGq74GO82baVE /879tnkQI+29psr1UJPm+QNnw6uD0qZx5OYf7KQJzmaGfcfIUE0lrt9LK90brgIcBcVXPGwrmLI tr3ns7POfcY7nRxfUQV71uJJUbOXP+mKg0Pz4sGuz/YpZLtlVF3/5CbHPL5wQxArOUBexpim8aD g1l/cEori8qhyaOVVToyPn+wB38rAzSA= X-Google-Smtp-Source: AGHT+IGiegLxkxz9/PwVe6hXOv/HLMJyy3sqj7V4VezMbQYJsQ7ThZisMCFNRSGWHIlcxrPYuGYy/hQuR5RC X-Received: by 2002:a05:6a20:4329:b0:349:c80b:d5e9 with SMTP id adf61e73a8af0-35ba07957fdmr10155505637.23.1763240253792; Sat, 15 Nov 2025 12:57:33 -0800 (PST) Received: from postal.iol.unh.edu (postal.iol.unh.edu. [132.177.123.84]) by smtp-relay.gmail.com with ESMTPS id 41be03b00d2f7-bc36ec7a617sm519151a12.6.2025.11.15.12.57.33 (version=TLS1_2 cipher=ECDHE-ECDSA-AES128-GCM-SHA256 bits=128/128); Sat, 15 Nov 2025 12:57:33 -0800 (PST) X-Relaying-Domain: iol.unh.edu Date: Sat, 15 Nov 2025 12:57:33 -0800 (PST) Message-ID: <6918e93d.630a0220.3310a5.9efbSMTPIN_ADDED_MISSING@mx.google.com> Received: from [172.21.0.2] (unknown [172.18.0.240]) by postal.iol.unh.edu (Postfix) with ESMTP id 0DAED6051830; Sat, 15 Nov 2025 15:57:33 -0500 (EST) Subject: |SUCCESS| [GIT MASTER] 9784db2c5af1eecd02fc21132b59b5b266039b87 From: dpdklab@iol.unh.edu To: Test Report Cc: dpdk-test-reports@iol.unh.edu, Xueming Li , Christian Ehrhardt , Kevin Traynor , Luca Boccassi Content-Type: text/plain X-BeenThere: test-report@dpdk.org X-Mailman-Version: 2.1.29 Precedence: list List-Id: automatic DPDK test reports List-Unsubscribe: , List-Archive: List-Post: List-Help: List-Subscribe: , Errors-To: test-report-bounces@dpdk.org _Testing PASS_ Branch: tags/v22.11 9784db2c5af1eecd02fc21132b59b5b266039b87 --> testing pass Upstream job id: Generic-Unit-Test-DPDK#393004 Test environment and result as below: +-----------------+--------------+---------------------------+------------------------------+----------------+ | Environment | lpm_autotest | cryptodev_sw_zuc_autotest | cryptodev_sw_snow3g_autotest | dpdk_unit_test | +=================+==============+===========================+==============================+================+ | Ubuntu 20.04 | PASS | SKIPPED | SKIPPED | SKIPPED | +-----------------+--------------+---------------------------+------------------------------+----------------+ | Debian 12 (arm) | SKIPPED | PASS | PASS | SKIPPED | +-----------------+--------------+---------------------------+------------------------------+----------------+ | Ubuntu 22.04 | SKIPPED | SKIPPED | SKIPPED | PASS | +-----------------+--------------+---------------------------+------------------------------+----------------+ Ubuntu 20.04 Kernel: 5.4 Compiler: gcc gcc (Ubuntu 9.4.0-1ubuntu1~20.04.2) 9.4.0 Debian 12 (arm) Kernel: Depends on container host Compiler: gcc (Debian 12.2.0-14) 12.2.0 Ubuntu 22.04 Kernel: 5.15 Compiler: gcc gcc (Ubuntu 11.4.0-1ubuntu1~22.04.2) 11.4.0 To view detailed results, visit: https://lab.dpdk.org/results/dashboard/tarballs/35606/ UNH-IOL DPDK Community Lab To manage your email subscriptions, visit: https://lab.dpdk.org/results/dashboard/preferences/subscriptions/