From mboxrd@z Thu Jan 1 00:00:00 1970 Return-Path: Received: from mails.dpdk.org (mails.dpdk.org [217.70.189.124]) by inbox.dpdk.org (Postfix) with ESMTP id A980248B1E for ; Sat, 15 Nov 2025 22:42:53 +0100 (CET) Received: from mails.dpdk.org (localhost [127.0.0.1]) by mails.dpdk.org (Postfix) with ESMTP id 8FDBA4025E; Sat, 15 Nov 2025 22:42:53 +0100 (CET) Received: from mail-oo1-f100.google.com (mail-oo1-f100.google.com [209.85.161.100]) by mails.dpdk.org (Postfix) with ESMTP id 2F2094025E for ; Sat, 15 Nov 2025 22:42:52 +0100 (CET) Received: by mail-oo1-f100.google.com with SMTP id 006d021491bc7-6542eb6dae0so1334558eaf.3 for ; Sat, 15 Nov 2025 13:42:52 -0800 (PST) DKIM-Signature: v=1; a=rsa-sha256; c=relaxed/relaxed; d=iol.unh.edu; s=unh-iol; t=1763242971; x=1763847771; darn=dpdk.org; h=references:in-reply-to:cc:to:from:subject:message-id:date:from:to :cc:subject:date:message-id:reply-to; bh=T657tA5WSFXMVFsPJrGBSPLd7QEhv7T7KBqQn2395gg=; b=N3ornP3KZ132amztcv1RVBHL12RW6QEpJkId7Sf4eAd5uS2KjqpDyMzQRn9bXoSw6+ NOsYm5PGrKsD/38/LPdcQGhbbC1TrQC2JxIUPuBYTjxiqj0lJx3LAXiRr88Hsq9S1o1P m8Ks4YNgg+0jAs2Ec3JHx46/RkDkFgsM+3IWk= X-Google-DKIM-Signature: v=1; a=rsa-sha256; c=relaxed/relaxed; d=1e100.net; s=20230601; t=1763242971; x=1763847771; h=references:in-reply-to:cc:to:from:subject:message-id:date:x-gm-gg :x-gm-message-state:from:to:cc:subject:date:message-id:reply-to; bh=T657tA5WSFXMVFsPJrGBSPLd7QEhv7T7KBqQn2395gg=; b=T8wdcCOdoQqPxVLNCfGWcYUU4TnSLkJw7Ws597CR4vfv/p4IeVPeCGSVM+1cEzK6oV 4F0LzigzE45/PL0vCrhSKqTQBCJWTS5+p49sXwumX//6We5gGWwgK4aDJjOMPEyO65v9 z6qilHcT2sWPbpO4kPHyierqlCfO0q6lErClLWnjm7Q2ELjeVxGj39WToRa+WjlpiUW0 e22J0e/C2rcKhMTq8QM5IIuGbV/9qYNW99vqvihT1JR8sS2Ecbn53iGNxcWLWZVBEvdS PzbvrbGZVoMC/RU6DtF5/kZftH1pK3oHhVILB5GmeWBBM4eLld0cD6WlAEaeMB1BNx3T kBSg== X-Gm-Message-State: AOJu0Yw46DoPByg2I8n/+unBKBLdZsQ8CGUF9r1do5E4LR75MkRAkpyy y5i1GgyD/AiCoqxaCBXKUXAe3dyI/kHk/sbreiwCKoSE8SRrXCUxt2zPcQ2T7QR7sA/dD9hSR87 /+Zqhp0kxEKiJLotIjuDpCJG3Fq+q9fSUxeIiTmP1I79hPMHL5JEPMXCxZQP0 X-Gm-Gg: ASbGncs+6KSKynmMoYGUmvfyvfyy7iKaqfjCQ0FFL5aNqOMRc6w3sKFx0KeJjcYVUuB G6l8X57MbpR2wZZfCeKsFKTvVR3cLyPlCkv697ggKdaRKC55YAuZ9odLGj+KBKSm9urHujVxmov ZnkVy1ofacyCf0IwVkKfzGKXYaDQ2QYDn18NgGeGkQHE9APP6zOVeIm69fUoG/QM8f8eJKSUnm/ KSA9uDKKUsQqx3BXWztb5Y7rHv0Us6VC8HUyxQjqSELaNp6hzQnDGygH0QJgs1CAI6f74PAI/Y2 L5zKM6x/uSEF6BjPwTQBQJLqMJcwDk5ckpdgZLrDW5ATR/Z9UhScBbDqO+lfgJLX8/BAzbR4azt zfO3V3dVU X-Google-Smtp-Source: AGHT+IH0hXBbXdMKjcurbhBhfgyBMuRP8SLEwNRISBC9co0q0uEqGRbog+3OHJY3kDttX+nJZe/OEVODpr1h X-Received: by 2002:a05:6870:819d:b0:3c9:8b28:dc21 with SMTP id 586e51a60fabf-3e868ee4796mr4190270fac.4.1763242971173; Sat, 15 Nov 2025 13:42:51 -0800 (PST) Received: from postal.iol.unh.edu (postal.iol.unh.edu. [2606:4100:3880:1234::84]) by smtp-relay.gmail.com with ESMTPS id 46e09a7af769-7c750dfc23csm257033a34.5.2025.11.15.13.42.51 (version=TLS1_2 cipher=ECDHE-ECDSA-AES128-GCM-SHA256 bits=128/128); Sat, 15 Nov 2025 13:42:51 -0800 (PST) X-Relaying-Domain: iol.unh.edu Date: Sat, 15 Nov 2025 13:42:51 -0800 (PST) Message-ID: <6918f3db.050a0220.2e45c7.cc72SMTPIN_ADDED_MISSING@mx.google.com> Received: from [172.21.0.3] (unknown [172.18.0.240]) by postal.iol.unh.edu (Postfix) with ESMTP id A305260003F4; Sat, 15 Nov 2025 16:42:50 -0500 (EST) Subject: |SUCCESS| pw158823-158824 [PATCH] [2/2] net/crc: reduce usage of sta From: dpdklab@iol.unh.edu To: Test Report Cc: dpdk-test-reports@iol.unh.edu In-Reply-To: <20251115101140.1295642-2-16567adigashreesh@gmail.com> References: <20251115101140.1295642-2-16567adigashreesh@gmail.com> Content-Type: text/plain X-BeenThere: test-report@dpdk.org X-Mailman-Version: 2.1.29 Precedence: list List-Id: automatic DPDK test reports List-Unsubscribe: , List-Archive: List-Post: List-Help: List-Subscribe: , Errors-To: test-report-bounces@dpdk.org Test-Label: iol-compile-amd64-testing Test-Status: SUCCESS http://dpdk.org/patch/158824 _Testing PASS_ Submitter: Shreesh Adiga <16567adigashreesh@gmail.com> Date: Saturday, November 15 2025 10:09:59 DPDK git baseline: Repo:dpdk Branch: master CommitID:be0112878b4fc3a1b918370ed2fe615c52039d77 158823-158824 --> testing pass Upstream job id: Windows-Compile-DPDK-Native#32432 Test environment and result as below: +-------------------------------+--------------------+------------------+-------------------+-------------------------+ | Environment | dpdk_meson_compile | dpdk_compile_ovs | dpdk_msvc_compile | dpdk_llvm_clang_compile | +===============================+====================+==================+===================+=========================+ | Ubuntu 20.04 | PASS | SKIPPED | SKIPPED | SKIPPED | +-------------------------------+--------------------+------------------+-------------------+-------------------------+ | Fedora Linux 42 | PASS | PASS | SKIPPED | SKIPPED | +-------------------------------+--------------------+------------------+-------------------+-------------------------+ | CentOS Stream 9 | PASS | SKIPPED | SKIPPED | SKIPPED | +-------------------------------+--------------------+------------------+-------------------+-------------------------+ | CentOS Stream 10 | PASS | SKIPPED | SKIPPED | SKIPPED | +-------------------------------+--------------------+------------------+-------------------+-------------------------+ | openSUSE Leap 15.6 | PASS | SKIPPED | SKIPPED | SKIPPED | +-------------------------------+--------------------+------------------+-------------------+-------------------------+ | Debian GNU/Linux 12 | PASS | SKIPPED | SKIPPED | SKIPPED | +-------------------------------+--------------------+------------------+-------------------+-------------------------+ | Red Hat Enterprise Linux 8.10 | PASS | SKIPPED | SKIPPED | SKIPPED | +-------------------------------+--------------------+------------------+-------------------+-------------------------+ | FreeBSD 14.2 | PASS | SKIPPED | SKIPPED | SKIPPED | +-------------------------------+--------------------+------------------+-------------------+-------------------------+ | Red Hat Enterprise Linux 9.5 | PASS | SKIPPED | SKIPPED | SKIPPED | +-------------------------------+--------------------+------------------+-------------------+-------------------------+ | Ubuntu 24.04 | PASS | PASS | SKIPPED | SKIPPED | +-------------------------------+--------------------+------------------+-------------------+-------------------------+ | Ubuntu 22.04 | PASS | SKIPPED | SKIPPED | SKIPPED | +-------------------------------+--------------------+------------------+-------------------+-------------------------+ | Alpine Linux 3.22.0 | PASS | SKIPPED | SKIPPED | SKIPPED | +-------------------------------+--------------------+------------------+-------------------+-------------------------+ | Windows Server 2022 | SKIPPED | SKIPPED | PASS | PASS | +-------------------------------+--------------------+------------------+-------------------+-------------------------+ Ubuntu 20.04 Kernel: 4.19 Compiler: gcc gcc (Ubuntu 9.4.0-1ubuntu1~20.04.2) 9.4.0 Fedora Linux 42 Kernel: 5.15 Compiler: clang gcc (GCC) 15.2.1 20250808 (Red Hat 15.2.1-1) CentOS Stream 9 Kernel: 5.15 Compiler: gcc gcc (GCC) 11.5.0 20240719 (Red Hat 11.5.0-11) CentOS Stream 10 Kernel: 5.15 Compiler: gcc gcc (GCC) 14.2.1 20250110 (Red Hat 14.2.1-8) openSUSE Leap 15.6 Kernel: 5.15 Compiler: gcc gcc (SUSE Linux) 7.5.0 Debian GNU/Linux 12 Kernel: 5.15 Compiler: gcc gcc (Debian 12.2.0-14+deb12u1) 12.2.0 Red Hat Enterprise Linux 8.10 Kernel: 5.15 Compiler: gcc gcc (GCC) 8.5.0 20210514 (Red Hat 8.5.0-22) FreeBSD 14.2 Kernel: 14.2-RELEASE Compiler: clang 18.1.6 Red Hat Enterprise Linux 9.5 Kernel: 5.15 Compiler: gcc gcc (GCC) 11.5.0 20240719 (Red Hat 11.5.0-2) Ubuntu 24.04 Kernel: 5.15 Compiler: gcc gcc (Ubuntu 13.3.0-6ubuntu2~24.04) 13.3.0 Ubuntu 22.04 Kernel: 5.15 Compiler: gcc gcc (Ubuntu 11.4.0-1ubuntu1~22.04) 11.4.0 Alpine Linux 3.22.0 Kernel: 5.15 Compiler: gcc gcc (Alpine 14.2.0) 14.2.0 Windows Server 2022 Kernel: 10.0.20348.2031 Compiler: clang 15.0.7, gcc 14.1.0 (MinGW), and MSVC VS 19.39.33521 To view detailed results, visit: https://lab.dpdk.org/results/dashboard/patchsets/34606/ UNH-IOL DPDK Community Lab To manage your email subscriptions, visit: https://lab.dpdk.org/results/dashboard/preferences/subscriptions/