From mboxrd@z Thu Jan 1 00:00:00 1970 Return-Path: Received: from mails.dpdk.org (mails.dpdk.org [217.70.189.124]) by inbox.dpdk.org (Postfix) with ESMTP id 70FC848B1E for ; Sat, 15 Nov 2025 22:51:57 +0100 (CET) Received: from mails.dpdk.org (localhost [127.0.0.1]) by mails.dpdk.org (Postfix) with ESMTP id 6A1854025E; Sat, 15 Nov 2025 22:51:57 +0100 (CET) Received: from mail-il1-f228.google.com (mail-il1-f228.google.com [209.85.166.228]) by mails.dpdk.org (Postfix) with ESMTP id EFD4F4025E for ; Sat, 15 Nov 2025 22:51:55 +0100 (CET) Received: by mail-il1-f228.google.com with SMTP id e9e14a558f8ab-43377ee4825so16364915ab.2 for ; Sat, 15 Nov 2025 13:51:55 -0800 (PST) DKIM-Signature: v=1; a=rsa-sha256; c=relaxed/relaxed; d=iol.unh.edu; s=unh-iol; t=1763243515; x=1763848315; darn=dpdk.org; h=references:in-reply-to:cc:to:from:subject:message-id:date:from:to :cc:subject:date:message-id:reply-to; bh=slc5I3kvlb6AzXCXTzt0nepYpJpI2m8KImhJcha07Ks=; b=WUXw3eYv7lYQdYDXinNti5RB9uBTTbFF7/0O3CS4hejjhl66qt8DRPUkEHAi++K+ot YwhTSLVDQS1kE2d+rUvZDllVxU0YUxM3x4eKEs7fhtx2nuaU28ct4tyXi88VrpYJ0VnJ 81aXQows0HPGlLZSUszm3tQ3jqrwOUFIOPQE8= X-Google-DKIM-Signature: v=1; a=rsa-sha256; c=relaxed/relaxed; d=1e100.net; s=20230601; t=1763243515; x=1763848315; h=references:in-reply-to:cc:to:from:subject:message-id:date:x-gm-gg :x-gm-message-state:from:to:cc:subject:date:message-id:reply-to; bh=slc5I3kvlb6AzXCXTzt0nepYpJpI2m8KImhJcha07Ks=; b=stvFIgNbGaop1lgC6Dsx6RLAYxtyZUZmY98PeB+5lnSG0XIV1fOdS4sP1dCqqSM2tS /RoWtynjNWOB4hm5DgMj4aE/I0/wGjBFD+DNyATjHKKBNEW/39asD5TRCbIuWwa5Mog/ gYFSWOyk3OquVhUfG3nUDWitMsyZts3ztmlhYf6WydUboDcTRXL9uzVoXGU2RZLIGhXx 2TA+2R2AFuOFWUQahrypWREVe6eaY/YPWB0Q6q3mwS2CM8LwgKEuusvY049Rizh+qSH3 qsmHr4eGiP6YgxRb1lA4hxFeS+59q20vZmtJbXaxKLFIaRebWKr19JxJQNhIZ/Y9+Sdr Uuiw== X-Gm-Message-State: AOJu0YwWagiBC+kgDhCriNmfaAANFtLjtODit5ap/FSOsE7Y2v0IHwss DA0XaqAP2htWxjyWhiDsvIlNFR5h1wrPz8UbUHcZe3mDndEeckiEp2Zo/z2w6izUbxLdiE6SgYd N4ujqRzrnld+TWYFjsRktFEPJXhPLXzj+NNQJgdUtLJoqlf2iXUGdIomc4Dfp X-Gm-Gg: ASbGncsaM/gWxSOhMguUOs/gcqlRQEFe8J0TR5spOhMYy+tQ/Dp1+R6UU1qf6xQ/Bw/ m5MOYzIQaPytqjjiF30KVOEHk5ACuV9zgPRmHwa/zZtvpIYXN5GFQs9+IK1A9q/qrdG2y0f9Y97 sMPM28z/bQ/T6tJR5hw/5mZkqfBNWvMRWAv9gG4uN6Pes/hsXMUlydyy+WvwqW0tTkqqcvS1CGB bZXfPb3zTHya+5mYVV+Km0siomhD5KMhM3iIpxTBgeOhDYSI1UKf6hoLW39PFph6YEaSucPBZly k3mdOyelyW6UVD1x0OR5i9LpeZwRQfS+R7WRRyRZSsXAoN4FmVAIpSWU9tH7henS9itoWl2DgHE Y8kA+vXF1 X-Google-Smtp-Source: AGHT+IESUTqxBvTWnN7yfI7DNCSwQmK7NkG8D7B617gVXiyNplg3g/vkO18M2t/ZRIJ6XvpZNQ+2ZuD7Uj0w X-Received: by 2002:a05:6e02:3b81:b0:433:7e2f:839d with SMTP id e9e14a558f8ab-4348c91a2fbmr103361965ab.21.1763243515264; Sat, 15 Nov 2025 13:51:55 -0800 (PST) Received: from postal.iol.unh.edu (postal.iol.unh.edu. [2606:4100:3880:1234::84]) by smtp-relay.gmail.com with ESMTPS id e9e14a558f8ab-434839b0404sm7746435ab.23.2025.11.15.13.51.55 (version=TLS1_2 cipher=ECDHE-ECDSA-AES128-GCM-SHA256 bits=128/128); Sat, 15 Nov 2025 13:51:55 -0800 (PST) X-Relaying-Domain: iol.unh.edu Date: Sat, 15 Nov 2025 13:51:55 -0800 (PST) Message-ID: <6918f5fb.050a0220.eeecf.5c36SMTPIN_ADDED_MISSING@mx.google.com> Received: from [172.21.0.3] (unknown [172.18.0.240]) by postal.iol.unh.edu (Postfix) with ESMTP id 895886051830; Sat, 15 Nov 2025 16:51:54 -0500 (EST) Subject: |SUCCESS| pw158823-158824 [PATCH] [2/2] net/crc: reduce usage of sta From: dpdklab@iol.unh.edu To: Test Report Cc: dpdk-test-reports@iol.unh.edu In-Reply-To: <20251115101140.1295642-2-16567adigashreesh@gmail.com> References: <20251115101140.1295642-2-16567adigashreesh@gmail.com> Content-Type: text/plain X-BeenThere: test-report@dpdk.org X-Mailman-Version: 2.1.29 Precedence: list List-Id: automatic DPDK test reports List-Unsubscribe: , List-Archive: List-Post: List-Help: List-Subscribe: , Errors-To: test-report-bounces@dpdk.org Test-Label: iol-unit-amd64-testing Test-Status: SUCCESS http://dpdk.org/patch/158824 _Testing PASS_ Submitter: Shreesh Adiga <16567adigashreesh@gmail.com> Date: Saturday, November 15 2025 10:09:59 DPDK git baseline: Repo:dpdk Branch: master CommitID:be0112878b4fc3a1b918370ed2fe615c52039d77 158823-158824 --> testing pass Upstream job id: Generic-VM-Unit-Test-DPDK#32603 Test environment and result as below: +-------------------------------+----------------+ | Environment | dpdk_unit_test | +===============================+================+ | Red Hat Enterprise Linux 8.10 | PASS | +-------------------------------+----------------+ | Fedora Linux 42 | PASS | +-------------------------------+----------------+ | Fedora Linux 40 | PASS | +-------------------------------+----------------+ | CentOS Stream 9 | PASS | +-------------------------------+----------------+ | Ubuntu 20.04 | PASS | +-------------------------------+----------------+ | Fedora Linux 41 | PASS | +-------------------------------+----------------+ | Ubuntu 22.04 | PASS | +-------------------------------+----------------+ | Red Hat Enterprise Linux 9.5 | PASS | +-------------------------------+----------------+ | Ubuntu 24.04 | PASS | +-------------------------------+----------------+ | CentOS Stream 10 | PASS | +-------------------------------+----------------+ | Debian GNU/Linux 12 | PASS | +-------------------------------+----------------+ | Windows Server 2022 | PASS | +-------------------------------+----------------+ Red Hat Enterprise Linux 8.10 Kernel: 5.15 Compiler: gcc gcc (GCC) 8.5.0 20210514 (Red Hat 8.5.0-22) Fedora Linux 42 Kernel: 5.15 Compiler: gcc gcc (GCC) 15.2.1 20250808 (Red Hat 15.2.1-1) Fedora Linux 40 Kernel: 5.15 Compiler: clang gcc (GCC) 14.2.1 20240912 (Red Hat 14.2.1-3) CentOS Stream 9 Kernel: 5.15 Compiler: gcc gcc (GCC) 11.5.0 20240719 (Red Hat 11.5.0-11) Ubuntu 20.04 Kernel: 5.15 Compiler: gcc gcc (Ubuntu 9.4.0-1ubuntu1~20.04.2) 9.4.0 Fedora Linux 41 Kernel: 5.15 Compiler: gcc gcc (GCC) 14.3.1 20250523 (Red Hat 14.3.1-1) Ubuntu 22.04 Kernel: 5.15 Compiler: gcc gcc (Ubuntu 11.4.0-1ubuntu1~22.04) 11.4.0 Red Hat Enterprise Linux 9.5 Kernel: 5.15 Compiler: gcc gcc (GCC) 11.5.0 20240719 (Red Hat 11.5.0-2) Ubuntu 24.04 Kernel: 5.15 Compiler: gcc gcc (Ubuntu 13.3.0-6ubuntu2~24.04) 13.3.0 CentOS Stream 10 Kernel: 5.15 Compiler: gcc gcc (GCC) 14.2.1 20250110 (Red Hat 14.2.1-8) Debian GNU/Linux 12 Kernel: 5.15 Compiler: gcc gcc (Debian 12.2.0-14+deb12u1) 12.2.0 Windows Server 2022 Kernel: 10.0.20348.2031 Compiler: clang 15.0.7, gcc 14.1.0 (MinGW), and MSVC VS 19.39.33521 To view detailed results, visit: https://lab.dpdk.org/results/dashboard/patchsets/34606/ UNH-IOL DPDK Community Lab To manage your email subscriptions, visit: https://lab.dpdk.org/results/dashboard/preferences/subscriptions/