From mboxrd@z Thu Jan 1 00:00:00 1970 Return-Path: Received: from mails.dpdk.org (mails.dpdk.org [217.70.189.124]) by inbox.dpdk.org (Postfix) with ESMTP id 97F3748B1E for ; Sat, 15 Nov 2025 22:52:55 +0100 (CET) Received: from mails.dpdk.org (localhost [127.0.0.1]) by mails.dpdk.org (Postfix) with ESMTP id 933194025E; Sat, 15 Nov 2025 22:52:55 +0100 (CET) Received: from mail-qv1-f99.google.com (mail-qv1-f99.google.com [209.85.219.99]) by mails.dpdk.org (Postfix) with ESMTP id C90D94025E for ; Sat, 15 Nov 2025 22:52:54 +0100 (CET) Received: by mail-qv1-f99.google.com with SMTP id 6a1803df08f44-88245cc8c92so20129706d6.0 for ; Sat, 15 Nov 2025 13:52:54 -0800 (PST) DKIM-Signature: v=1; a=rsa-sha256; c=relaxed/relaxed; d=iol.unh.edu; s=unh-iol; t=1763243574; x=1763848374; darn=dpdk.org; h=references:in-reply-to:cc:to:from:subject:message-id:date:from:to :cc:subject:date:message-id:reply-to; bh=P1tvGhEMtAXg+f6/QKT1caq0dx2KSrZ87wytb702sRc=; b=g7YdpL3OvWtQJg7F9eI9stV3HG5/DWBszABKCzMXWmAOWICOmiq7OMfusTV2ADhVdA OeyZqG1sqLVA2lhawnhMTMZEzMU8gHqtOGvH93Wrjuj7lhH+DlAn8M37vwKpMBgTs0wV nLnqBmnqk9ueCQhbdRXPR8rII0JXsORsJgKxU= X-Google-DKIM-Signature: v=1; a=rsa-sha256; c=relaxed/relaxed; d=1e100.net; s=20230601; t=1763243574; x=1763848374; h=references:in-reply-to:cc:to:from:subject:message-id:date:x-gm-gg :x-gm-message-state:from:to:cc:subject:date:message-id:reply-to; bh=P1tvGhEMtAXg+f6/QKT1caq0dx2KSrZ87wytb702sRc=; b=ARtlFHE6du2KFYQxMiC3ocVJfKSV5DrRr+qB7do3UKeF8g/R98SSQRMwFazqlb4xuR Hb928DQf2pgdq7Hbp/zPxMFbjdHiEXJDCR9bAJZcXQwRSqo7fR8pQWeoFGNfaXouQjgo FatXO7XjJwLeuW1k0TNpnXlKQkzm7pEo7qHF3Hcq4uv/S3zeJAbjR1OU4MG5PVPG8Bt/ iGDvFPhXGZWJkDPGjdV35OIvImzSelYE0eZgSJGXDeZzFpBknLMJGLr07HjWlBy7sXMk uvAELWqjBakSdM57tw2x6chc6XgyztfzYqyHIYqgFmWAWIxmNCRNg1rc9/XTkfpcnvW4 4yEQ== X-Gm-Message-State: AOJu0Yym9IyT3UmASEkGs0oExBWCL0xa+ITZOPzUSRQwM+Nc5xoGUGGz SSZKHdik1M2XNMMCNYT9NJLS0+TPF4nO51cmblTvin7B5PdHwQQftSmULpjIz+YfgfN0yU2XwS0 hpZUWar9TLJUOK2MP+LX1A8kERmVz6XWMi9BmuTCrSHFYTKrk1j2F9OSb5tAt X-Gm-Gg: ASbGncsRCP+n3amuFNwQtZ6nq3JK8A+e+1MxrAGaH9bmAhLe01HRe7uheLdaoOdmAY0 lIMoyZmBIiN1P3ZZozZdsBVSSo7Bzeg3SCEr4Qy7MXOIQ0SpuVC9+WdU6vgwl56+A+hfWxhs8J0 WkkiOLRKDJcaA+bfyKp1aAWz1nMejkMan641ktTddYFl55+7RnqHpG4Ct2GqCuBb5sWFfbslB6z ww3oefoDsSn18joQAO8/v5LTEA/6U7tDeLv7y1uLVmpEEZSZ4KbvKhPRfhp0TIkmrmz74tdJxE5 Yhwl2rxfe4xRRj+MOCJRDK/YZJN/LfAezO/YmDHLKHfO1ZSPfq3HZZFX/X05VsLrbsDTLXE1V22 Zy/Virk8R X-Google-Smtp-Source: AGHT+IFaxcF7Kk74ryOasY2BD4FmV6CQNlKOsHChjF4/WPR2Py+mFGQs8grvJj+TQo+xKqBNR31RypAaHIuG X-Received: by 2002:ad4:5963:0:b0:880:4219:62c0 with SMTP id 6a1803df08f44-88292686a23mr103034036d6.34.1763243574114; Sat, 15 Nov 2025 13:52:54 -0800 (PST) Received: from postal.iol.unh.edu (postal.iol.unh.edu. [2606:4100:3880:1234::84]) by smtp-relay.gmail.com with ESMTPS id 6a1803df08f44-882862b348asm10335936d6.2.2025.11.15.13.52.54 (version=TLS1_2 cipher=ECDHE-ECDSA-AES128-GCM-SHA256 bits=128/128); Sat, 15 Nov 2025 13:52:54 -0800 (PST) X-Relaying-Domain: iol.unh.edu Date: Sat, 15 Nov 2025 13:52:54 -0800 (PST) Message-ID: <6918f636.050a0220.bc0de.2ec1SMTPIN_ADDED_MISSING@mx.google.com> Received: from [172.21.0.3] (unknown [172.18.0.240]) by postal.iol.unh.edu (Postfix) with ESMTP id 99B2F6051830; Sat, 15 Nov 2025 16:52:53 -0500 (EST) Subject: |SUCCESS| pw158823-158824 [PATCH] [2/2] net/crc: reduce usage of sta From: dpdklab@iol.unh.edu To: Test Report Cc: dpdk-test-reports@iol.unh.edu In-Reply-To: <20251115101140.1295642-2-16567adigashreesh@gmail.com> References: <20251115101140.1295642-2-16567adigashreesh@gmail.com> Content-Type: text/plain X-BeenThere: test-report@dpdk.org X-Mailman-Version: 2.1.29 Precedence: list List-Id: automatic DPDK test reports List-Unsubscribe: , List-Archive: List-Post: List-Help: List-Subscribe: , Errors-To: test-report-bounces@dpdk.org Test-Label: iol-compile-amd64-testing Test-Status: SUCCESS http://dpdk.org/patch/158824 _Testing PASS_ Submitter: Shreesh Adiga <16567adigashreesh@gmail.com> Date: Saturday, November 15 2025 10:09:59 DPDK git baseline: Repo:dpdk Branch: master CommitID:be0112878b4fc3a1b918370ed2fe615c52039d77 158823-158824 --> testing pass Upstream job id: Windows-Compile-DPDK-Native#32433 Test environment and result as below: +-------------------------------+--------------------+------------------+-------------------+-------------------------+----------------------+ | Environment | dpdk_meson_compile | dpdk_compile_ovs | dpdk_msvc_compile | dpdk_llvm_clang_compile | dpdk_mingw64_compile | +===============================+====================+==================+===================+=========================+======================+ | Ubuntu 20.04 | PASS | SKIPPED | SKIPPED | SKIPPED | SKIPPED | +-------------------------------+--------------------+------------------+-------------------+-------------------------+----------------------+ | Fedora Linux 42 | PASS | PASS | SKIPPED | SKIPPED | SKIPPED | +-------------------------------+--------------------+------------------+-------------------+-------------------------+----------------------+ | CentOS Stream 9 | PASS | SKIPPED | SKIPPED | SKIPPED | SKIPPED | +-------------------------------+--------------------+------------------+-------------------+-------------------------+----------------------+ | CentOS Stream 10 | PASS | SKIPPED | SKIPPED | SKIPPED | SKIPPED | +-------------------------------+--------------------+------------------+-------------------+-------------------------+----------------------+ | openSUSE Leap 15.6 | PASS | SKIPPED | SKIPPED | SKIPPED | SKIPPED | +-------------------------------+--------------------+------------------+-------------------+-------------------------+----------------------+ | Debian GNU/Linux 12 | PASS | SKIPPED | SKIPPED | SKIPPED | SKIPPED | +-------------------------------+--------------------+------------------+-------------------+-------------------------+----------------------+ | Red Hat Enterprise Linux 8.10 | PASS | SKIPPED | SKIPPED | SKIPPED | SKIPPED | +-------------------------------+--------------------+------------------+-------------------+-------------------------+----------------------+ | FreeBSD 14.2 | PASS | SKIPPED | SKIPPED | SKIPPED | SKIPPED | +-------------------------------+--------------------+------------------+-------------------+-------------------------+----------------------+ | Red Hat Enterprise Linux 9.5 | PASS | SKIPPED | SKIPPED | SKIPPED | SKIPPED | +-------------------------------+--------------------+------------------+-------------------+-------------------------+----------------------+ | Ubuntu 24.04 | PASS | PASS | SKIPPED | SKIPPED | SKIPPED | +-------------------------------+--------------------+------------------+-------------------+-------------------------+----------------------+ | Ubuntu 22.04 | PASS | SKIPPED | SKIPPED | SKIPPED | SKIPPED | +-------------------------------+--------------------+------------------+-------------------+-------------------------+----------------------+ | Alpine Linux 3.22.0 | PASS | SKIPPED | SKIPPED | SKIPPED | SKIPPED | +-------------------------------+--------------------+------------------+-------------------+-------------------------+----------------------+ | Windows Server 2022 | SKIPPED | SKIPPED | PASS | PASS | PASS | +-------------------------------+--------------------+------------------+-------------------+-------------------------+----------------------+ Ubuntu 20.04 Kernel: 4.19 Compiler: gcc gcc (Ubuntu 9.4.0-1ubuntu1~20.04.2) 9.4.0 Fedora Linux 42 Kernel: 5.15 Compiler: clang gcc (GCC) 15.2.1 20250808 (Red Hat 15.2.1-1) CentOS Stream 9 Kernel: 5.15 Compiler: gcc gcc (GCC) 11.5.0 20240719 (Red Hat 11.5.0-11) CentOS Stream 10 Kernel: 5.15 Compiler: gcc gcc (GCC) 14.2.1 20250110 (Red Hat 14.2.1-8) openSUSE Leap 15.6 Kernel: 5.15 Compiler: gcc gcc (SUSE Linux) 7.5.0 Debian GNU/Linux 12 Kernel: 5.15 Compiler: gcc gcc (Debian 12.2.0-14+deb12u1) 12.2.0 Red Hat Enterprise Linux 8.10 Kernel: 5.15 Compiler: gcc gcc (GCC) 8.5.0 20210514 (Red Hat 8.5.0-22) FreeBSD 14.2 Kernel: 14.2-RELEASE Compiler: clang 18.1.6 Red Hat Enterprise Linux 9.5 Kernel: 5.15 Compiler: gcc gcc (GCC) 11.5.0 20240719 (Red Hat 11.5.0-2) Ubuntu 24.04 Kernel: 5.15 Compiler: gcc gcc (Ubuntu 13.3.0-6ubuntu2~24.04) 13.3.0 Ubuntu 22.04 Kernel: 5.15 Compiler: gcc gcc (Ubuntu 11.4.0-1ubuntu1~22.04) 11.4.0 Alpine Linux 3.22.0 Kernel: 5.15 Compiler: gcc gcc (Alpine 14.2.0) 14.2.0 Windows Server 2022 Kernel: 10.0.20348.2031 Compiler: clang 15.0.7, gcc 14.1.0 (MinGW), and MSVC VS 19.39.33521 To view detailed results, visit: https://lab.dpdk.org/results/dashboard/patchsets/34606/ UNH-IOL DPDK Community Lab To manage your email subscriptions, visit: https://lab.dpdk.org/results/dashboard/preferences/subscriptions/