From mboxrd@z Thu Jan 1 00:00:00 1970 Return-Path: Received: from mails.dpdk.org (mails.dpdk.org [217.70.189.124]) by inbox.dpdk.org (Postfix) with ESMTP id 105CE48B1E for ; Sat, 15 Nov 2025 22:57:03 +0100 (CET) Received: from mails.dpdk.org (localhost [127.0.0.1]) by mails.dpdk.org (Postfix) with ESMTP id EAB4D4025E; Sat, 15 Nov 2025 22:57:02 +0100 (CET) Received: from mail-pl1-f226.google.com (mail-pl1-f226.google.com [209.85.214.226]) by mails.dpdk.org (Postfix) with ESMTP id DF2234025E for ; Sat, 15 Nov 2025 22:57:01 +0100 (CET) Received: by mail-pl1-f226.google.com with SMTP id d9443c01a7336-29555415c5fso35854285ad.1 for ; Sat, 15 Nov 2025 13:57:01 -0800 (PST) DKIM-Signature: v=1; a=rsa-sha256; c=relaxed/relaxed; d=iol.unh.edu; s=unh-iol; t=1763243821; x=1763848621; darn=dpdk.org; h=references:in-reply-to:cc:to:from:subject:message-id:date:from:to :cc:subject:date:message-id:reply-to; bh=LjC2rjFSQeyu7vjOhoGd8sK673DxOMSIK13Xe+ncSJU=; b=MLBeoh4V/ONGU3mDqLzPbvX/oDCnviS0dGIYPEzBhrvv7yezhb0yyxm2xolDmlN+/s 6rF/5/c/Pj3Gp5vokAcociHB9g+xuE7M5Wcn1t/QTgUNLtBdOQTIB90kHTlnKscMbe7Y y6XqL+wCProHTLcKnksWW0ykwwkqu7Tj+2uBU= X-Google-DKIM-Signature: v=1; a=rsa-sha256; c=relaxed/relaxed; d=1e100.net; s=20230601; t=1763243821; x=1763848621; h=references:in-reply-to:cc:to:from:subject:message-id:date:x-gm-gg :x-gm-message-state:from:to:cc:subject:date:message-id:reply-to; bh=LjC2rjFSQeyu7vjOhoGd8sK673DxOMSIK13Xe+ncSJU=; b=Dvbzr43UGFkw0DnWxDgI6a+RcJzQqPM4cfAyuiDkW+PQ32y9kfzuhtiQN0SshdGWEB e0js5toyEazy8nbScI+zxZxneB7k+uO/3aIk8utVqUQf7nKWFxZc7KrfR7qRTilTEQ0v 9JLcI/MRvihrpXHHPuLYNjPlN9ZITi1vHZ/BCrPkaMjqW5XwYKHvCfwgVH3oEWjPQf59 VzQthU82da1T0HnuTUSjN4/Gms8pA4VmUtEaOOdtCb7GjBenKLAOByOonk6AbljKXIVd qOXqTiPk5sxv3YrKh981z7pjwNyqwYArVqWqx/qeCdnULbxEpDSPAjshR8XLUxzy33lG CQJA== X-Gm-Message-State: AOJu0Yy9bTKtWEeFn03g0Rhny5+7dn1ZMbQnN4W7CFJGpYNZOgjrJI9O AFrGm7Tgu5BPySYiNVm0BzU35on4TcsPBYm007QbIhFfdnAjKtbg4T0rfKRn35JDKeln2HWBL4B eYWXgGzN9fwSbwXsVcNUElUAqWygU8DBJZzK3mnHwl5xp X-Gm-Gg: ASbGncu4PuftXdik1dfv18rkzbG1EoXYpU3RJMLeqThleqm7rPMQFXilUqqxPAHrunR CGkMDqp+nwZtt2+rBUS+51Fkb0CA/AQMjHvbvb5V2q+4veDaepAjK1BEg5B13eK2shxlS8s7a+n fQUr6Qs91MiRfXCdFuHKDTsbjiJsb5+8pe5uWygXcxh40Iht/itPjD8IYO9gdDJgKI1Wn7vujRS sZeEwYM1U47Hrruj1fE+eHANsD9TBOJMwBB+x9vUt2uANhfAa0oR4BzNcr64061NSGskzO78U7W k/4bi683YViM6K+o/4SpgSIAAVQc4I163mJPd+kIiZ/8g/KMDimZpaeii6rKXWQ7ckuz6RnDgUD pD7vF8Ui88s8EGaSuzH2sB+1WKvNKDvQ= X-Google-Smtp-Source: AGHT+IEBFZFvk4pW29+uCL598NWQIUaUATHh8tiiAxiOwTLz3xOAW5DwvmN1CjdSme9ceVAsCsnIRIKNl3C3 X-Received: by 2002:a17:903:fad:b0:297:d4e7:3066 with SMTP id d9443c01a7336-2986a6d32a1mr95732495ad.18.1763243820999; Sat, 15 Nov 2025 13:57:00 -0800 (PST) Received: from postal.iol.unh.edu (postal.iol.unh.edu. [132.177.123.84]) by smtp-relay.gmail.com with ESMTPS id d9443c01a7336-2985c2c3c26sm9983775ad.58.2025.11.15.13.57.00 (version=TLS1_2 cipher=ECDHE-ECDSA-AES128-GCM-SHA256 bits=128/128); Sat, 15 Nov 2025 13:57:00 -0800 (PST) X-Relaying-Domain: iol.unh.edu Date: Sat, 15 Nov 2025 13:57:00 -0800 (PST) Message-ID: <6918f72c.170a0220.393872.13feSMTPIN_ADDED_MISSING@mx.google.com> Received: from [172.21.0.3] (unknown [172.18.0.240]) by postal.iol.unh.edu (Postfix) with ESMTP id 356966051830; Sat, 15 Nov 2025 16:57:00 -0500 (EST) Subject: |SUCCESS| pw158823-158824 [PATCH] [2/2] net/crc: reduce usage of sta From: dpdklab@iol.unh.edu To: Test Report Cc: dpdk-test-reports@iol.unh.edu In-Reply-To: <20251115101140.1295642-2-16567adigashreesh@gmail.com> References: <20251115101140.1295642-2-16567adigashreesh@gmail.com> Content-Type: text/plain X-BeenThere: test-report@dpdk.org X-Mailman-Version: 2.1.29 Precedence: list List-Id: automatic DPDK test reports List-Unsubscribe: , List-Archive: List-Post: List-Help: List-Subscribe: , Errors-To: test-report-bounces@dpdk.org Test-Label: iol-unit-amd64-testing Test-Status: SUCCESS http://dpdk.org/patch/158824 _Testing PASS_ Submitter: Shreesh Adiga <16567adigashreesh@gmail.com> Date: Saturday, November 15 2025 10:09:59 DPDK git baseline: Repo:dpdk Branch: master CommitID:be0112878b4fc3a1b918370ed2fe615c52039d77 158823-158824 --> testing pass Upstream job id: Generic-VM-Unit-Test-DPDK#32604 Test environment and result as below: +-------------------------------+----------------+ | Environment | dpdk_unit_test | +===============================+================+ | Red Hat Enterprise Linux 8.10 | PASS | +-------------------------------+----------------+ | Fedora Linux 42 | PASS | +-------------------------------+----------------+ | Fedora Linux 40 | PASS | +-------------------------------+----------------+ | CentOS Stream 9 | PASS | +-------------------------------+----------------+ | Ubuntu 20.04 | PASS | +-------------------------------+----------------+ | Fedora Linux 41 | PASS | +-------------------------------+----------------+ | Ubuntu 22.04 | PASS | +-------------------------------+----------------+ | Red Hat Enterprise Linux 9.5 | PASS | +-------------------------------+----------------+ | Ubuntu 24.04 | PASS | +-------------------------------+----------------+ | CentOS Stream 10 | PASS | +-------------------------------+----------------+ | Debian GNU/Linux 12 | PASS | +-------------------------------+----------------+ | Windows Server 2022 | PASS | +-------------------------------+----------------+ Red Hat Enterprise Linux 8.10 Kernel: 5.15 Compiler: gcc gcc (GCC) 8.5.0 20210514 (Red Hat 8.5.0-22) Fedora Linux 42 Kernel: 5.15 Compiler: gcc gcc (GCC) 15.2.1 20250808 (Red Hat 15.2.1-1) Fedora Linux 40 Kernel: 5.15 Compiler: clang gcc (GCC) 14.2.1 20240912 (Red Hat 14.2.1-3) CentOS Stream 9 Kernel: 5.15 Compiler: gcc gcc (GCC) 11.5.0 20240719 (Red Hat 11.5.0-11) Ubuntu 20.04 Kernel: 5.15 Compiler: gcc gcc (Ubuntu 9.4.0-1ubuntu1~20.04.2) 9.4.0 Fedora Linux 41 Kernel: 5.15 Compiler: gcc gcc (GCC) 14.3.1 20250523 (Red Hat 14.3.1-1) Ubuntu 22.04 Kernel: 5.15 Compiler: gcc gcc (Ubuntu 11.4.0-1ubuntu1~22.04) 11.4.0 Red Hat Enterprise Linux 9.5 Kernel: 5.15 Compiler: gcc gcc (GCC) 11.5.0 20240719 (Red Hat 11.5.0-2) Ubuntu 24.04 Kernel: 5.15 Compiler: gcc gcc (Ubuntu 13.3.0-6ubuntu2~24.04) 13.3.0 CentOS Stream 10 Kernel: 5.15 Compiler: gcc gcc (GCC) 14.2.1 20250110 (Red Hat 14.2.1-8) Debian GNU/Linux 12 Kernel: 5.15 Compiler: gcc gcc (Debian 12.2.0-14+deb12u1) 12.2.0 Windows Server 2022 Kernel: 10.0.20348.2031 Compiler: clang 15.0.7, gcc 14.1.0 (MinGW), and MSVC VS 19.39.33521 To view detailed results, visit: https://lab.dpdk.org/results/dashboard/patchsets/34606/ UNH-IOL DPDK Community Lab To manage your email subscriptions, visit: https://lab.dpdk.org/results/dashboard/preferences/subscriptions/