From mboxrd@z Thu Jan 1 00:00:00 1970 Return-Path: Received: from mails.dpdk.org (mails.dpdk.org [217.70.189.124]) by inbox.dpdk.org (Postfix) with ESMTP id 7C21E48B1E for ; Sat, 15 Nov 2025 23:48:45 +0100 (CET) Received: from mails.dpdk.org (localhost [127.0.0.1]) by mails.dpdk.org (Postfix) with ESMTP id 57C9C4025E; Sat, 15 Nov 2025 23:48:45 +0100 (CET) Received: from mail-pg1-f226.google.com (mail-pg1-f226.google.com [209.85.215.226]) by mails.dpdk.org (Postfix) with ESMTP id AECD84025E for ; Sat, 15 Nov 2025 23:48:43 +0100 (CET) Received: by mail-pg1-f226.google.com with SMTP id 41be03b00d2f7-bc274b8ab7dso2249782a12.3 for ; Sat, 15 Nov 2025 14:48:43 -0800 (PST) DKIM-Signature: v=1; a=rsa-sha256; c=relaxed/relaxed; d=iol.unh.edu; s=unh-iol; t=1763246922; x=1763851722; darn=dpdk.org; h=cc:to:from:subject:message-id:date:from:to:cc:subject:date :message-id:reply-to; bh=WjrN9ft0dCGBGerUPoCxIk/MC/KejoBRHSc13JrDh54=; b=jGP8Vnouq2Lh5EIskeladixyrBY6GBJPg/zLLqImvjfzJI4g4eXXZjpaPoeHAeOpZo tg9kCJag5vscpAl45OOdXQQmZnu48dOahdUxXNVoVGPSl/n/lPzT3G8Cl4qyEGMya53P MUcKBFrhmMGt/SDTA4jpHbsrW+SeO8xGNcgxk= X-Google-DKIM-Signature: v=1; a=rsa-sha256; c=relaxed/relaxed; d=1e100.net; s=20230601; t=1763246922; x=1763851722; h=cc:to:from:subject:message-id:date:x-gm-gg:x-gm-message-state:from :to:cc:subject:date:message-id:reply-to; bh=WjrN9ft0dCGBGerUPoCxIk/MC/KejoBRHSc13JrDh54=; b=uG8XvFmre5OAtj0GrYPLzbGY7u20UWA7K+CY4B/rXSqMQeTfkdmsH7WosEXbWlOu5y 0quaQsUV07qw11kPrnuEgLKOf35owNoEj1jYyEYUPNAMz1EEvqPiUDMCt2Zl+w3+loEZ AyObFF8W8EpKeS+lzrYUClUrISuDluoo5D1e5W/MZpmrUGQ316Cb/vTFx+D4+ZVS8NCV ABUB1tOR2Zz81enOrPJfa8S5lak0P1vcoq1hb+c4hBqzNGTz6EumgwFOXx/oyDpt/52d 2Z9gbVA+wwqa4jtD3c5WtjI6iRghl7/QPpgmjPUb2gwdd9XGVe5hRlDjj6U+bWWKSqg2 B2lg== X-Gm-Message-State: AOJu0YwfL2HUtfta84neP9l25zXLIj2ZAajN+xcNtKgo41PN60VYD671 rLeCRZdm/5WL++lvLiI1j4WuLJ8RdHZPIA7Bj7oUdP6YfAoY1y6TuvDF2HpfNV3Keav+SuxOE1d 3myjXGjHgmXfQ2bLtkWonp5xfOzPT4HYn3VKZncxWY4iLJsKml7g+ X-Gm-Gg: ASbGncvtOUvlnk1Feyjq6oMc+to+tnWYAbrav2HrOTiKnl2sgpvu6WpdqFOB96XAU/O V3zLVw52WfCx7MTAFpp46quPuMgheEolBZZX09jh3sQvd3pzG8lihJ0RYaeL5F4aEOMWR1FN1ar 4Gqecvf2bb5yaI/uVHUyv53jtIswZVJgHaK+BLISSOJSjW1bFRPP0/s5y/whGcIQl3aA5EU7adc WZpeqwkiE+IWqefQ9c9B449Umxl3cpp/On95oG+0k2cXlvEEm9PTVfSGeWcwGoQLmVpwYoHsao3 TnL5BspZfnmpVc3WgCqC9GSVEtE2+HP2DnyBvPk3OlZgOPn2R/2dx5VHc5zlvZ0M+ZDo5Ff0CAU w+7KB+sFq X-Google-Smtp-Source: AGHT+IGwsQy8ANWqnRZ0XSnS+Hcttqhy3kDoTqPSXytuDd9c1hHuh+fpQLHrN7+Krc/Zx5SO8rm3V9LDIXaq X-Received: by 2002:a05:7022:2218:b0:11b:82b8:40ae with SMTP id a92af1059eb24-11b82b8482cmr1915136c88.18.1763246922520; Sat, 15 Nov 2025 14:48:42 -0800 (PST) Received: from postal.iol.unh.edu (postal.iol.unh.edu. [2606:4100:3880:1234::84]) by smtp-relay.gmail.com with ESMTPS id a92af1059eb24-11b9dbd6e9dsm256244c88.1.2025.11.15.14.48.42 (version=TLS1_2 cipher=ECDHE-ECDSA-AES128-GCM-SHA256 bits=128/128); Sat, 15 Nov 2025 14:48:42 -0800 (PST) X-Relaying-Domain: iol.unh.edu Date: Sat, 15 Nov 2025 14:48:42 -0800 (PST) Message-ID: <6919034a.050a0220.29fa62.cc72SMTPIN_ADDED_MISSING@mx.google.com> Received: from [172.21.0.2] (unknown [172.18.0.240]) by postal.iol.unh.edu (Postfix) with ESMTP id 8371260003F4; Sat, 15 Nov 2025 17:48:41 -0500 (EST) Subject: |SUCCESS| [GIT MASTER] 0bd935abcb823f581ce53986986aa54eaf6f8140 From: dpdklab@iol.unh.edu To: Test Report Cc: dpdk-test-reports@iol.unh.edu, Xueming Li , Christian Ehrhardt , Kevin Traynor , Luca Boccassi Content-Type: text/plain X-BeenThere: test-report@dpdk.org X-Mailman-Version: 2.1.29 Precedence: list List-Id: automatic DPDK test reports List-Unsubscribe: , List-Archive: List-Post: List-Help: List-Subscribe: , Errors-To: test-report-bounces@dpdk.org _Testing PASS_ Branch: tags/v24.11 0bd935abcb823f581ce53986986aa54eaf6f8140 --> testing pass Upstream job id: Generic-DPDK-Compile-Meson#444816 Test environment and result as below: +------------------------------+--------------------+ | Environment | dpdk_meson_compile | +==============================+====================+ | Red Hat Enterprise Linux 9.5 | PASS | +------------------------------+--------------------+ | Ubuntu 20.04 | PASS | +------------------------------+--------------------+ | Debian GNU/Linux 12 | PASS | +------------------------------+--------------------+ | Fedora Linux 42 | PASS | +------------------------------+--------------------+ | Ubuntu 22.04 | PASS | +------------------------------+--------------------+ | Ubuntu 24.04 | PASS | +------------------------------+--------------------+ | CentOS Stream 9 | PASS | +------------------------------+--------------------+ | CentOS Stream 10 | PASS | +------------------------------+--------------------+ Red Hat Enterprise Linux 9.5 Kernel: 5.4 Compiler: gcc gcc (GCC) 11.5.0 20240719 (Red Hat 11.5.0-2) Ubuntu 20.04 Kernel: 5.15 Compiler: aarch64-linux-gnu-gcc gcc (Ubuntu 9.4.0-1ubuntu1~20.04.2) 9.4.0 Debian GNU/Linux 12 Kernel: 5.4 Compiler: gcc gcc (Debian 12.2.0-14+deb12u1) 12.2.0 Fedora Linux 42 Kernel: 5.4 Compiler: gcc gcc (GCC) 15.2.1 20250808 (Red Hat 15.2.1-1) Ubuntu 22.04 Kernel: 5.4 Compiler: gcc gcc (Ubuntu 11.4.0-1ubuntu1~22.04) 11.4.0 Ubuntu 24.04 Kernel: 5.4 Compiler: gcc gcc (Ubuntu 13.3.0-6ubuntu2~24.04) 13.3.0 CentOS Stream 9 Kernel: 5.4 Compiler: gcc gcc (GCC) 11.5.0 20240719 (Red Hat 11.5.0-11) CentOS Stream 10 Kernel: 5.4 Compiler: gcc gcc (GCC) 14.2.1 20250110 (Red Hat 14.2.1-8) To view detailed results, visit: https://lab.dpdk.org/results/dashboard/tarballs/35608/ UNH-IOL DPDK Community Lab To manage your email subscriptions, visit: https://lab.dpdk.org/results/dashboard/preferences/subscriptions/