From mboxrd@z Thu Jan 1 00:00:00 1970 Return-Path: Received: from mails.dpdk.org (mails.dpdk.org [217.70.189.124]) by inbox.dpdk.org (Postfix) with ESMTP id 2D49948B09 for ; Sun, 16 Nov 2025 00:21:10 +0100 (CET) Received: from mails.dpdk.org (localhost [127.0.0.1]) by mails.dpdk.org (Postfix) with ESMTP id 09D824025E; Sun, 16 Nov 2025 00:21:10 +0100 (CET) Received: from mail-pl1-f227.google.com (mail-pl1-f227.google.com [209.85.214.227]) by mails.dpdk.org (Postfix) with ESMTP id 7DBF14025E for ; Sun, 16 Nov 2025 00:21:08 +0100 (CET) Received: by mail-pl1-f227.google.com with SMTP id d9443c01a7336-297ec50477aso23028025ad.1 for ; Sat, 15 Nov 2025 15:21:08 -0800 (PST) DKIM-Signature: v=1; a=rsa-sha256; c=relaxed/relaxed; d=iol.unh.edu; s=unh-iol; t=1763248867; x=1763853667; darn=dpdk.org; h=cc:to:from:subject:message-id:date:from:to:cc:subject:date :message-id:reply-to; bh=7erWY2724JxE+x26BAHVV5SpzW90Fx9RvE/rHkcvmdc=; b=ICfUiI0oH9Ro6OwEXQuC4YAQCDnp9cS4D2WQtCws4eU5JX3yK8OPwHYGmDFaJ2781b 9WBB57vv1mjq/mA014rct7tlQ6pNPYndiCpg1NRGgODFghHi81mva8/3h3WH6mmP+GSg b9twDTrt0suznC/88B2H9N2E9bVupb8A0V+OI= X-Google-DKIM-Signature: v=1; a=rsa-sha256; c=relaxed/relaxed; d=1e100.net; s=20230601; t=1763248867; x=1763853667; h=cc:to:from:subject:message-id:date:x-gm-gg:x-gm-message-state:from :to:cc:subject:date:message-id:reply-to; bh=7erWY2724JxE+x26BAHVV5SpzW90Fx9RvE/rHkcvmdc=; b=WFKOsKASxF9KeICX0Ee8hRTJ9iwz+a9Yf7MR5IiAwIJX07eIrExf+wtigLoJrudBQ0 okqvjGW3BFRUXBdWfp3bOw7hX8TLxPE3MisiJ7fRMWCRyo83QpsDc3sswnYELlg94KBe dbjz2dEUITWOJlZYJEm53JKzQUrEohtOaZReU2rlwNZ/nCoUajwPLAkw5eJt2ikptxXC hvCOSz0yWZYT3iwNntgkcGlkrSKSp3grK0KG7Ng5zQEgtm2GZPHZUva+rIg50RVwF3tQ XYa2a/Q2EaptjchHiDJf+AN+qezQXdx2/yC4Go6m9ez1CBJQDN24DbD0hxIHsF59ypYe V0pQ== X-Gm-Message-State: AOJu0YxdvXekz/4+SqBmKrgQw4cXE/xbv+OPzcXt8F6ZqRlOQ1q//mtA b4eNqM3FnXBW4KCTnfUgECjaEc47nJb1ZWTceRG9soWt4rea+F2eMmFIWnetu/0ntJJssS22mP9 3dc5c9lN+15uathyWCJDc6y3Ib41iIeEH0OGP X-Gm-Gg: ASbGncsrcPOwauZIK1WmYxiQ9Lmn0pJvkJh/vo+kLpV/NvUtspIc6dO5tBjK2XbPqEu xtNY/d2ZLEtUCWk55+uIekHMkkJUg55csoI2C+GJCkRLXDbsQEiviKWegRnpF62VR2HTInyt8KM /NSiexzV5ZJZpwvEcfcN+xsP/uQbNO02qb4Y6QzeyzUTpS1woxbKxkFLv8gU6GuTixQwHsUdztI UU9ZuycZ6cMt+V9rLP3gYK+WqTpppaN+b3B0JJ3rTFvtc4E1L8VvT1/0JIKnJ8eD4OAaVRMbbIb ALTZ5e9IQYp+nPbgtGeyhEiWxIOtrqbKScIXv9HxICkX1SAEY3qNIxF6PQ13cX9KI8Rv3ng58+V Zm7ETR5YwrWTCLF/oBKWEf4/yQ3IEvvU= X-Google-Smtp-Source: AGHT+IH9c4dhbJ7r9IGGhn+22FYM6jezwxL1j7hV0UnQSNcKS9YU8F3K8xzWcSl2lB9RGYGjtDno87jpF9tf X-Received: by 2002:a17:903:19ee:b0:262:f975:fcba with SMTP id d9443c01a7336-29867eed9bdmr84677945ad.9.1763248867474; Sat, 15 Nov 2025 15:21:07 -0800 (PST) Received: from postal.iol.unh.edu (postal.iol.unh.edu. [132.177.123.84]) by smtp-relay.gmail.com with ESMTPS id d9443c01a7336-2985c2422a6sm9907515ad.25.2025.11.15.15.21.07 (version=TLS1_2 cipher=ECDHE-ECDSA-AES128-GCM-SHA256 bits=128/128); Sat, 15 Nov 2025 15:21:07 -0800 (PST) X-Relaying-Domain: iol.unh.edu Date: Sat, 15 Nov 2025 15:21:07 -0800 (PST) Message-ID: <69190ae3.170a0220.2917a7.1b70SMTPIN_ADDED_MISSING@mx.google.com> Received: from [172.21.0.4] (unknown [172.18.0.240]) by postal.iol.unh.edu (Postfix) with ESMTP id D08BA6051830; Sat, 15 Nov 2025 18:21:06 -0500 (EST) Subject: |WARNING| [GIT MASTER] 62f583c49bf67dd4d6733ece14e55fe6839e66d1 From: dpdklab@iol.unh.edu To: Test Report Cc: dpdk-test-reports@iol.unh.edu, Xueming Li , Christian Ehrhardt , Kevin Traynor , Luca Boccassi Content-Type: text/plain X-BeenThere: test-report@dpdk.org X-Mailman-Version: 2.1.29 Precedence: list List-Id: automatic DPDK test reports List-Unsubscribe: , List-Archive: List-Post: List-Help: List-Subscribe: , Errors-To: test-report-bounces@dpdk.org _Testing issues_ Branch: tags/v23.11 62f583c49bf67dd4d6733ece14e55fe6839e66d1 --> testing issues Upstream job id: Generic-Unit-Test-DPDK#393029 Test environment and result as below: +------------------------------+----------------+--------------+------------------------------+---------------------------+ | Environment | dpdk_unit_test | lpm_autotest | cryptodev_sw_snow3g_autotest | cryptodev_sw_zuc_autotest | +==============================+================+==============+==============================+===========================+ | Debian GNU/Linux 12 | PASS | SKIPPED | SKIPPED | SKIPPED | +------------------------------+----------------+--------------+------------------------------+---------------------------+ | CentOS Stream 10 | PASS | SKIPPED | SKIPPED | SKIPPED | +------------------------------+----------------+--------------+------------------------------+---------------------------+ | Fedora Linux 40 | PASS | SKIPPED | SKIPPED | SKIPPED | +------------------------------+----------------+--------------+------------------------------+---------------------------+ | CentOS Stream 9 | PASS | SKIPPED | SKIPPED | SKIPPED | +------------------------------+----------------+--------------+------------------------------+---------------------------+ | Fedora Linux 41 | PASS | SKIPPED | SKIPPED | SKIPPED | +------------------------------+----------------+--------------+------------------------------+---------------------------+ | Ubuntu 20.04 | PASS | PASS | SKIPPED | SKIPPED | +------------------------------+----------------+--------------+------------------------------+---------------------------+ | Fedora Linux 42 | PASS | SKIPPED | SKIPPED | SKIPPED | +------------------------------+----------------+--------------+------------------------------+---------------------------+ | Red Hat Enterprise Linux 9.5 | PASS | SKIPPED | SKIPPED | SKIPPED | +------------------------------+----------------+--------------+------------------------------+---------------------------+ | Ubuntu 22.04 | PASS | SKIPPED | SKIPPED | SKIPPED | +------------------------------+----------------+--------------+------------------------------+---------------------------+ | Ubuntu 24.04 | PASS | SKIPPED | SKIPPED | SKIPPED | +------------------------------+----------------+--------------+------------------------------+---------------------------+ | Debian 12 (arm) | SKIPPED | SKIPPED | PASS | PASS | +------------------------------+----------------+--------------+------------------------------+---------------------------+ Debian GNU/Linux 12 Kernel: 5.4 Compiler: gcc gcc (Debian 12.2.0-14+deb12u1) 12.2.0 CentOS Stream 10 Kernel: 5.4 Compiler: gcc gcc (GCC) 14.2.1 20250110 (Red Hat 14.2.1-8) Fedora Linux 40 Kernel: 5.4 Compiler: gcc gcc (GCC) 14.2.1 20240912 (Red Hat 14.2.1-3) CentOS Stream 9 Kernel: 5.4 Compiler: gcc gcc (GCC) 11.5.0 20240719 (Red Hat 11.5.0-11) Fedora Linux 41 Kernel: 5.4 Compiler: clang gcc (GCC) 14.3.1 20250523 (Red Hat 14.3.1-1) Ubuntu 20.04 Kernel: 5.4 Compiler: gcc gcc (Ubuntu 9.4.0-1ubuntu1~20.04.2) 9.4.0 Fedora Linux 42 Kernel: 5.4 Compiler: gcc gcc (GCC) 15.2.1 20250808 (Red Hat 15.2.1-1) Red Hat Enterprise Linux 9.5 Kernel: 5.4 Compiler: gcc gcc (GCC) 11.5.0 20240719 (Red Hat 11.5.0-2) Ubuntu 22.04 Kernel: 5.4 Compiler: gcc gcc (Ubuntu 11.4.0-1ubuntu1~22.04) 11.4.0 Ubuntu 24.04 Kernel: 5.4 Compiler: gcc gcc (Ubuntu 13.3.0-6ubuntu2~24.04) 13.3.0 Debian 12 (arm) Kernel: Depends on container host Compiler: gcc (Debian 12.2.0-14) 12.2.0 To view detailed results, visit: https://lab.dpdk.org/results/dashboard/tarballs/35607/ UNH-IOL DPDK Community Lab To manage your email subscriptions, visit: https://lab.dpdk.org/results/dashboard/preferences/subscriptions/