From mboxrd@z Thu Jan 1 00:00:00 1970 Return-Path: Received: from mails.dpdk.org (mails.dpdk.org [217.70.189.124]) by inbox.dpdk.org (Postfix) with ESMTP id 801E948B09 for ; Sun, 16 Nov 2025 00:33:44 +0100 (CET) Received: from mails.dpdk.org (localhost [127.0.0.1]) by mails.dpdk.org (Postfix) with ESMTP id 5B8024025E; Sun, 16 Nov 2025 00:33:44 +0100 (CET) Received: from mail-pl1-f227.google.com (mail-pl1-f227.google.com [209.85.214.227]) by mails.dpdk.org (Postfix) with ESMTP id E2A004025E for ; Sun, 16 Nov 2025 00:33:42 +0100 (CET) Received: by mail-pl1-f227.google.com with SMTP id d9443c01a7336-297dc3e299bso31448345ad.1 for ; Sat, 15 Nov 2025 15:33:42 -0800 (PST) DKIM-Signature: v=1; a=rsa-sha256; c=relaxed/relaxed; d=iol.unh.edu; s=unh-iol; t=1763249622; x=1763854422; darn=dpdk.org; h=references:in-reply-to:cc:to:from:subject:message-id:date:from:to :cc:subject:date:message-id:reply-to; bh=oQxrKbsFSredLyBRlA/49iBQHfqDktHmX0OdbJ1Unkw=; b=X4u+jp3k7QqUck3X/Kj0oyG85jb4akC9Fxpv+eMN/apKjnnB87U6hJ8DPAyuA3yyUU 0prBGFw0fyJ4B2x3HYvCbgTUj9QH4w1Onh8EwqRUN9NS7tpEsY7Pf/gLkAXe2G242xm5 6mfgg90fbr9FylEUS+yfmWk+2vIcRYWniRgsQ= X-Google-DKIM-Signature: v=1; a=rsa-sha256; c=relaxed/relaxed; d=1e100.net; s=20230601; t=1763249622; x=1763854422; h=references:in-reply-to:cc:to:from:subject:message-id:date:x-gm-gg :x-gm-message-state:from:to:cc:subject:date:message-id:reply-to; bh=oQxrKbsFSredLyBRlA/49iBQHfqDktHmX0OdbJ1Unkw=; b=VMhcYoop9UAdxhZfonH4AYHCIgU1wEWenPwFFWDIymvV7g3rcVHRxpVk7EZIPMixzI Bq1aydA87zunQ7C3rEitqD6XbTkzPXTClaRz+aRpqa0AmBw34xWDQnonkn/ChVcOchm2 pk/diYnCJZCZ+5f3u2OSLQ4jYBMuK2J6EpPeCIgONGAw6jxUT+uDRXOkSlQMdi6DC2/N 4g6buNn8IB2h7+30NiQ6ANMfj+UcC8IjaF6SXdxdWR8uwzkPPmv4pWo7LriXBl2d4AJh 6w61UlBzQmuyzwPKaQIc1+sZyk2Lx9miIHPTO/rf+1izgQABNYi+LUBmLRQLZquCS2Vh pMlg== X-Gm-Message-State: AOJu0YxpOoPIX2IlcZ4CojSRCsc26xBBqycx0xj/cG/vWmBEVmiHgKEV PNTmrmMgIbX9IYv7FvK7MMZVy76tHJos1fVuHOlhkhLrycgc6Xf96Nk3r8+3mrOjtthvloNKzD6 PGMlTOgKako5qNaCZB5huQRr3/re8Qy/so+kgaX4L8hdJKtpTxWWHycfckIjN X-Gm-Gg: ASbGncsC0C0B/wytrwKtmaxT4ti2hLLd/0Hzuxz2nl5YEKUVX+5m63f/ANzx2Fhnegr ON+e2IJ8t5jnKlkTEzHxFiMomOnVYuwcH+K+3MSNqmc81QrTLF9VrdmsF3v/BdxFYyq3CyEEzoW xh7lK5FU4mbZAQc8mTAytYFTbGeKc2ayls+vuNhf21uqwCDU32G9sej0H+JzGtoLc5R61dc/k1+ mg4I82se3q7QWGXy1zn0c2KJuJRt1nFYvT96Qt6kwDQNGa3jDRC7MANXHDeFrpIL2eqJu8k44BZ NlDi3W9ZcnJv4cJh1VZVEjsYzCBc4fUU+8e/U+eejSvlRUYBVSiguS8qH3/Mu0sKLT55h6TPEF/ kGFzzhPii X-Google-Smtp-Source: AGHT+IHz59LlEP9GT5E13l7qtPzfi8bFCsi4CWmFTsEtHroRjkclpTUvSWJJGYdZi6cJr6SuSf1kg2TkfkyW X-Received: by 2002:a17:903:a8f:b0:295:7453:b58b with SMTP id d9443c01a7336-2986a6b56b4mr89627165ad.4.1763249622094; Sat, 15 Nov 2025 15:33:42 -0800 (PST) Received: from postal.iol.unh.edu (postal.iol.unh.edu. [2606:4100:3880:1234::84]) by smtp-relay.gmail.com with ESMTPS id d9443c01a7336-2985c17f8a1sm9714605ad.0.2025.11.15.15.33.41 (version=TLS1_2 cipher=ECDHE-ECDSA-AES128-GCM-SHA256 bits=128/128); Sat, 15 Nov 2025 15:33:42 -0800 (PST) X-Relaying-Domain: iol.unh.edu Date: Sat, 15 Nov 2025 15:33:42 -0800 (PST) Message-ID: <69190dd6.170a0220.c6043.15fbSMTPIN_ADDED_MISSING@mx.google.com> Received: from [172.21.0.3] (unknown [172.18.0.240]) by postal.iol.unh.edu (Postfix) with ESMTP id 4FDB66051830; Sat, 15 Nov 2025 18:33:41 -0500 (EST) Subject: |SUCCESS| pw158821 [PATCH] net/mlx5: fix higher flow tag indexes sup From: dpdklab@iol.unh.edu To: Test Report Cc: dpdk-test-reports@iol.unh.edu In-Reply-To: <20251114201720.1639238-1-dsosnowski@nvidia.com> References: <20251114201720.1639238-1-dsosnowski@nvidia.com> Content-Type: text/plain X-BeenThere: test-report@dpdk.org X-Mailman-Version: 2.1.29 Precedence: list List-Id: automatic DPDK test reports List-Unsubscribe: , List-Archive: List-Post: List-Help: List-Subscribe: , Errors-To: test-report-bounces@dpdk.org Test-Label: iol-compile-arm64-testing Test-Status: SUCCESS http://dpdk.org/patch/158821 _Testing PASS_ Submitter: Dariusz Sosnowski Date: Friday, November 14 2025 20:17:20 DPDK git baseline: Repo:dpdk-next-net-mlx Branch: master CommitID:ae657d56b1f0ea979b3f611edf28d773efc2ddcf 158821 --> testing pass Upstream job id: Generic-DPDK-Compile-Meson#444852 Test environment and result as below: +------------------------------+--------------------+ | Environment | dpdk_meson_compile | +==============================+====================+ | Red Hat Enterprise Linux 9.5 | PASS | +------------------------------+--------------------+ | Ubuntu 20.04 | PASS | +------------------------------+--------------------+ | Debian GNU/Linux 12 | PASS | +------------------------------+--------------------+ | Fedora Linux 42 | PASS | +------------------------------+--------------------+ | Ubuntu 22.04 | PASS | +------------------------------+--------------------+ | Ubuntu 24.04 | PASS | +------------------------------+--------------------+ | CentOS Stream 9 | PASS | +------------------------------+--------------------+ | CentOS Stream 10 | PASS | +------------------------------+--------------------+ Red Hat Enterprise Linux 9.5 Kernel: 5.4 Compiler: gcc gcc (GCC) 11.5.0 20240719 (Red Hat 11.5.0-2) Ubuntu 20.04 Kernel: 5.15 Compiler: aarch64-linux-gnu-gcc gcc (Ubuntu 9.4.0-1ubuntu1~20.04.2) 9.4.0 Debian GNU/Linux 12 Kernel: 5.4 Compiler: gcc gcc (Debian 12.2.0-14+deb12u1) 12.2.0 Fedora Linux 42 Kernel: 5.4 Compiler: gcc gcc (GCC) 15.2.1 20250808 (Red Hat 15.2.1-1) Ubuntu 22.04 Kernel: 5.4 Compiler: gcc gcc (Ubuntu 11.4.0-1ubuntu1~22.04) 11.4.0 Ubuntu 24.04 Kernel: 5.4 Compiler: gcc gcc (Ubuntu 13.3.0-6ubuntu2~24.04) 13.3.0 CentOS Stream 9 Kernel: 5.4 Compiler: gcc gcc (GCC) 11.5.0 20240719 (Red Hat 11.5.0-11) CentOS Stream 10 Kernel: 5.4 Compiler: gcc gcc (GCC) 14.2.1 20250110 (Red Hat 14.2.1-8) To view detailed results, visit: https://lab.dpdk.org/results/dashboard/patchsets/34603/ UNH-IOL DPDK Community Lab To manage your email subscriptions, visit: https://lab.dpdk.org/results/dashboard/preferences/subscriptions/