From mboxrd@z Thu Jan 1 00:00:00 1970 Return-Path: Received: from mails.dpdk.org (mails.dpdk.org [217.70.189.124]) by inbox.dpdk.org (Postfix) with ESMTP id 66CF848B11 for ; Sun, 16 Nov 2025 00:55:02 +0100 (CET) Received: from mails.dpdk.org (localhost [127.0.0.1]) by mails.dpdk.org (Postfix) with ESMTP id 46F034025E; Sun, 16 Nov 2025 00:55:02 +0100 (CET) Received: from mail-oa1-f99.google.com (mail-oa1-f99.google.com [209.85.160.99]) by mails.dpdk.org (Postfix) with ESMTP id F05144025E for ; Sun, 16 Nov 2025 00:55:00 +0100 (CET) Received: by mail-oa1-f99.google.com with SMTP id 586e51a60fabf-3e89a44007dso276709fac.1 for ; Sat, 15 Nov 2025 15:55:00 -0800 (PST) DKIM-Signature: v=1; a=rsa-sha256; c=relaxed/relaxed; d=iol.unh.edu; s=unh-iol; t=1763250900; x=1763855700; darn=dpdk.org; h=references:in-reply-to:cc:to:from:subject:message-id:date:from:to :cc:subject:date:message-id:reply-to; bh=gvMm3cIa4lzR8D+aPmAia+Y219xRZCOKQrlurHgYeEw=; b=TyNZr0JlpNgXdJB61RIQl98MhhhLR5CxzIwYVFnqV2ntZV3v5tCKBYRKR8SoJk9pPW fHpew1rgmRyZ5+ncIDgcPyA7MB7Ug8a7JOwWdIaWQu/WfaSdxx9etCai4BOMTpTxBL0/ g1ujd/ARjw1YgJAiIhrTnUzCOm+Ni1SlaPtbc= X-Google-DKIM-Signature: v=1; a=rsa-sha256; c=relaxed/relaxed; d=1e100.net; s=20230601; t=1763250900; x=1763855700; h=references:in-reply-to:cc:to:from:subject:message-id:date:x-gm-gg :x-gm-message-state:from:to:cc:subject:date:message-id:reply-to; bh=gvMm3cIa4lzR8D+aPmAia+Y219xRZCOKQrlurHgYeEw=; b=Rqenr0oWq+RNFwGCw1Fa8buSmYM2ygagQ5fxPzDO28ogsS6w1pJG4WB84gYXOQHQ0H k1QUC9JmniuEqd/Jvh1CPOZ7BiLob0FoYyRnPKwlrbIx5Ag0nPq4onKyR+9WKWpqDuWI h5sVOtEoiWfVEzfdELsUvAnPDvqkDGIbGVKDI9Yi1BlQi1/Wc+LM45zB2UM7bw8EWJdF ijnGqcfFDPxe8WGFGbnfErlB5Uqkg3LIUJbuhV2pC7Xl+0WQRATAvcee3bEm88PHAsVn 6KrqiPLFKAnCsVydV5IMP6OLs1p92eH92xSmy5LxJO2FbtycYqFX2lo6Y0oFvz/1oMvx IokA== X-Gm-Message-State: AOJu0YwWjYnFhU5A6tPikCl9/FnoXAtwYdxss/+rdsfFZbD727kZZH5+ wnkglUNlKPXkQ8UZ/DFNHVVhTwtJhhmzVvlviqMO2mF2Bhz4uTv4I0pXdP6fRzRoU1ZcuGWgjBH pitepnSF7v0ljZozHzJg9XdJBe35CsrEWEaUuJJ6d9Kf/ X-Gm-Gg: ASbGncvQdejEWIC9uTJs0KKilo8By4tknyUM3fslE5PaBLiPJuDHUbufF1PyDUZ4Nxz dvHmdpkpQQvG5Jpy2Vlg4Fc5yICKQMSy17lt2iNfp+gUSYRF5hftza9sngUEo7j7o+4sGFnVDx0 fhlmT5ZnWauwkWqGtvMI7uYqAvb1V9dZzA4D5dvWM0o3LV15UVorNy6kQpJQr2S9+9JfUcm5584 Yd6LFVTqWDyTGs02aYEYma1YoufGsHjxW9cYKsLUPVDnmVdzsRPdtcsFS4LHqWoudsTzfmDRQCj UpHWTWlnFEqfBo0ktYbEQzbNYJC9Ml4gB+6i0+gLOIjVorxTB6/ifIiMeCQT3FT7yxbP7nr6sAb JWcluq8Sq+BLiGXSUoXrmjVKCNTKDqOA= X-Google-Smtp-Source: AGHT+IGPk2JYz2G2HQyinE+qM2r301YdH3SbKk/0vK1TRKh/nnmEv0u3uCMrwmwqxbHe9SpWCIOR4McNCoCq X-Received: by 2002:a05:6870:ec9f:b0:3ec:2fc8:979a with SMTP id 586e51a60fabf-3ec2fc8c2b4mr347243fac.19.1763250900079; Sat, 15 Nov 2025 15:55:00 -0800 (PST) Received: from postal.iol.unh.edu (postal.iol.unh.edu. [132.177.123.84]) by smtp-relay.gmail.com with ESMTPS id 586e51a60fabf-3e8522706d9sm809693fac.14.2025.11.15.15.54.59 (version=TLS1_2 cipher=ECDHE-ECDSA-AES128-GCM-SHA256 bits=128/128); Sat, 15 Nov 2025 15:55:00 -0800 (PST) X-Relaying-Domain: iol.unh.edu Date: Sat, 15 Nov 2025 15:55:00 -0800 (PST) Message-ID: <691912d4.050a0220.25fd18.7c75SMTPIN_ADDED_MISSING@mx.google.com> Received: from [172.21.0.3] (unknown [172.18.0.240]) by postal.iol.unh.edu (Postfix) with ESMTP id A223460003F4; Sat, 15 Nov 2025 18:54:59 -0500 (EST) Subject: |SUCCESS| pw158823-158824 [PATCH] [2/2] net/crc: reduce usage of sta From: dpdklab@iol.unh.edu To: Test Report Cc: dpdk-test-reports@iol.unh.edu In-Reply-To: <20251115101140.1295642-2-16567adigashreesh@gmail.com> References: <20251115101140.1295642-2-16567adigashreesh@gmail.com> Content-Type: text/plain X-BeenThere: test-report@dpdk.org X-Mailman-Version: 2.1.29 Precedence: list List-Id: automatic DPDK test reports List-Unsubscribe: , List-Archive: List-Post: List-Help: List-Subscribe: , Errors-To: test-report-bounces@dpdk.org Test-Label: iol-compile-arm64-testing Test-Status: SUCCESS http://dpdk.org/patch/158824 _Testing PASS_ Submitter: Shreesh Adiga <16567adigashreesh@gmail.com> Date: Saturday, November 15 2025 10:09:59 DPDK git baseline: Repo:dpdk Branch: master CommitID:be0112878b4fc3a1b918370ed2fe615c52039d77 158823-158824 --> testing pass Upstream job id: Generic-DPDK-Compile-Meson#444889 Test environment and result as below: +------------------------------+--------------------+ | Environment | dpdk_meson_compile | +==============================+====================+ | CentOS Stream 9 | PASS | +------------------------------+--------------------+ | Ubuntu 20.04 | PASS | +------------------------------+--------------------+ | Debian GNU/Linux 12 | PASS | +------------------------------+--------------------+ | Red Hat Enterprise Linux 9.5 | PASS | +------------------------------+--------------------+ | CentOS Stream 10 | PASS | +------------------------------+--------------------+ | Fedora Linux 42 | PASS | +------------------------------+--------------------+ | Ubuntu 24.04 | PASS | +------------------------------+--------------------+ | Ubuntu 22.04 | PASS | +------------------------------+--------------------+ CentOS Stream 9 Kernel: 5.4 Compiler: gcc gcc (GCC) 11.5.0 20240719 (Red Hat 11.5.0-11) Ubuntu 20.04 Kernel: 5.15 Compiler: gcc gcc (Ubuntu 9.4.0-1ubuntu1~20.04.2) 9.4.0 Debian GNU/Linux 12 Kernel: 5.4 Compiler: gcc gcc (Debian 12.2.0-14+deb12u1) 12.2.0 Red Hat Enterprise Linux 9.5 Kernel: 5.4 Compiler: gcc gcc (GCC) 11.5.0 20240719 (Red Hat 11.5.0-2) CentOS Stream 10 Kernel: 5.4 Compiler: gcc gcc (GCC) 14.2.1 20250110 (Red Hat 14.2.1-8) Fedora Linux 42 Kernel: 5.4 Compiler: clang gcc (GCC) 15.2.1 20250808 (Red Hat 15.2.1-1) Ubuntu 24.04 Kernel: 5.4 Compiler: gcc gcc (Ubuntu 13.3.0-6ubuntu2~24.04) 13.3.0 Ubuntu 22.04 Kernel: 5.4 Compiler: gcc gcc (Ubuntu 11.4.0-1ubuntu1~22.04) 11.4.0 To view detailed results, visit: https://lab.dpdk.org/results/dashboard/patchsets/34606/ UNH-IOL DPDK Community Lab To manage your email subscriptions, visit: https://lab.dpdk.org/results/dashboard/preferences/subscriptions/