From mboxrd@z Thu Jan 1 00:00:00 1970 Return-Path: Received: from mails.dpdk.org (mails.dpdk.org [217.70.189.124]) by inbox.dpdk.org (Postfix) with ESMTP id 5777048B11 for ; Sun, 16 Nov 2025 03:11:15 +0100 (CET) Received: from mails.dpdk.org (localhost [127.0.0.1]) by mails.dpdk.org (Postfix) with ESMTP id 504474026C; Sun, 16 Nov 2025 03:11:15 +0100 (CET) Received: from mail-qk1-f225.google.com (mail-qk1-f225.google.com [209.85.222.225]) by mails.dpdk.org (Postfix) with ESMTP id 14A4F4026C for ; Sun, 16 Nov 2025 03:11:14 +0100 (CET) Received: by mail-qk1-f225.google.com with SMTP id af79cd13be357-8b2ea2b9631so2724785a.3 for ; Sat, 15 Nov 2025 18:11:14 -0800 (PST) DKIM-Signature: v=1; a=rsa-sha256; c=relaxed/relaxed; d=iol.unh.edu; s=unh-iol; t=1763259073; x=1763863873; darn=dpdk.org; h=cc:to:from:subject:message-id:date:from:to:cc:subject:date :message-id:reply-to; bh=unwI5fkBWaTZgs3xuXgWfZkGVAPkmpRaZ2RpZv/rPfM=; b=e3IX1RIM6d8KT6O5kSWCWxqENfD722SnPoqNbZFSGs3+8A3I2aP95DQQvX9xQ64j4G q+gLDRXSVUWJJN9lR4rO7agUxAMW6etg/wAwc32Ye5vdisoomhx3m8fSH6uM88INS60E Qymry4ZVAUgjLelXZQKniOyibWuATfn+N/3Vw= X-Google-DKIM-Signature: v=1; a=rsa-sha256; c=relaxed/relaxed; d=1e100.net; s=20230601; t=1763259073; x=1763863873; h=cc:to:from:subject:message-id:date:x-gm-gg:x-gm-message-state:from :to:cc:subject:date:message-id:reply-to; bh=unwI5fkBWaTZgs3xuXgWfZkGVAPkmpRaZ2RpZv/rPfM=; b=YrPHdKdSebdh2vyitmsHKoI/CvieU6qKThxp/Ok659tB2uIgPJqP6CTaQrXLariP2l Q3uBNtrpDmzmbzqWDyudnxOGQ0FWeKoZMnBJBMmuATK+7Kccu/NVTMyb1JPBMG/6AxL6 m6HQXPW+auOZCQZdbjnqQTWMa3z2707sa0rVmrV5yvE6FWIKDaqzI2RYsgISB0cOVB3J AIwCnUZWKsvBL6slBWah44E1kwTeYmnCok1zGltwkA6e3u4KupPxS71udjJM4pEqxMiG zAd/9QGvq7cZ6NxL/qcXu0jevyAcCaBAMHxWHGanZ+S/NfB4wHEpuTUPvJ+q87CcQmsN xx0g== X-Gm-Message-State: AOJu0YyRIuQkwSXy58PZG/jH7T33ECfhxEabxJbDcS+pn2nVRcsdeqgm 5NFWvBsyOCvImSvjN09v1eG36aNnzQQNMR6VqLd3llgh+0vcIeXBSYCIYEORFLb999Yzrx2pEU/ X/pck0wlQlGw+BIWOBaC1X/D9pf7vBwi81AP22Is66FtE X-Gm-Gg: ASbGnctNpvM6QBuqeKHxZWckMbd6+/Q2dP8KTZ3NB7EgYsFO1XEvs4mxEupH83YBwhj Qzw7OoNZAqg+b7+cApoqWbPIPNsIvIWSuq2wCxincr4LnB9JmhdI7ieSE9d7gnAPwWGUlq48Ouu Td8xlRTeuv5yemKtQlqgfcP+bzyG55udyb0xeMyVcB7lMqaBcaEN+cxUY3aMfbucs5+sUYZzR4w F1LFublStSXfXkr2puJk6Dw4otN0QJUgQZgwiEMWAdJYALtEgzhZ0OwWqHIPux+J3Xt1d1fJca5 YylNbrUM+dTx+FgLxIy9SH087QdRyoBIhgV7cfApc5bAAGD9UqPPnq3rsG+42EvY9bNDGddR4v2 ZLNpSW2513E3nUMZ+ROt7ob+JVPbbBo0= X-Google-Smtp-Source: AGHT+IEVNHSDH4tkXNEE5U3xgrP1KRdd7OQDpXDcQO6dnxeKDADdfQjqvbJr2R1E74IPO+uDYO8tnwxspq06 X-Received: by 2002:a05:620a:46a3:b0:8a4:b9eb:e62a with SMTP id af79cd13be357-8b2c3158f5amr1064816085a.23.1763259073415; Sat, 15 Nov 2025 18:11:13 -0800 (PST) Received: from postal.iol.unh.edu (postal.iol.unh.edu. [132.177.123.84]) by smtp-relay.gmail.com with ESMTPS id af79cd13be357-8b2aef263dfsm89074185a.6.2025.11.15.18.11.13 (version=TLS1_2 cipher=ECDHE-ECDSA-AES128-GCM-SHA256 bits=128/128); Sat, 15 Nov 2025 18:11:13 -0800 (PST) X-Relaying-Domain: iol.unh.edu Date: Sat, 15 Nov 2025 18:11:13 -0800 (PST) Message-ID: <691932c1.050a0220.2e2634.bcd4SMTPIN_ADDED_MISSING@mx.google.com> Received: from [172.21.0.3] (unknown [172.18.0.240]) by postal.iol.unh.edu (Postfix) with ESMTP id 1CEC16051830; Sat, 15 Nov 2025 21:11:13 -0500 (EST) Subject: |SUCCESS| [GIT MASTER] be0112878b4fc3a1b918370ed2fe615c52039d77 From: dpdklab@iol.unh.edu To: Test Report Cc: dpdk-test-reports@iol.unh.edu Content-Type: text/plain X-BeenThere: test-report@dpdk.org X-Mailman-Version: 2.1.29 Precedence: list List-Id: automatic DPDK test reports List-Unsubscribe: , List-Archive: List-Post: List-Help: List-Subscribe: , Errors-To: test-report-bounces@dpdk.org _Testing PASS_ Branch: dpdk be0112878b4fc3a1b918370ed2fe615c52039d77 --> testing pass Upstream job id: Generic-VM-Unit-Test-DPDK#32605 Test environment and result as below: +-------------------------------+----------------+ | Environment | dpdk_unit_test | +===============================+================+ | CentOS Stream 9 | PASS | +-------------------------------+----------------+ | Arch Linux 20250613.0.365270 | PASS | +-------------------------------+----------------+ | CentOS Stream 10 | PASS | +-------------------------------+----------------+ | Fedora Linux 40 | PASS | +-------------------------------+----------------+ | Debian GNU/Linux 12 | PASS | +-------------------------------+----------------+ | Fedora Linux 41 | PASS | +-------------------------------+----------------+ | Red Hat Enterprise Linux 8.10 | PASS | +-------------------------------+----------------+ | Ubuntu 20.04 | PASS | +-------------------------------+----------------+ | Fedora Linux 42 | PASS | +-------------------------------+----------------+ | Ubuntu 22.04 | PASS | +-------------------------------+----------------+ | Red Hat Enterprise Linux 9.5 | PASS | +-------------------------------+----------------+ | Ubuntu 24.04 | PASS | +-------------------------------+----------------+ | Windows Server 2022 | PASS | +-------------------------------+----------------+ CentOS Stream 9 Kernel: 5.15 Compiler: gcc gcc (GCC) 11.5.0 20240719 (Red Hat 11.5.0-11) Arch Linux 20250613.0.365270 Kernel: 5.15 Compiler: gcc gcc (GCC) 15.1.1 20250425 CentOS Stream 10 Kernel: 5.15 Compiler: gcc gcc (GCC) 14.2.1 20250110 (Red Hat 14.2.1-8) Fedora Linux 40 Kernel: 5.15 Compiler: gcc gcc (GCC) 14.2.1 20240912 (Red Hat 14.2.1-3) Debian GNU/Linux 12 Kernel: 5.15 Compiler: gcc gcc (Debian 12.2.0-14+deb12u1) 12.2.0 Fedora Linux 41 Kernel: 5.15 Compiler: gcc gcc (GCC) 14.3.1 20250523 (Red Hat 14.3.1-1) Red Hat Enterprise Linux 8.10 Kernel: 5.15 Compiler: gcc gcc (GCC) 8.5.0 20210514 (Red Hat 8.5.0-22) Ubuntu 20.04 Kernel: 5.15 Compiler: gcc gcc (Ubuntu 9.4.0-1ubuntu1~20.04.2) 9.4.0 Fedora Linux 42 Kernel: 5.15 Compiler: gcc gcc (GCC) 15.2.1 20250808 (Red Hat 15.2.1-1) Ubuntu 22.04 Kernel: 5.15 Compiler: gcc gcc (Ubuntu 11.4.0-1ubuntu1~22.04) 11.4.0 Red Hat Enterprise Linux 9.5 Kernel: 5.15 Compiler: gcc gcc (GCC) 11.5.0 20240719 (Red Hat 11.5.0-2) Ubuntu 24.04 Kernel: 5.15 Compiler: gcc gcc (Ubuntu 13.3.0-6ubuntu2~24.04) 13.3.0 Windows Server 2022 Kernel: 10.0.20348.2031 Compiler: clang 15.0.7, gcc 14.1.0 (MinGW), and MSVC VS 19.39.33521 To view detailed results, visit: https://lab.dpdk.org/results/dashboard/tarballs/35612/ UNH-IOL DPDK Community Lab To manage your email subscriptions, visit: https://lab.dpdk.org/results/dashboard/preferences/subscriptions/