From mboxrd@z Thu Jan 1 00:00:00 1970 Return-Path: Received: from mails.dpdk.org (mails.dpdk.org [217.70.189.124]) by inbox.dpdk.org (Postfix) with ESMTP id 3016C48B11 for ; Sun, 16 Nov 2025 03:18:27 +0100 (CET) Received: from mails.dpdk.org (localhost [127.0.0.1]) by mails.dpdk.org (Postfix) with ESMTP id 135144026C; Sun, 16 Nov 2025 03:18:27 +0100 (CET) Received: from mail-io1-f100.google.com (mail-io1-f100.google.com [209.85.166.100]) by mails.dpdk.org (Postfix) with ESMTP id 3FFFE4026C for ; Sun, 16 Nov 2025 03:18:26 +0100 (CET) Received: by mail-io1-f100.google.com with SMTP id ca18e2360f4ac-948d45692b1so119227739f.0 for ; Sat, 15 Nov 2025 18:18:26 -0800 (PST) DKIM-Signature: v=1; a=rsa-sha256; c=relaxed/relaxed; d=iol.unh.edu; s=unh-iol; t=1763259505; x=1763864305; darn=dpdk.org; h=cc:to:from:subject:message-id:date:from:to:cc:subject:date :message-id:reply-to; bh=0/A25ujp/GAu1M4OfEvUOfSK5j3EQHuVsQZZc7R18WA=; b=XVrmVDNYhjhjeLPtrdZ9WXAxGwOLGLFaIgExk733IkKp7gjKiJpzAOJoQh20xk/BlX SuAtbndHntgt9ClWdi1J2XCfy5S8KNSDX+FNURxNZ/8rLQseMX6+cLOn92X35Wh0M3AE llqyVUocZNOR+9dw8a8Z+YgdWuhBctWzRYbPM= X-Google-DKIM-Signature: v=1; a=rsa-sha256; c=relaxed/relaxed; d=1e100.net; s=20230601; t=1763259505; x=1763864305; h=cc:to:from:subject:message-id:date:x-gm-gg:x-gm-message-state:from :to:cc:subject:date:message-id:reply-to; bh=0/A25ujp/GAu1M4OfEvUOfSK5j3EQHuVsQZZc7R18WA=; b=b29GMEidkzWW3xEQhlN6DFpq99bg48jmlkLjvgUe0LXndlnkLt9n1XGwFy9kKeS7U6 Nz7Kq1Os1XJirgQHyU2IiXd5OrOTMrPaUthsO7KopxnD3FrVPEkRnLtHkOHnfBbrbT6y vphTo6b26yBOvIaG9c9cI4QN6NAy2Kg5ziw6c9mzDwfdnHhBkEyXd2nNMwhBHRD/1nwX ePiAcTjjFfWxGbzYT9V1hB8acAYTLPTk1oj+/LKk3s0N8GslbQEUCeFfUBMvrbd1NHvW XJPWw5J3bhBN98/UeVaCk36H3Bb1358gXu07LsKg2OfZdM4xtlTiPXiE/DclsP36xqom O5+w== X-Gm-Message-State: AOJu0YyFmsdkVzQxF0SCpdMkiJlCrfsCXwXFEjCOYcIIWY6R5qw0lzvx YjjFmkV/9dKpdqwbUzvezOCnJIM337KjOHn1bTrwNttHXh7/T+fGb0b5EB5r3KtrrB/i4KROkQz U36VHb4DRugNh75w7tw48a7NfGJXXuDi+rcsH/Ki1/ikV X-Gm-Gg: ASbGncvdjuaVSuLI+KATtKSfzdjVjfsHg66uPgKQwBcsXbeup6eKkKdZI9HDQ9CI9W6 W4B2F7du+LjcMDk8JEojvU7cyoR9AzUoMHVYBhD8zvFWH3BGwfDorXNQPyXoBz/ciiFYs4vjgUu 6s6NOvy6Uv+uJDpkm5z7T1X4gjhvaWE0s6PjJxxDsDFZ/gLzUsw2gnJirS96FzDMq/aZmbDfKud 0bhUXCIRKO+3AawCDDziPBstIMfYn1U9NuH7FgEgHKS0uG1KIBGzo3L2ZacH+hxx/ra1NkO7x4W FiZkQLxVkHkmKah68PtWwYHw3nlGXxfRRsXsM3mBTBW0dzwW35gqBeFV833YwGC/lmnoyd7yHaR K+Mfj1MLSpSro15v5cgRBaR2Dj9VK5e0= X-Google-Smtp-Source: AGHT+IHduf62XjLGQeIgSxmY+MWMYx1HoTPqjTJVL5GBK/jKvurRpeHgthl7xlRPV80d78QwTD8kVg1mC6eh X-Received: by 2002:a05:6638:f87:b0:5b7:aab8:43d9 with SMTP id 8926c6da1cb9f-5b7c9c78ae8mr3791442173.6.1763259505475; Sat, 15 Nov 2025 18:18:25 -0800 (PST) Received: from postal.iol.unh.edu (postal.iol.unh.edu. [132.177.123.84]) by smtp-relay.gmail.com with ESMTPS id 8926c6da1cb9f-5b7bd31ab8dsm540691173.25.2025.11.15.18.18.25 (version=TLS1_2 cipher=ECDHE-ECDSA-AES128-GCM-SHA256 bits=128/128); Sat, 15 Nov 2025 18:18:25 -0800 (PST) X-Relaying-Domain: iol.unh.edu Date: Sat, 15 Nov 2025 18:18:25 -0800 (PST) Message-ID: <69193471.050a0220.10983b.a4afSMTPIN_ADDED_MISSING@mx.google.com> Received: from [172.21.0.2] (unknown [172.18.0.240]) by postal.iol.unh.edu (Postfix) with ESMTP id CFED86051830; Sat, 15 Nov 2025 21:18:24 -0500 (EST) Subject: |SUCCESS| [GIT MASTER] be0112878b4fc3a1b918370ed2fe615c52039d77 From: dpdklab@iol.unh.edu To: Test Report Cc: dpdk-test-reports@iol.unh.edu Content-Type: text/plain X-BeenThere: test-report@dpdk.org X-Mailman-Version: 2.1.29 Precedence: list List-Id: automatic DPDK test reports List-Unsubscribe: , List-Archive: List-Post: List-Help: List-Subscribe: , Errors-To: test-report-bounces@dpdk.org _Testing PASS_ Branch: dpdk be0112878b4fc3a1b918370ed2fe615c52039d77 --> testing pass Upstream job id: Generic-DPDK-Compile-Meson#444927 Test environment and result as below: +-------------------------------+--------------------+-------------------------+------------------+-------------------+----------------------+ | Environment | dpdk_meson_compile | dpdk_llvm_clang_compile | dpdk_compile_ovs | dpdk_msvc_compile | dpdk_mingw64_compile | +===============================+====================+=========================+==================+===================+======================+ | CentOS Stream 10 | PASS | SKIPPED | SKIPPED | SKIPPED | SKIPPED | +-------------------------------+--------------------+-------------------------+------------------+-------------------+----------------------+ | CentOS Stream 9 | PASS | SKIPPED | SKIPPED | SKIPPED | SKIPPED | +-------------------------------+--------------------+-------------------------+------------------+-------------------+----------------------+ | Debian GNU/Linux 12 | PASS | SKIPPED | SKIPPED | SKIPPED | SKIPPED | +-------------------------------+--------------------+-------------------------+------------------+-------------------+----------------------+ | Ubuntu 20.04 | PASS | SKIPPED | SKIPPED | SKIPPED | SKIPPED | +-------------------------------+--------------------+-------------------------+------------------+-------------------+----------------------+ | Fedora Linux 42 | PASS | SKIPPED | PASS | SKIPPED | SKIPPED | +-------------------------------+--------------------+-------------------------+------------------+-------------------+----------------------+ | openSUSE Leap 15.6 | PASS | SKIPPED | SKIPPED | SKIPPED | SKIPPED | +-------------------------------+--------------------+-------------------------+------------------+-------------------+----------------------+ | Red Hat Enterprise Linux 8.10 | PASS | SKIPPED | SKIPPED | SKIPPED | SKIPPED | +-------------------------------+--------------------+-------------------------+------------------+-------------------+----------------------+ | Ubuntu 22.04 | PASS | SKIPPED | SKIPPED | SKIPPED | SKIPPED | +-------------------------------+--------------------+-------------------------+------------------+-------------------+----------------------+ | Red Hat Enterprise Linux 9.5 | PASS | SKIPPED | SKIPPED | SKIPPED | SKIPPED | +-------------------------------+--------------------+-------------------------+------------------+-------------------+----------------------+ | Ubuntu 24.04 | PASS | SKIPPED | PASS | SKIPPED | SKIPPED | +-------------------------------+--------------------+-------------------------+------------------+-------------------+----------------------+ | Alpine Linux 3.22.0 | PASS | SKIPPED | SKIPPED | SKIPPED | SKIPPED | +-------------------------------+--------------------+-------------------------+------------------+-------------------+----------------------+ | Arch Linux 20250613.0.365270 | PASS | SKIPPED | SKIPPED | SKIPPED | SKIPPED | +-------------------------------+--------------------+-------------------------+------------------+-------------------+----------------------+ | FreeBSD 14.2 | PASS | SKIPPED | SKIPPED | SKIPPED | SKIPPED | +-------------------------------+--------------------+-------------------------+------------------+-------------------+----------------------+ | Windows Server 2022 | SKIPPED | PASS | SKIPPED | PASS | PASS | +-------------------------------+--------------------+-------------------------+------------------+-------------------+----------------------+ CentOS Stream 10 Kernel: 5.15 Compiler: gcc gcc (GCC) 14.2.1 20250110 (Red Hat 14.2.1-8) CentOS Stream 9 Kernel: 5.15 Compiler: gcc gcc (GCC) 11.5.0 20240719 (Red Hat 11.5.0-11) Debian GNU/Linux 12 Kernel: 5.15 Compiler: gcc gcc (Debian 12.2.0-14+deb12u1) 12.2.0 Ubuntu 20.04 Kernel: 4.19 Compiler: gcc gcc (Ubuntu 9.4.0-1ubuntu1~20.04.2) 9.4.0 Fedora Linux 42 Kernel: 5.15 Compiler: clang gcc (GCC) 15.2.1 20250808 (Red Hat 15.2.1-1) openSUSE Leap 15.6 Kernel: 5.15 Compiler: gcc gcc (SUSE Linux) 7.5.0 Red Hat Enterprise Linux 8.10 Kernel: 5.15 Compiler: gcc gcc (GCC) 8.5.0 20210514 (Red Hat 8.5.0-22) Ubuntu 22.04 Kernel: 5.15 Compiler: gcc gcc (Ubuntu 11.4.0-1ubuntu1~22.04) 11.4.0 Red Hat Enterprise Linux 9.5 Kernel: 5.15 Compiler: gcc gcc (GCC) 11.5.0 20240719 (Red Hat 11.5.0-2) Ubuntu 24.04 Kernel: 5.15 Compiler: gcc gcc (Ubuntu 13.3.0-6ubuntu2~24.04) 13.3.0 Alpine Linux 3.22.0 Kernel: 5.15 Compiler: gcc gcc (Alpine 14.2.0) 14.2.0 Arch Linux 20250613.0.365270 Kernel: 5.15 Compiler: gcc gcc (GCC) 15.1.1 20250425 FreeBSD 14.2 Kernel: 14.2-RELEASE Compiler: clang 18.1.6 Windows Server 2022 Kernel: 10.0.20348.2031 Compiler: clang 15.0.7, gcc 14.1.0 (MinGW), and MSVC VS 19.39.33521 To view detailed results, visit: https://lab.dpdk.org/results/dashboard/tarballs/35612/ UNH-IOL DPDK Community Lab To manage your email subscriptions, visit: https://lab.dpdk.org/results/dashboard/preferences/subscriptions/