From mboxrd@z Thu Jan 1 00:00:00 1970 Return-Path: Received: from mails.dpdk.org (mails.dpdk.org [217.70.189.124]) by inbox.dpdk.org (Postfix) with ESMTP id BC9E248B11 for ; Sun, 16 Nov 2025 03:24:44 +0100 (CET) Received: from mails.dpdk.org (localhost [127.0.0.1]) by mails.dpdk.org (Postfix) with ESMTP id 9978E4026C; Sun, 16 Nov 2025 03:24:44 +0100 (CET) Received: from mail-pl1-f227.google.com (mail-pl1-f227.google.com [209.85.214.227]) by mails.dpdk.org (Postfix) with ESMTP id 43A514026C for ; Sun, 16 Nov 2025 03:24:43 +0100 (CET) Received: by mail-pl1-f227.google.com with SMTP id d9443c01a7336-2984dfae043so28889795ad.0 for ; Sat, 15 Nov 2025 18:24:43 -0800 (PST) DKIM-Signature: v=1; a=rsa-sha256; c=relaxed/relaxed; d=iol.unh.edu; s=unh-iol; t=1763259882; x=1763864682; darn=dpdk.org; h=cc:to:from:subject:message-id:date:from:to:cc:subject:date :message-id:reply-to; bh=RV0vbm9Q3pWe38tNQk/AMu/MvFipdkkUWXkggB62/B0=; b=Og7nyhOkNITLELDgB1C/PT9HZJ0lzegcEi1L0WEq6BxVcTrd72z8RLuZ3JUr7Ck13/ vSCdPXiTevhb1Zphm0Iu+D0g6Yu5cP8NoYwMmMIKx4liCemp4lBuwV+T4B177OaI6IR5 SVr2LhQo+IfBy/q2AkzT6SYLIwB3dtwJuD4h8= X-Google-DKIM-Signature: v=1; a=rsa-sha256; c=relaxed/relaxed; d=1e100.net; s=20230601; t=1763259882; x=1763864682; h=cc:to:from:subject:message-id:date:x-gm-gg:x-gm-message-state:from :to:cc:subject:date:message-id:reply-to; bh=RV0vbm9Q3pWe38tNQk/AMu/MvFipdkkUWXkggB62/B0=; b=wNE1YELosrmV9Ohl/lAiKj5DkWzaGaoVUhp6pQp659STyekMxnQZ7YMFw0HJD/pyjc 3fMjRP6ENYfam0lKdIBfD0j4eZWAzAepcUiEEnUtcrvgqFmYixS1e2AuxymOMSEORmd0 VjaCJoct0k5dj8Dilbs60iqGa+JSuNSWXOPfsKJgH4NWvIKvxnUeMY3RJYgL5Xwyb/Hq PfOEN1aGfDkC/0gjEkczHgoKezIuh9GS633lf4TGV2NxWnBzmLtc2yMFt03gkF/irukO pQkiH2UnhIk7JKdebS+TCK6DN7VczGVQyAMRXZ0kFMirbD4PT/9ttOb70YQYGH8Nl6XS eDWg== X-Gm-Message-State: AOJu0Yy/zCZwcZwsLdxAimC8Hu1hUL811Soa+1FskSHBCKEkPWdTQw5x UTFO0oy3aQRMRywG6pv0u+QqziQdWO9mTBi4svsXCpuPm5WwDbCOjQgqv3mgb/mmQvUJhcrseE8 1AKuXoGe4ZXhow06EIpBNXqJBmMaXpG/oUEqWV4Qu8+8o X-Gm-Gg: ASbGncsibDFMkUYfvICyR5HbZvPaKfMli8rCtcmNrsUw3UrFXv0motyCmVZ6O4MuYeQ 3otKF6HOBgfneaGa4HV9ecSRLQMmooKg/L7ki247LUBDWLea1Y/C3wtZ9aA+yznHdAthJbbhm3Q k3bT0uXeNLfANTCE8tiT1NjzWcAbyeS9vXb1S0wHtNHnhtoZ5M/EL+QNgPKiKYfxnRZbcMPTC3m 6ERGclydwK5e7rgsSrKFYBQr1JF88ei5kwKRQI+XyYLW4J+5UqWWAYxg0m2JlJUmqPQIf01AAne Yyd4kdGk6fexZ2bm247kNEX9GNYXNGdentcBgvE/yUeP80TLvUQmN8yjYGRSLVP6Zjr4tYUM/Ac 5KgCSuX+pvvIzwUPrGIOTUDdA8+Lh0DE= X-Google-Smtp-Source: AGHT+IE+zG7MeutMYZubvizEOKsYZ3JxbhBPi0NNDgRNLmFubmLRXbxCbwZH0IxbDBp4Ij+LI26Moe7kXlQy X-Received: by 2002:a17:902:f690:b0:295:24d7:3798 with SMTP id d9443c01a7336-2986a6d0c03mr81732515ad.14.1763259882305; Sat, 15 Nov 2025 18:24:42 -0800 (PST) Received: from postal.iol.unh.edu (postal.iol.unh.edu. [132.177.123.84]) by smtp-relay.gmail.com with ESMTPS id d9443c01a7336-2985ff821c1sm9464255ad.62.2025.11.15.18.24.42 (version=TLS1_2 cipher=ECDHE-ECDSA-AES128-GCM-SHA256 bits=128/128); Sat, 15 Nov 2025 18:24:42 -0800 (PST) X-Relaying-Domain: iol.unh.edu Date: Sat, 15 Nov 2025 18:24:42 -0800 (PST) Message-ID: <691935ea.170a0220.24ea6f.f41aSMTPIN_ADDED_MISSING@mx.google.com> Received: from [172.21.0.4] (unknown [172.18.0.240]) by postal.iol.unh.edu (Postfix) with ESMTP id 8303A6051830; Sat, 15 Nov 2025 21:24:41 -0500 (EST) Subject: |SUCCESS| [GIT MASTER] be0112878b4fc3a1b918370ed2fe615c52039d77 From: dpdklab@iol.unh.edu To: Test Report Cc: dpdk-test-reports@iol.unh.edu Content-Type: text/plain X-BeenThere: test-report@dpdk.org X-Mailman-Version: 2.1.29 Precedence: list List-Id: automatic DPDK test reports List-Unsubscribe: , List-Archive: List-Post: List-Help: List-Subscribe: , Errors-To: test-report-bounces@dpdk.org _Testing PASS_ Branch: dpdk be0112878b4fc3a1b918370ed2fe615c52039d77 --> testing pass Upstream job id: Generic-VM-Unit-Test-DPDK#32606 Test environment and result as below: +-------------------------------+----------------+ | Environment | dpdk_unit_test | +===============================+================+ | CentOS Stream 9 | PASS | +-------------------------------+----------------+ | Arch Linux 20250613.0.365270 | PASS | +-------------------------------+----------------+ | CentOS Stream 10 | PASS | +-------------------------------+----------------+ | Fedora Linux 40 | PASS | +-------------------------------+----------------+ | Debian GNU/Linux 12 | PASS | +-------------------------------+----------------+ | Fedora Linux 41 | PASS | +-------------------------------+----------------+ | Red Hat Enterprise Linux 8.10 | PASS | +-------------------------------+----------------+ | Ubuntu 20.04 | PASS | +-------------------------------+----------------+ | Fedora Linux 42 | PASS | +-------------------------------+----------------+ | Ubuntu 22.04 | PASS | +-------------------------------+----------------+ | Red Hat Enterprise Linux 9.5 | PASS | +-------------------------------+----------------+ | Ubuntu 24.04 | PASS | +-------------------------------+----------------+ | Windows Server 2022 | PASS | +-------------------------------+----------------+ CentOS Stream 9 Kernel: 5.15 Compiler: gcc gcc (GCC) 11.5.0 20240719 (Red Hat 11.5.0-11) Arch Linux 20250613.0.365270 Kernel: 5.15 Compiler: gcc gcc (GCC) 15.1.1 20250425 CentOS Stream 10 Kernel: 5.15 Compiler: gcc gcc (GCC) 14.2.1 20250110 (Red Hat 14.2.1-8) Fedora Linux 40 Kernel: 5.15 Compiler: gcc gcc (GCC) 14.2.1 20240912 (Red Hat 14.2.1-3) Debian GNU/Linux 12 Kernel: 5.15 Compiler: gcc gcc (Debian 12.2.0-14+deb12u1) 12.2.0 Fedora Linux 41 Kernel: 5.15 Compiler: gcc gcc (GCC) 14.3.1 20250523 (Red Hat 14.3.1-1) Red Hat Enterprise Linux 8.10 Kernel: 5.15 Compiler: gcc gcc (GCC) 8.5.0 20210514 (Red Hat 8.5.0-22) Ubuntu 20.04 Kernel: 5.15 Compiler: gcc gcc (Ubuntu 9.4.0-1ubuntu1~20.04.2) 9.4.0 Fedora Linux 42 Kernel: 5.15 Compiler: gcc gcc (GCC) 15.2.1 20250808 (Red Hat 15.2.1-1) Ubuntu 22.04 Kernel: 5.15 Compiler: gcc gcc (Ubuntu 11.4.0-1ubuntu1~22.04) 11.4.0 Red Hat Enterprise Linux 9.5 Kernel: 5.15 Compiler: gcc gcc (GCC) 11.5.0 20240719 (Red Hat 11.5.0-2) Ubuntu 24.04 Kernel: 5.15 Compiler: gcc gcc (Ubuntu 13.3.0-6ubuntu2~24.04) 13.3.0 Windows Server 2022 Kernel: 10.0.20348.2031 Compiler: clang 15.0.7, gcc 14.1.0 (MinGW), and MSVC VS 19.39.33521 To view detailed results, visit: https://lab.dpdk.org/results/dashboard/tarballs/35612/ UNH-IOL DPDK Community Lab To manage your email subscriptions, visit: https://lab.dpdk.org/results/dashboard/preferences/subscriptions/