From mboxrd@z Thu Jan 1 00:00:00 1970 Return-Path: Received: from mails.dpdk.org (mails.dpdk.org [217.70.189.124]) by inbox.dpdk.org (Postfix) with ESMTP id 695CC48B11 for ; Sun, 16 Nov 2025 03:43:40 +0100 (CET) Received: from mails.dpdk.org (localhost [127.0.0.1]) by mails.dpdk.org (Postfix) with ESMTP id 382F94026C; Sun, 16 Nov 2025 03:43:40 +0100 (CET) Received: from mail-oa1-f100.google.com (mail-oa1-f100.google.com [209.85.160.100]) by mails.dpdk.org (Postfix) with ESMTP id 305034026C for ; Sun, 16 Nov 2025 03:43:39 +0100 (CET) Received: by mail-oa1-f100.google.com with SMTP id 586e51a60fabf-3e37ad3d95aso1962300fac.3 for ; Sat, 15 Nov 2025 18:43:39 -0800 (PST) DKIM-Signature: v=1; a=rsa-sha256; c=relaxed/relaxed; d=iol.unh.edu; s=unh-iol; t=1763261018; x=1763865818; darn=dpdk.org; h=cc:to:from:subject:message-id:date:from:to:cc:subject:date :message-id:reply-to; bh=OR+PbtooD3AJVxpWloXZd8XQdrfgrCryuK8xIPoc2ds=; b=anwfB0ZD8SE4o9H/l24ULysqBCs/Sj8gbJEINmFxeV5Oy6sr/dGSPEK8/gXJQGcydV 9O0lmUv3240ptXMyKaWhwI4ujmNxO4Mcmlkedvi61KVErPD/shJHEMblPF4ieRgUVcIB NyuMK4+GmnoKR+gE/Ux+WVgwSeVmi8OnyEO0c= X-Google-DKIM-Signature: v=1; a=rsa-sha256; c=relaxed/relaxed; d=1e100.net; s=20230601; t=1763261018; x=1763865818; h=cc:to:from:subject:message-id:date:x-gm-gg:x-gm-message-state:from :to:cc:subject:date:message-id:reply-to; bh=OR+PbtooD3AJVxpWloXZd8XQdrfgrCryuK8xIPoc2ds=; b=m9kAcDHRj2aZZ0ymfdcGoYp9h5of4lsgbrhDxk1sgqHZqCcJLV54ufPck88wksA3dA 7shKUmjH9pBmXxPOOVIck/dctVyyLXHj52tyfbbOyuKQLT3duTYIs/aO9Q+NX9OqSTx+ ZNFqr9PBG3OBt976QiObz7ZcMN2QgozpcbvGQOjC8+EcD9FI/SwNsA9XIVO5bQqEJRDq b0envHTvXNuBWNl2K4fasXp9E2sCt+GdKwb3Rfje52mrftbrL6mua0y7kOkEtQDjK6wp qH0TNXarbRfNgptASL5dmfpTfl+FQnEUwsVga9FzDawylRZCU2YLiIHePrhz2coTMsSU JW8A== X-Gm-Message-State: AOJu0YxLZ/QpMfUkhzkGakaNKM2s5yXeXckUWPYh6Su+7XP143ZFAP50 EjSRkER/uhW0Lk+qGwTX0RcO9RuZwYViV0QJyHZ/IIwzEAancWsEk7HIm+38UothFmgNnG2NKGf fy0g/iYJG2AfsUMbVxiXHY8O/fAAEcK6GCku+alUATxZs0NRBdUDA X-Gm-Gg: ASbGnctJhj5soeXo5bi/B51Kv3fhV+HtM1mLZHY3fKCypX81mUknAYBO97XTBuQ21mk bEsi4y2VINUfL6V1gSK4ZBcZP3bchRg4yLyyzROjJ6aOHAGYq8LfpVtSH/CcWIfbXwHOaUJUxY3 i6+pqOX5mpaKDfpc12A+nAvO9FOU7VpKgQ9Z7P9XOJZEFYhb5D26Z18+K/QTiXI364dt40HLPaN VrXDRIAUrjI1pL2hE2/SJqYhe195FX6WB0Ue3kjsoI+p06jcF0pXo6gc26WHIr6rhVRYkgXEwci lunHcfojvSPwatGKL9DfYVTqduaA+iLrDdYggAjY7bLGqoEx1sECIJgls1clYBQ9//HCiN7dyki gKVp2eC+3 X-Google-Smtp-Source: AGHT+IHDFL+BjDVq+6KNgRPtdnB/ld8z8W7YkAUVmq3HVwfNlOsj7M6oTo3Buq8KmmX/gNndekWvBTXcHiqQ X-Received: by 2002:a05:6871:6d11:b0:365:c2ed:d5f5 with SMTP id 586e51a60fabf-3e868f51bd4mr3966511fac.15.1763261018220; Sat, 15 Nov 2025 18:43:38 -0800 (PST) Received: from postal.iol.unh.edu (postal.iol.unh.edu. [2606:4100:3880:1234::84]) by smtp-relay.gmail.com with ESMTPS id 46e09a7af769-7c73a291f0bsm912015a34.1.2025.11.15.18.43.38 (version=TLS1_2 cipher=ECDHE-ECDSA-AES128-GCM-SHA256 bits=128/128); Sat, 15 Nov 2025 18:43:38 -0800 (PST) X-Relaying-Domain: iol.unh.edu Date: Sat, 15 Nov 2025 18:43:38 -0800 (PST) Message-ID: <69193a5a.050a0220.36493a.d03bSMTPIN_ADDED_MISSING@mx.google.com> Received: from [172.21.0.3] (unknown [172.18.0.240]) by postal.iol.unh.edu (Postfix) with ESMTP id 82E4960003F4; Sat, 15 Nov 2025 21:43:37 -0500 (EST) Subject: |SUCCESS| [GIT MASTER] 0bd935abcb823f581ce53986986aa54eaf6f8140 From: dpdklab@iol.unh.edu To: Test Report Cc: dpdk-test-reports@iol.unh.edu, Xueming Li , Christian Ehrhardt , Kevin Traynor , Luca Boccassi Content-Type: text/plain X-BeenThere: test-report@dpdk.org X-Mailman-Version: 2.1.29 Precedence: list List-Id: automatic DPDK test reports List-Unsubscribe: , List-Archive: List-Post: List-Help: List-Subscribe: , Errors-To: test-report-bounces@dpdk.org _Testing PASS_ Branch: tags/v24.11 0bd935abcb823f581ce53986986aa54eaf6f8140 --> testing pass Upstream job id: Generic-Unit-Test-DPDK#393057 Test environment and result as below: +------------------------------+----------------+--------------+---------------------------+------------------------------+ | Environment | dpdk_unit_test | lpm_autotest | cryptodev_sw_zuc_autotest | cryptodev_sw_snow3g_autotest | +==============================+================+==============+===========================+==============================+ | CentOS Stream 9 | PASS | SKIPPED | SKIPPED | SKIPPED | +------------------------------+----------------+--------------+---------------------------+------------------------------+ | Fedora Linux 40 | PASS | SKIPPED | SKIPPED | SKIPPED | +------------------------------+----------------+--------------+---------------------------+------------------------------+ | Fedora Linux 42 | PASS | SKIPPED | SKIPPED | SKIPPED | +------------------------------+----------------+--------------+---------------------------+------------------------------+ | Debian GNU/Linux 12 | PASS | SKIPPED | SKIPPED | SKIPPED | +------------------------------+----------------+--------------+---------------------------+------------------------------+ | Fedora Linux 41 | PASS | SKIPPED | SKIPPED | SKIPPED | +------------------------------+----------------+--------------+---------------------------+------------------------------+ | Red Hat Enterprise Linux 9.5 | PASS | SKIPPED | SKIPPED | SKIPPED | +------------------------------+----------------+--------------+---------------------------+------------------------------+ | CentOS Stream 10 | PASS | SKIPPED | SKIPPED | SKIPPED | +------------------------------+----------------+--------------+---------------------------+------------------------------+ | Ubuntu 24.04 | PASS | SKIPPED | SKIPPED | SKIPPED | +------------------------------+----------------+--------------+---------------------------+------------------------------+ | Ubuntu 22.04 | PASS | SKIPPED | SKIPPED | SKIPPED | +------------------------------+----------------+--------------+---------------------------+------------------------------+ | Ubuntu 20.04 | PASS | PASS | SKIPPED | SKIPPED | +------------------------------+----------------+--------------+---------------------------+------------------------------+ | Debian 12 (arm) | SKIPPED | SKIPPED | PASS | PASS | +------------------------------+----------------+--------------+---------------------------+------------------------------+ CentOS Stream 9 Kernel: 5.4 Compiler: gcc gcc (GCC) 11.5.0 20240719 (Red Hat 11.5.0-11) Fedora Linux 40 Kernel: 5.4 Compiler: clang gcc (GCC) 14.2.1 20240912 (Red Hat 14.2.1-3) Fedora Linux 42 Kernel: 5.4 Compiler: gcc gcc (GCC) 15.2.1 20250808 (Red Hat 15.2.1-1) Debian GNU/Linux 12 Kernel: 5.4 Compiler: gcc gcc (Debian 12.2.0-14+deb12u1) 12.2.0 Fedora Linux 41 Kernel: 5.4 Compiler: clang gcc (GCC) 14.3.1 20250523 (Red Hat 14.3.1-1) Red Hat Enterprise Linux 9.5 Kernel: 5.4 Compiler: gcc gcc (GCC) 11.5.0 20240719 (Red Hat 11.5.0-2) CentOS Stream 10 Kernel: 5.4 Compiler: gcc gcc (GCC) 14.2.1 20250110 (Red Hat 14.2.1-8) Ubuntu 24.04 Kernel: 5.4 Compiler: gcc gcc (Ubuntu 13.3.0-6ubuntu2~24.04) 13.3.0 Ubuntu 22.04 Kernel: 5.4 Compiler: gcc gcc (Ubuntu 11.4.0-1ubuntu1~22.04) 11.4.0 Ubuntu 20.04 Kernel: 5.4 Compiler: gcc gcc (Ubuntu 9.4.0-1ubuntu1~20.04.2) 9.4.0 Debian 12 (arm) Kernel: Depends on container host Compiler: gcc (Debian 12.2.0-14) 12.2.0 To view detailed results, visit: https://lab.dpdk.org/results/dashboard/tarballs/35608/ UNH-IOL DPDK Community Lab To manage your email subscriptions, visit: https://lab.dpdk.org/results/dashboard/preferences/subscriptions/