From mboxrd@z Thu Jan 1 00:00:00 1970 Return-Path: Received: from mails.dpdk.org (mails.dpdk.org [217.70.189.124]) by inbox.dpdk.org (Postfix) with ESMTP id 5542E48B1E for ; Sun, 16 Nov 2025 05:24:19 +0100 (CET) Received: from mails.dpdk.org (localhost [127.0.0.1]) by mails.dpdk.org (Postfix) with ESMTP id 336D84026C; Sun, 16 Nov 2025 05:24:19 +0100 (CET) Received: from mail-io1-f100.google.com (mail-io1-f100.google.com [209.85.166.100]) by mails.dpdk.org (Postfix) with ESMTP id 12A054026C for ; Sun, 16 Nov 2025 05:24:17 +0100 (CET) Received: by mail-io1-f100.google.com with SMTP id ca18e2360f4ac-9486adc1aa9so124737239f.1 for ; Sat, 15 Nov 2025 20:24:16 -0800 (PST) DKIM-Signature: v=1; a=rsa-sha256; c=relaxed/relaxed; d=iol.unh.edu; s=unh-iol; t=1763267056; x=1763871856; darn=dpdk.org; h=references:in-reply-to:cc:to:from:subject:message-id:date:from:to :cc:subject:date:message-id:reply-to; bh=ZlUwPQsTM1RDI3UBWJf557+O2wPK5aSeCGYRdmFpas8=; b=F6duaaFm3dJAQXB9W8j8pvLGxqDmdjz2Dq6UJk2jzsTlGelD7msnLr3QPndxNXaSv4 dqeT5J11yI4UXNgardZ9rrFWG/chkL6RxEjcW7PnWXDLF0lMV6N6DdbJIdvqPdJ8IAYc EgIeg75ZIzxUWJ//ztvq/FDTcnzS1abA9aMJc= X-Google-DKIM-Signature: v=1; a=rsa-sha256; c=relaxed/relaxed; d=1e100.net; s=20230601; t=1763267056; x=1763871856; h=references:in-reply-to:cc:to:from:subject:message-id:date:x-gm-gg :x-gm-message-state:from:to:cc:subject:date:message-id:reply-to; bh=ZlUwPQsTM1RDI3UBWJf557+O2wPK5aSeCGYRdmFpas8=; b=HPl4BlkqVLgntRy68L7G9i63OSs05/YCoYL4JjrcNiBp6HSevhjSdfjmjj6hWz5U6U Wnw7TvBQvrRIegKSp+O/ZLuJDiQ/FF2bs0NHmEJymL7Da2RfIakp7wJq5rlNLLHLyslg 9sNcuihyAXaIAAWA0P/R96YY/WKdDr0gR6u+sa7VrABrcVESy8YrvVunbewG1IzEQoA9 dXw9BHSB1DRexqhEEmUCiagcNMezFfPuWlUZucJb4tIcG7khOAX8Akd51z15huu0YwlG JMCySB4vkxi7gMY0LlFQ7iUXSF6vQUJtjvLdE17cz9X3vjl6n9/WwgWkdelhG7x/Uw6m PBkw== X-Gm-Message-State: AOJu0YwDtYnS+zfIYj9l4i/MXEd8R3F9r5yN7A2U48H4UMneOkuzDe4/ dszTZvTi8xDP3ioRIhdvBIOXjBxjwBszU4O2ZoJtT9G3jGCgWrXwVqDXjJ2K/t1LQ8u+iQ2a5OJ zjMoufyPpvxr+U9Hor0ZlBre93j04XKZINovODvLYJwEl X-Gm-Gg: ASbGncsdu/lebV5oOC9m4DLJyrAq2zP+nLsuUamznMlE2ZbW62BzxECoMRFWuAi58FQ JAHJje7BdFx+R2Mw4n6EmY28Ms3tadiMA8gDhhC0FL7LKc6kbFvXNY7NR53O740inKfojv+LNXT 2e/mBTi+ElA492CnTZiAkPH+DW3S/DfIMedOV6LQKR0G/VRQf1fgxeT7w4EPfTqDzu+Gx4weB55 JDYSCJ+xK/Cvw4SBYOg+ip3V4WR1Zrp9xbiVJgLDp5tbcA4i6ZGVqZ44uwJ3z5xtgBww6PpmXSy 5miuYuuoA5BIM+OM68nHkMh7A4wZ8qXyD3PF6odC51JH+ua1bGHEka+fmNWbb9gkhsvEekWFsdi /Bl67IToGDMZOY7InIMwoLrdyqJnJZT8= X-Google-Smtp-Source: AGHT+IEf1o9J+GGv2vKk6LOeWlowN2i+8lfq+CUonVjBhpimsDPEO5K9AII8X7QHGAN6eu9JL4fEg2I8iqDI X-Received: by 2002:a05:6638:2516:b0:5b7:d710:6611 with SMTP id 8926c6da1cb9f-5b7d71067a2mr4831006173.20.1763267056208; Sat, 15 Nov 2025 20:24:16 -0800 (PST) Received: from postal.iol.unh.edu (postal.iol.unh.edu. [132.177.123.84]) by smtp-relay.gmail.com with ESMTPS id 8926c6da1cb9f-5b7bd3356a5sm577831173.31.2025.11.15.20.24.16 (version=TLS1_2 cipher=ECDHE-ECDSA-AES128-GCM-SHA256 bits=128/128); Sat, 15 Nov 2025 20:24:16 -0800 (PST) X-Relaying-Domain: iol.unh.edu Date: Sat, 15 Nov 2025 20:24:16 -0800 (PST) Message-ID: <691951f0.050a0220.21cff4.ca03SMTPIN_ADDED_MISSING@mx.google.com> Received: from [172.21.0.4] (unknown [172.18.0.240]) by postal.iol.unh.edu (Postfix) with ESMTP id B9F5C6051830; Sat, 15 Nov 2025 23:24:15 -0500 (EST) Subject: |SUCCESS| pw158821 [PATCH] net/mlx5: fix higher flow tag indexes sup From: dpdklab@iol.unh.edu To: Test Report Cc: dpdk-test-reports@iol.unh.edu In-Reply-To: <20251114201720.1639238-1-dsosnowski@nvidia.com> References: <20251114201720.1639238-1-dsosnowski@nvidia.com> Content-Type: text/plain X-BeenThere: test-report@dpdk.org X-Mailman-Version: 2.1.29 Precedence: list List-Id: automatic DPDK test reports List-Unsubscribe: , List-Archive: List-Post: List-Help: List-Subscribe: , Errors-To: test-report-bounces@dpdk.org Test-Label: iol-unit-arm64-testing Test-Status: SUCCESS http://dpdk.org/patch/158821 _Testing PASS_ Submitter: Dariusz Sosnowski Date: Friday, November 14 2025 20:17:20 DPDK git baseline: Repo:dpdk-next-net-mlx Branch: master CommitID:ae657d56b1f0ea979b3f611edf28d773efc2ddcf 158821 --> testing pass Upstream job id: Generic-Unit-Test-DPDK#393079 Test environment and result as below: +------------------------------+---------------------------+------------------------------+--------------+----------------+ | Environment | cryptodev_sw_zuc_autotest | cryptodev_sw_snow3g_autotest | lpm_autotest | dpdk_unit_test | +==============================+===========================+==============================+==============+================+ | Debian 12 (arm) | PASS | PASS | SKIPPED | SKIPPED | +------------------------------+---------------------------+------------------------------+--------------+----------------+ | Ubuntu 20.04 | SKIPPED | SKIPPED | PASS | PASS | +------------------------------+---------------------------+------------------------------+--------------+----------------+ | CentOS Stream 10 | SKIPPED | SKIPPED | SKIPPED | PASS | +------------------------------+---------------------------+------------------------------+--------------+----------------+ | Ubuntu 22.04 | SKIPPED | SKIPPED | SKIPPED | PASS | +------------------------------+---------------------------+------------------------------+--------------+----------------+ | Fedora Linux 40 | SKIPPED | SKIPPED | SKIPPED | PASS | +------------------------------+---------------------------+------------------------------+--------------+----------------+ | CentOS Stream 9 | SKIPPED | SKIPPED | SKIPPED | PASS | +------------------------------+---------------------------+------------------------------+--------------+----------------+ | Fedora Linux 42 | SKIPPED | SKIPPED | SKIPPED | PASS | +------------------------------+---------------------------+------------------------------+--------------+----------------+ | Fedora Linux 41 | SKIPPED | SKIPPED | SKIPPED | PASS | +------------------------------+---------------------------+------------------------------+--------------+----------------+ | Red Hat Enterprise Linux 9.5 | SKIPPED | SKIPPED | SKIPPED | PASS | +------------------------------+---------------------------+------------------------------+--------------+----------------+ | Debian GNU/Linux 12 | SKIPPED | SKIPPED | SKIPPED | PASS | +------------------------------+---------------------------+------------------------------+--------------+----------------+ | Ubuntu 24.04 | SKIPPED | SKIPPED | SKIPPED | PASS | +------------------------------+---------------------------+------------------------------+--------------+----------------+ Debian 12 (arm) Kernel: Depends on container host Compiler: gcc (Debian 12.2.0-14) 12.2.0 Ubuntu 20.04 Kernel: 5.4 Compiler: gcc gcc (Ubuntu 9.4.0-1ubuntu1~20.04.2) 9.4.0 CentOS Stream 10 Kernel: 5.4 Compiler: gcc gcc (GCC) 14.2.1 20250110 (Red Hat 14.2.1-8) Ubuntu 22.04 Kernel: 5.15 Compiler: gcc gcc (Ubuntu 11.4.0-1ubuntu1~22.04.2) 11.4.0 Fedora Linux 40 Kernel: 5.4 Compiler: clang gcc (GCC) 14.2.1 20240912 (Red Hat 14.2.1-3) CentOS Stream 9 Kernel: 5.4 Compiler: gcc gcc (GCC) 11.5.0 20240719 (Red Hat 11.5.0-11) Fedora Linux 42 Kernel: 5.4 Compiler: gcc gcc (GCC) 15.2.1 20250808 (Red Hat 15.2.1-1) Fedora Linux 41 Kernel: 5.4 Compiler: clang gcc (GCC) 14.3.1 20250523 (Red Hat 14.3.1-1) Red Hat Enterprise Linux 9.5 Kernel: 5.4 Compiler: gcc gcc (GCC) 11.5.0 20240719 (Red Hat 11.5.0-2) Debian GNU/Linux 12 Kernel: 5.4 Compiler: gcc gcc (Debian 12.2.0-14+deb12u1) 12.2.0 Ubuntu 24.04 Kernel: 5.4 Compiler: gcc gcc (Ubuntu 13.3.0-6ubuntu2~24.04) 13.3.0 To view detailed results, visit: https://lab.dpdk.org/results/dashboard/patchsets/34603/ UNH-IOL DPDK Community Lab To manage your email subscriptions, visit: https://lab.dpdk.org/results/dashboard/preferences/subscriptions/