From mboxrd@z Thu Jan 1 00:00:00 1970 Return-Path: Received: from mails.dpdk.org (mails.dpdk.org [217.70.189.124]) by inbox.dpdk.org (Postfix) with ESMTP id E2BF248B1E for ; Sun, 16 Nov 2025 05:30:40 +0100 (CET) Received: from mails.dpdk.org (localhost [127.0.0.1]) by mails.dpdk.org (Postfix) with ESMTP id DDD8E4026C; Sun, 16 Nov 2025 05:30:40 +0100 (CET) Received: from mail-pf1-f228.google.com (mail-pf1-f228.google.com [209.85.210.228]) by mails.dpdk.org (Postfix) with ESMTP id 975414026C for ; Sun, 16 Nov 2025 05:30:39 +0100 (CET) Received: by mail-pf1-f228.google.com with SMTP id d2e1a72fcca58-7b86e0d9615so2927495b3a.0 for ; Sat, 15 Nov 2025 20:30:39 -0800 (PST) DKIM-Signature: v=1; a=rsa-sha256; c=relaxed/relaxed; d=iol.unh.edu; s=unh-iol; t=1763267439; x=1763872239; darn=dpdk.org; h=cc:to:from:subject:message-id:date:from:to:cc:subject:date :message-id:reply-to; bh=4s8gcYfbYgTPlPmdrhk0JijgnXzIXmNaDWtVlJAwDUM=; b=hTf6TE0C0Ao16xFciAQu2HryuT3Z02Hzp5BdUj903H/gHEgIsmfO2uKd2apy2wywS5 xAQ8K/lor1VrnqP3lJ68id2gEQpBjS/+d0djiPLy6AHFcpfJyhBpA26zdAe0nIK2q5JH DplwMEVqhtvBdyTF2k0kIplvr4WrmYA+GJT4Q= X-Google-DKIM-Signature: v=1; a=rsa-sha256; c=relaxed/relaxed; d=1e100.net; s=20230601; t=1763267439; x=1763872239; h=cc:to:from:subject:message-id:date:x-gm-gg:x-gm-message-state:from :to:cc:subject:date:message-id:reply-to; bh=4s8gcYfbYgTPlPmdrhk0JijgnXzIXmNaDWtVlJAwDUM=; b=SdVH4uznoEcu+Z6gW2kCS+rEF6O0Wo85ZRRqmP0+7VHnJYIQ3d3fZEZqW7fJFYdat0 IaWRWs7zAzYJzcS2V8laiJyb+rqfAcKNJBCjysDbP/m7qUIV3vB8Kr0miA73096MBNIa gBq7laghEpmwmrnak6cXP+FZ1QFrrO3SvLluj2sqSI4wUCJP5VTrUZCCaQzS1Di0XrIB UsekbVcfjmxmOU2pxSyfKBmVIK4DZ8JFWbTcPvfJ49UeTAZYaIrdYC1YRxwv6kfMmIbH ee1MtMH+gszAXURyh2zsZRJT6ocvq93OlYu9Ym9vdu7jyCrCFDoogcWDfIKXq9jv2cQ/ Q3SA== X-Gm-Message-State: AOJu0YybmRkX0vr/NDG4+ZTbXUcoiRnqO6gimw/5aDmEvn3G8grNbBvu pAsq5pT9aJsVwoNreFY95+w81bACHKGaJDrUJSdACLvZwHZs4YKYIQlhgzIa/S7dHkiT04op8zO TtBM36XBg7/yzFsI2VjK5gfhWOaidTCoWiU8+2oM1n2TF X-Gm-Gg: ASbGnctc769d6TBNgk4iwWD4Zm9/9VAEltbg6+cqLS0MT3QuhbI7BemDzLXAU4OKREh ehdqdhAqwBp5z6wKIBjKm9RdRkvpQJckvEvQuJSPMWsCxpGoYk1cmXwkueX9yRI4VPIYNLn1RU/ nwg2u5xTV12ghEJO1IvGRFfEICtGEtGMIcJ/8dbrtKpLwQidK5325fThn7fNGKXmzZ5kFQYihO0 IRjKlnRHkRzbqRdIA50QqbVGdjWxGCvocsuF71iytvcgXYRCPvzQrc6P51MOEPcHEYvRrm4iqeT gsbKX1zcCMZ4gh+xyBTAADe34N0izX/cVtziKlSIstvFOC14jU5uqfcS2ccPFcrCMwEUbMFiuXg Pn9O7e6oQeNE6DlLM6OWXnarlxQIHXOo= X-Google-Smtp-Source: AGHT+IF04kYjeyA1m5gOSklJ826QJTKuVPNwRvVLPl5CbHitw6qsrM+fkvV6J/K5gG40HUP18s+cwmwjajLJ X-Received: by 2002:a05:6a20:9482:b0:35b:b97f:7bd2 with SMTP id adf61e73a8af0-35bb97f7d3bmr8034398637.10.1763267438732; Sat, 15 Nov 2025 20:30:38 -0800 (PST) Received: from postal.iol.unh.edu (postal.iol.unh.edu. [132.177.123.84]) by smtp-relay.gmail.com with ESMTPS id 41be03b00d2f7-bc36fa01c76sm604619a12.7.2025.11.15.20.30.38 (version=TLS1_2 cipher=ECDHE-ECDSA-AES128-GCM-SHA256 bits=128/128); Sat, 15 Nov 2025 20:30:38 -0800 (PST) X-Relaying-Domain: iol.unh.edu Date: Sat, 15 Nov 2025 20:30:38 -0800 (PST) Message-ID: <6919536e.050a0220.27c3b6.e298SMTPIN_ADDED_MISSING@mx.google.com> Received: from [172.21.0.3] (unknown [172.18.0.240]) by postal.iol.unh.edu (Postfix) with ESMTP id DCE356051830; Sat, 15 Nov 2025 23:30:37 -0500 (EST) Subject: |SUCCESS| [GIT MASTER] be0112878b4fc3a1b918370ed2fe615c52039d77 From: dpdklab@iol.unh.edu To: Test Report Cc: dpdk-test-reports@iol.unh.edu Content-Type: text/plain X-BeenThere: test-report@dpdk.org X-Mailman-Version: 2.1.29 Precedence: list List-Id: automatic DPDK test reports List-Unsubscribe: , List-Archive: List-Post: List-Help: List-Subscribe: , Errors-To: test-report-bounces@dpdk.org _Testing PASS_ Branch: dpdk be0112878b4fc3a1b918370ed2fe615c52039d77 --> testing pass Upstream job id: Generic-DPDK-Compile-Meson#444930 Test environment and result as below: +------------------------------+--------------------+ | Environment | dpdk_meson_compile | +==============================+====================+ | Ubuntu 20.04 | PASS | +------------------------------+--------------------+ | Red Hat Enterprise Linux 9.5 | PASS | +------------------------------+--------------------+ | Fedora Linux 42 | PASS | +------------------------------+--------------------+ | Debian GNU/Linux 12 | PASS | +------------------------------+--------------------+ | CentOS Stream 9 | PASS | +------------------------------+--------------------+ | Ubuntu 22.04 | PASS | +------------------------------+--------------------+ | Ubuntu 24.04 | PASS | +------------------------------+--------------------+ | CentOS Stream 10 | PASS | +------------------------------+--------------------+ Ubuntu 20.04 Kernel: 5.15 Compiler: aarch64-linux-gnu-gcc gcc (Ubuntu 9.4.0-1ubuntu1~20.04.2) 9.4.0 Red Hat Enterprise Linux 9.5 Kernel: 5.4 Compiler: gcc gcc (GCC) 11.5.0 20240719 (Red Hat 11.5.0-2) Fedora Linux 42 Kernel: 5.4 Compiler: gcc gcc (GCC) 15.2.1 20250808 (Red Hat 15.2.1-1) Debian GNU/Linux 12 Kernel: 5.4 Compiler: gcc gcc (Debian 12.2.0-14+deb12u1) 12.2.0 CentOS Stream 9 Kernel: 5.4 Compiler: gcc gcc (GCC) 11.5.0 20240719 (Red Hat 11.5.0-11) Ubuntu 22.04 Kernel: 5.4 Compiler: gcc gcc (Ubuntu 11.4.0-1ubuntu1~22.04) 11.4.0 Ubuntu 24.04 Kernel: 5.4 Compiler: gcc gcc (Ubuntu 13.3.0-6ubuntu2~24.04) 13.3.0 CentOS Stream 10 Kernel: 5.4 Compiler: gcc gcc (GCC) 14.2.1 20250110 (Red Hat 14.2.1-8) To view detailed results, visit: https://lab.dpdk.org/results/dashboard/tarballs/35612/ UNH-IOL DPDK Community Lab To manage your email subscriptions, visit: https://lab.dpdk.org/results/dashboard/preferences/subscriptions/