From mboxrd@z Thu Jan 1 00:00:00 1970 Return-Path: Received: from mails.dpdk.org (mails.dpdk.org [217.70.189.124]) by inbox.dpdk.org (Postfix) with ESMTP id AAD8848B20 for ; Sun, 16 Nov 2025 06:34:56 +0100 (CET) Received: from mails.dpdk.org (localhost [127.0.0.1]) by mails.dpdk.org (Postfix) with ESMTP id 840E54026C; Sun, 16 Nov 2025 06:34:56 +0100 (CET) Received: from mail-pl1-f225.google.com (mail-pl1-f225.google.com [209.85.214.225]) by mails.dpdk.org (Postfix) with ESMTP id E41944026C for ; Sun, 16 Nov 2025 06:34:55 +0100 (CET) Received: by mail-pl1-f225.google.com with SMTP id d9443c01a7336-297d4a56f97so34617985ad.1 for ; Sat, 15 Nov 2025 21:34:55 -0800 (PST) DKIM-Signature: v=1; a=rsa-sha256; c=relaxed/relaxed; d=iol.unh.edu; s=unh-iol; t=1763271295; x=1763876095; darn=dpdk.org; h=references:in-reply-to:cc:to:from:subject:message-id:date:from:to :cc:subject:date:message-id:reply-to; bh=LXZPe+cN0galjTv2aMyzm3CgiQKlVUV/hcIsAes1FxY=; b=NLXGdkmCKVQtrdFvgyjxJ45xvnvxpVPrGCQIDTgwzHYx1WCkz7Tzg1HHdX23005cXU 2SUuzsZxU9Cr8gCiw+2S84XnNHeFnwPAJwpxJGEFacTXTsEF0CuLFYgz56APFPCihhPE y7b37leFGH/MC6RTZthtXMI3QzV3F/GJ4LJX0= X-Google-DKIM-Signature: v=1; a=rsa-sha256; c=relaxed/relaxed; d=1e100.net; s=20230601; t=1763271295; x=1763876095; h=references:in-reply-to:cc:to:from:subject:message-id:date:x-gm-gg :x-gm-message-state:from:to:cc:subject:date:message-id:reply-to; bh=LXZPe+cN0galjTv2aMyzm3CgiQKlVUV/hcIsAes1FxY=; b=ogQ0tzUsh6J6eyddVocLMhy+UydeVy8W1Mfcd+dlBCnK1alGpQCSA+CSvCe64PGMx2 NRTa0+BDozjNOUH54xLgzDE7U0dOwREaIM6KWnEl6jIsDoNfsnrhC19tEl9hI+dd6Tl2 HzLk9s0zjZnd13cufHLlTyOP2SjSG6TWq7A3sL6gBAntrcIAADcdJblrgGyKiog4SIQ2 bAUt90DqtVb3h4Z2jAk0/ke98XQwFNmpsANBDrYFVl/XF8r5X2p0H5dxjAasZDIPhow5 MA6/Etlgt5BtGGpTZgQq0YUl3te8j28iGJREF+rq7K5841pJ7+j7chQRYpZlp84G5qoj wc6w== X-Gm-Message-State: AOJu0YyeSwK4RmEUuPeiBdezqGkND98FX7WFE5Sazsi+3eHPby9Ttnch VH+U7R31ygY/FdguDquHGgHCr26+CsS31bBC53zjx+lplALtgi4jzibfiBzd0JqKh6p2rokrfax AkW7UARdBLwV9yIT0zDgQ5UKC4u29Z2ZmSMClKR1F3i9H X-Gm-Gg: ASbGncuKpn55NUHgOg9EixjjjkaaIOzDV1NvKOsj+SLbNqiMmWlEQGhv/cH2MOQK6fG Cw+05JLjgib2wcdn21cCqyxC17hvrQ0tdcv4nIIQxoZGV1/BMV6nOBi4yJxP1UCMjA7tcmL95Zb Sg8mH4WgboRpskEEdrLORUtrQTLlGUPlpUx7q1ppFvosUkxRB2JyW0d3dWzsiUu2Lcur+KAEBer VDtbEKSH1cOOfbJXO21jD6FEeheSxf7UAyhyOnIaCv0Kx184pf20WxdC58g86JGwlLgDTCJ3dMG xx4XJg6qBs9aumVhE2Np3W2R8RlKVdSPZ9XiyP8JDE6Fqi1LVb0xhVDXehLXJ3618BuJTYgPlg9 w4TE9Hsp+2p7w+TbfVguiViv/YH23Xr8= X-Google-Smtp-Source: AGHT+IFw8mnI9rAVptLDyERaL897B6zcO5DBlT/jODYJl6+OAVA0jr4m5O0473XDqFGupf2z1Brv4gYdOnWx X-Received: by 2002:a17:903:1c5:b0:295:5945:2920 with SMTP id d9443c01a7336-2986a72c2dfmr94847605ad.34.1763271295123; Sat, 15 Nov 2025 21:34:55 -0800 (PST) Received: from postal.iol.unh.edu (postal.iol.unh.edu. [132.177.123.84]) by smtp-relay.gmail.com with ESMTPS id d9443c01a7336-2985c2b7b69sm11121925ad.46.2025.11.15.21.34.55 (version=TLS1_2 cipher=ECDHE-ECDSA-AES128-GCM-SHA256 bits=128/128); Sat, 15 Nov 2025 21:34:55 -0800 (PST) X-Relaying-Domain: iol.unh.edu Date: Sat, 15 Nov 2025 21:34:55 -0800 (PST) Message-ID: <6919627f.170a0220.c0809.7a55SMTPIN_ADDED_MISSING@mx.google.com> Received: from [172.21.0.3] (unknown [172.18.0.240]) by postal.iol.unh.edu (Postfix) with ESMTP id 563E46051830; Sun, 16 Nov 2025 00:34:54 -0500 (EST) Subject: |SUCCESS| pw158829-158832 [PATCH] [v3,4/4] examples: enable format t From: dpdklab@iol.unh.edu To: Test Report Cc: dpdk-test-reports@iol.unh.edu, Chenbo Xia , Maxime Coquelin In-Reply-To: <20251115193749.101355-5-stephen@networkplumber.org> References: <20251115193749.101355-5-stephen@networkplumber.org> Content-Type: text/plain X-BeenThere: test-report@dpdk.org X-Mailman-Version: 2.1.29 Precedence: list List-Id: automatic DPDK test reports List-Unsubscribe: , List-Archive: List-Post: List-Help: List-Subscribe: , Errors-To: test-report-bounces@dpdk.org Test-Label: iol-unit-amd64-testing Test-Status: SUCCESS http://dpdk.org/patch/158832 _Testing PASS_ Submitter: Stephen Hemminger Date: Saturday, November 15 2025 19:36:39 DPDK git baseline: Repo:dpdk-next-virtio Branch: master CommitID:6b37c26a95388aa41bb5267c7c42f604fd571a38 158829-158832 --> testing pass Upstream job id: Generic-VM-Unit-Test-DPDK#32607 Test environment and result as below: +-------------------------------+----------------+ | Environment | dpdk_unit_test | +===============================+================+ | CentOS Stream 9 | PASS | +-------------------------------+----------------+ | Debian GNU/Linux 12 | PASS | +-------------------------------+----------------+ | CentOS Stream 10 | PASS | +-------------------------------+----------------+ | Fedora Linux 41 | PASS | +-------------------------------+----------------+ | Fedora Linux 40 | PASS | +-------------------------------+----------------+ | Red Hat Enterprise Linux 8.10 | PASS | +-------------------------------+----------------+ | Red Hat Enterprise Linux 9.5 | PASS | +-------------------------------+----------------+ | Fedora Linux 42 | PASS | +-------------------------------+----------------+ | Ubuntu 20.04 | PASS | +-------------------------------+----------------+ | Ubuntu 22.04 | PASS | +-------------------------------+----------------+ | Ubuntu 24.04 | PASS | +-------------------------------+----------------+ | Windows Server 2022 | PASS | +-------------------------------+----------------+ CentOS Stream 9 Kernel: 5.15 Compiler: gcc gcc (GCC) 11.5.0 20240719 (Red Hat 11.5.0-11) Debian GNU/Linux 12 Kernel: 5.15 Compiler: gcc gcc (Debian 12.2.0-14+deb12u1) 12.2.0 CentOS Stream 10 Kernel: 5.15 Compiler: gcc gcc (GCC) 14.2.1 20250110 (Red Hat 14.2.1-8) Fedora Linux 41 Kernel: 5.15 Compiler: gcc gcc (GCC) 14.3.1 20250523 (Red Hat 14.3.1-1) Fedora Linux 40 Kernel: 5.15 Compiler: gcc gcc (GCC) 14.2.1 20240912 (Red Hat 14.2.1-3) Red Hat Enterprise Linux 8.10 Kernel: 5.15 Compiler: gcc gcc (GCC) 8.5.0 20210514 (Red Hat 8.5.0-22) Red Hat Enterprise Linux 9.5 Kernel: 5.15 Compiler: gcc gcc (GCC) 11.5.0 20240719 (Red Hat 11.5.0-2) Fedora Linux 42 Kernel: 5.15 Compiler: clang gcc (GCC) 15.2.1 20250808 (Red Hat 15.2.1-1) Ubuntu 20.04 Kernel: 5.15 Compiler: gcc gcc (Ubuntu 9.4.0-1ubuntu1~20.04.2) 9.4.0 Ubuntu 22.04 Kernel: 5.15 Compiler: gcc gcc (Ubuntu 11.4.0-1ubuntu1~22.04) 11.4.0 Ubuntu 24.04 Kernel: 5.15 Compiler: gcc gcc (Ubuntu 13.3.0-6ubuntu2~24.04) 13.3.0 Windows Server 2022 Kernel: 10.0.20348.2031 Compiler: clang 15.0.7, gcc 14.1.0 (MinGW), and MSVC VS 19.39.33521 To view detailed results, visit: https://lab.dpdk.org/results/dashboard/patchsets/34607/ UNH-IOL DPDK Community Lab To manage your email subscriptions, visit: https://lab.dpdk.org/results/dashboard/preferences/subscriptions/