From mboxrd@z Thu Jan 1 00:00:00 1970 Return-Path: Received: from mails.dpdk.org (mails.dpdk.org [217.70.189.124]) by inbox.dpdk.org (Postfix) with ESMTP id 52C8C48B20 for ; Sun, 16 Nov 2025 06:52:08 +0100 (CET) Received: from mails.dpdk.org (localhost [127.0.0.1]) by mails.dpdk.org (Postfix) with ESMTP id 3A88C4026C; Sun, 16 Nov 2025 06:52:08 +0100 (CET) Received: from mail-il1-f226.google.com (mail-il1-f226.google.com [209.85.166.226]) by mails.dpdk.org (Postfix) with ESMTP id 02A944026C for ; Sun, 16 Nov 2025 06:52:06 +0100 (CET) Received: by mail-il1-f226.google.com with SMTP id e9e14a558f8ab-433770ba959so24287045ab.1 for ; Sat, 15 Nov 2025 21:52:06 -0800 (PST) DKIM-Signature: v=1; a=rsa-sha256; c=relaxed/relaxed; d=iol.unh.edu; s=unh-iol; t=1763272326; x=1763877126; darn=dpdk.org; h=references:in-reply-to:cc:to:from:subject:message-id:date:from:to :cc:subject:date:message-id:reply-to; bh=2/UG9ktymnX1SDDxUQLrA3aOJOvOdwGjLAi3OPgJlmo=; b=CXGZXMMfS4+FR+iIPpeJcHoiv1j15d2DMcIXhOj7RYUBouTrfBpNSHr1u0y7d1U8LQ zV89ewczl43IeU09nugADQilrZ8VrSUusIBJgG4eXNxF/G7ck5ksxNkznnbU5DjnYKn4 ZZK3n+h2AWaIpc0pkhItKEpcNoS1OWp4Zt70Y= X-Google-DKIM-Signature: v=1; a=rsa-sha256; c=relaxed/relaxed; d=1e100.net; s=20230601; t=1763272326; x=1763877126; h=references:in-reply-to:cc:to:from:subject:message-id:date:x-gm-gg :x-gm-message-state:from:to:cc:subject:date:message-id:reply-to; bh=2/UG9ktymnX1SDDxUQLrA3aOJOvOdwGjLAi3OPgJlmo=; b=UJuKPaDyas11nG1yRVlqqIwB9mcbt02XzLbqKuyBRBwOSBn45oV9l7aRV1Wx9LA1ST k2HMSqAzQ2XeRUPzeTZAVzuek5JrqLVWWTAXIGd8RX2YO+DxBTXcNe0Adqvg0/ZHCOw5 bBpKAS4BFUyPDVLGgPmJPxv21xzVwAKNFbVLcSeRNS4lxESjwGPZ/8d6TPhAlva3Lg3s /CIzwCmUbsVi1UNX9R66rc//HFwi+JMzpppfBzmpKeLH57TyMCSd+dfMHT//gnOgxt84 QIC5ddVM4+Ar5ocfRoSm/makBfYzT1R11/Y5m9C55sHcfZzUCOdveKgljOqNMNnvmsqb Jp1g== X-Gm-Message-State: AOJu0YyCVedVPPWEHP8/Jg0L7uHKjj+FFUWjX8YjLsFWhIUfejGuTZ1Y YzA6JRV/p8XtZdMag1jEubB0EauyJWd+aUwroCpImHmqpcsgiPEuuO3pukNs0TQVRtn2kxJR7QT +XKEfsgJVhYoTb1IGFBNJhFh5Zm9elOCa+lFLhxrCbQfi9k/fhJCHLGDiL+BU X-Gm-Gg: ASbGncsVx3VXJnoB61gH+K/e9p/6YGzv6dy0Wi8MjqNZ6XX8MeeH7SQdReneNoZ7lXr zOeWUiYbwrro3HSnAvJX0KfZ6zlUYdvZ/jn7X/snLTgUPre/buX9tAedah60MaveuYg9rx8eOng 1BoHwCsX9nLiqURJ/eNNDNr3g4wGicmNMANhvDaJISUCEQb9MxNz8yMeXp5h3KZaNynh9ebLCz0 QlaNYIhMBUnrSUDRFrDMzjd9OwkUdsTo8/qlYYzqmJ8prSi0Rx5MjRodLAPomAk09ouUhPpj6zz Cl1OcR2iI2b/KJ5f508IvkwIUHDvNlMdgRRY0JKRGYvaVhA98cqCWBgtKsu0X9ql+k/1akguN77 FcJQg1wIC X-Google-Smtp-Source: AGHT+IHts7FL0QLHikQeScmiX25zCUvBNqze0e7yI4ROIWSxY2qK+iqYaIp37rY3ZHjIT9w88Jrrobp+9y6d X-Received: by 2002:a05:6e02:2292:b0:433:4679:c1fe with SMTP id e9e14a558f8ab-4348c8fe99dmr107813755ab.16.1763272326323; Sat, 15 Nov 2025 21:52:06 -0800 (PST) Received: from postal.iol.unh.edu (postal.iol.unh.edu. [2606:4100:3880:1234::84]) by smtp-relay.gmail.com with ESMTPS id 8926c6da1cb9f-5b7bd2468dbsm559605173.2.2025.11.15.21.52.06 (version=TLS1_2 cipher=ECDHE-ECDSA-AES128-GCM-SHA256 bits=128/128); Sat, 15 Nov 2025 21:52:06 -0800 (PST) X-Relaying-Domain: iol.unh.edu Date: Sat, 15 Nov 2025 21:52:06 -0800 (PST) Message-ID: <69196686.050a0220.1fbefb.ad5aSMTPIN_ADDED_MISSING@mx.google.com> Received: from [172.21.0.3] (unknown [172.18.0.240]) by postal.iol.unh.edu (Postfix) with ESMTP id DD6BA6051830; Sun, 16 Nov 2025 00:52:05 -0500 (EST) Subject: |SUCCESS| pw158829-158832 [PATCH] [v3,4/4] examples: enable format t From: dpdklab@iol.unh.edu To: Test Report Cc: dpdk-test-reports@iol.unh.edu, Chenbo Xia , Maxime Coquelin In-Reply-To: <20251115193749.101355-5-stephen@networkplumber.org> References: <20251115193749.101355-5-stephen@networkplumber.org> Content-Type: text/plain X-BeenThere: test-report@dpdk.org X-Mailman-Version: 2.1.29 Precedence: list List-Id: automatic DPDK test reports List-Unsubscribe: , List-Archive: List-Post: List-Help: List-Subscribe: , Errors-To: test-report-bounces@dpdk.org Test-Label: iol-unit-amd64-testing Test-Status: SUCCESS http://dpdk.org/patch/158832 _Testing PASS_ Submitter: Stephen Hemminger Date: Saturday, November 15 2025 19:36:39 DPDK git baseline: Repo:dpdk-next-virtio Branch: master CommitID:6b37c26a95388aa41bb5267c7c42f604fd571a38 158829-158832 --> testing pass Upstream job id: Generic-VM-Unit-Test-DPDK#32608 Test environment and result as below: +-------------------------------+----------------+ | Environment | dpdk_unit_test | +===============================+================+ | CentOS Stream 9 | PASS | +-------------------------------+----------------+ | Debian GNU/Linux 12 | PASS | +-------------------------------+----------------+ | CentOS Stream 10 | PASS | +-------------------------------+----------------+ | Fedora Linux 41 | PASS | +-------------------------------+----------------+ | Fedora Linux 40 | PASS | +-------------------------------+----------------+ | Red Hat Enterprise Linux 8.10 | PASS | +-------------------------------+----------------+ | Red Hat Enterprise Linux 9.5 | PASS | +-------------------------------+----------------+ | Fedora Linux 42 | PASS | +-------------------------------+----------------+ | Ubuntu 20.04 | PASS | +-------------------------------+----------------+ | Ubuntu 22.04 | PASS | +-------------------------------+----------------+ | Ubuntu 24.04 | PASS | +-------------------------------+----------------+ | Windows Server 2022 | PASS | +-------------------------------+----------------+ CentOS Stream 9 Kernel: 5.15 Compiler: gcc gcc (GCC) 11.5.0 20240719 (Red Hat 11.5.0-11) Debian GNU/Linux 12 Kernel: 5.15 Compiler: gcc gcc (Debian 12.2.0-14+deb12u1) 12.2.0 CentOS Stream 10 Kernel: 5.15 Compiler: gcc gcc (GCC) 14.2.1 20250110 (Red Hat 14.2.1-8) Fedora Linux 41 Kernel: 5.15 Compiler: gcc gcc (GCC) 14.3.1 20250523 (Red Hat 14.3.1-1) Fedora Linux 40 Kernel: 5.15 Compiler: gcc gcc (GCC) 14.2.1 20240912 (Red Hat 14.2.1-3) Red Hat Enterprise Linux 8.10 Kernel: 5.15 Compiler: gcc gcc (GCC) 8.5.0 20210514 (Red Hat 8.5.0-22) Red Hat Enterprise Linux 9.5 Kernel: 5.15 Compiler: gcc gcc (GCC) 11.5.0 20240719 (Red Hat 11.5.0-2) Fedora Linux 42 Kernel: 5.15 Compiler: clang gcc (GCC) 15.2.1 20250808 (Red Hat 15.2.1-1) Ubuntu 20.04 Kernel: 5.15 Compiler: gcc gcc (Ubuntu 9.4.0-1ubuntu1~20.04.2) 9.4.0 Ubuntu 22.04 Kernel: 5.15 Compiler: gcc gcc (Ubuntu 11.4.0-1ubuntu1~22.04) 11.4.0 Ubuntu 24.04 Kernel: 5.15 Compiler: gcc gcc (Ubuntu 13.3.0-6ubuntu2~24.04) 13.3.0 Windows Server 2022 Kernel: 10.0.20348.2031 Compiler: clang 15.0.7, gcc 14.1.0 (MinGW), and MSVC VS 19.39.33521 To view detailed results, visit: https://lab.dpdk.org/results/dashboard/patchsets/34607/ UNH-IOL DPDK Community Lab To manage your email subscriptions, visit: https://lab.dpdk.org/results/dashboard/preferences/subscriptions/