From mboxrd@z Thu Jan 1 00:00:00 1970 Return-Path: Received: from mails.dpdk.org (mails.dpdk.org [217.70.189.124]) by inbox.dpdk.org (Postfix) with ESMTP id 05C5548B20 for ; Sun, 16 Nov 2025 07:34:19 +0100 (CET) Received: from mails.dpdk.org (localhost [127.0.0.1]) by mails.dpdk.org (Postfix) with ESMTP id 000AE4026C; Sun, 16 Nov 2025 07:34:18 +0100 (CET) Received: from mail-io1-f100.google.com (mail-io1-f100.google.com [209.85.166.100]) by mails.dpdk.org (Postfix) with ESMTP id 1C1924026C for ; Sun, 16 Nov 2025 07:34:17 +0100 (CET) Received: by mail-io1-f100.google.com with SMTP id ca18e2360f4ac-948fb1f6c44so27926939f.2 for ; Sat, 15 Nov 2025 22:34:17 -0800 (PST) DKIM-Signature: v=1; a=rsa-sha256; c=relaxed/relaxed; d=iol.unh.edu; s=unh-iol; t=1763274856; x=1763879656; darn=dpdk.org; h=references:in-reply-to:cc:to:from:subject:message-id:date:from:to :cc:subject:date:message-id:reply-to; bh=kOGvxd1a23FkNOxUOF05ADKt1Py7DO1pKYDK3dfnO6Q=; b=E+XPAihaUcmlazWMmFXrUEUgyD1feZaIKTTMCxrCKHnrgj5CDIlRUUoqWn+3lOnYPw AH4GgU2BNRAO2EeNOvv0cjC/yOutpqQ1hTmUzKsvAhxVuqQRLUGnOvQ+PvHEVl2qx1FY b6cRh8MKFEgAVmUc7oGR56OrvtcLf/4QPMfoo= X-Google-DKIM-Signature: v=1; a=rsa-sha256; c=relaxed/relaxed; d=1e100.net; s=20230601; t=1763274856; x=1763879656; h=references:in-reply-to:cc:to:from:subject:message-id:date:x-gm-gg :x-gm-message-state:from:to:cc:subject:date:message-id:reply-to; bh=kOGvxd1a23FkNOxUOF05ADKt1Py7DO1pKYDK3dfnO6Q=; b=egG+8js+8Js3LTiKvC/XIVPOexF2//n49zalEalGpQklZnQfencxiNU2pL8VrlmmQG +OH/NExmI6ixwaBYqUG8WrGlaJAcJrlxTD6Edtv1H4fw+iXmNAjDQT4u89uXgqcMY0EX 2MK2zpbMxXlBX7LIK8KqJWksBHVWf3d+4dfK9kYi6JLxP5CfoVSbCK2Bfk3FePvaSpDm B+hFxAnbfkiVS6wDVkaTuZn0IUfrF7IUkgzqVFEkQO9o7MMexmuJJJLZ40T7TyyKLF3E s5jl2jnEbYooM6TAC7nOvZjgJ0b8NG0GnbuN4lMtLh+izpnagBvicWphfHcBBIKOM/g/ L88A== X-Gm-Message-State: AOJu0YzSukFcC+zx4ZvhEuHPvidKRTQlCo1JW8Z7eqPtlbBk7uxzs+7y 3o/p/qS3nICbzXLdQ52KAF68Me4lsIqt0i9tLbl4+mwOIk/AGc886saFWwPs0hEAQDgzegaSoea 0Glx6ytFS9MwOhw1z9FiqpCT2GtUjvI4l2SPZehSPpNp5Gi/n4fAfsTiG9sKT X-Gm-Gg: ASbGncvN0JcHyE5uzq6tb2s5wHppIuSAb/DgyntoE//bv4UnEq+FOcTquaKWoBdAxnO nEo64uPb0DmQd25nSYqTZ/tIpydQuso4kqW7MmLZW9U5OZkzWbGFYrzCK+Bl/pxdEKKFxmYJDXY qNLHWmSxe6Y5xaaocECsHNt65FYAIzT1Y7nLmNURbiU55iDh/22c0xKm8KBqYzaT8HSbxE4mfYE KFAuNHds43Y1isq9XNHpUhwLEIKxDOpzdnmlVIxgVKctHPFJW32uTR8gLL3VRucm27cRmh+UhiF Ypm5yNbHTHyONiWKt+WlGO49NfuqJ2Mx+Mnzwu6Bd+wgDoIbxUSGNwn7BkbL8pegCVl4siWFj2q cPNmZWng+ X-Google-Smtp-Source: AGHT+IHlLih6e9XvzJN3KkBpY7fI4fCks5/eJd16/11nAzKsDAQKfs03fGdHXdnbDlUD1F/PoS9aS7AhxtOq X-Received: by 2002:a05:6e02:214f:b0:433:305c:179d with SMTP id e9e14a558f8ab-4348c953130mr136667345ab.28.1763274856344; Sat, 15 Nov 2025 22:34:16 -0800 (PST) Received: from postal.iol.unh.edu (postal.iol.unh.edu. [2606:4100:3880:1234::84]) by smtp-relay.gmail.com with ESMTPS id e9e14a558f8ab-434839b238asm8943055ab.24.2025.11.15.22.34.16 (version=TLS1_2 cipher=ECDHE-ECDSA-AES128-GCM-SHA256 bits=128/128); Sat, 15 Nov 2025 22:34:16 -0800 (PST) X-Relaying-Domain: iol.unh.edu Date: Sat, 15 Nov 2025 22:34:16 -0800 (PST) Message-ID: <69197068.050a0220.ea2aa.c562SMTPIN_ADDED_MISSING@mx.google.com> Received: from [172.21.0.3] (unknown [172.18.0.240]) by postal.iol.unh.edu (Postfix) with ESMTP id E0A396051830; Sun, 16 Nov 2025 01:34:15 -0500 (EST) Subject: |SUCCESS| pw158823-158824 [PATCH] [2/2] net/crc: reduce usage of sta From: dpdklab@iol.unh.edu To: Test Report Cc: dpdk-test-reports@iol.unh.edu In-Reply-To: <20251115101140.1295642-2-16567adigashreesh@gmail.com> References: <20251115101140.1295642-2-16567adigashreesh@gmail.com> Content-Type: text/plain X-BeenThere: test-report@dpdk.org X-Mailman-Version: 2.1.29 Precedence: list List-Id: automatic DPDK test reports List-Unsubscribe: , List-Archive: List-Post: List-Help: List-Subscribe: , Errors-To: test-report-bounces@dpdk.org Test-Label: iol-unit-arm64-testing Test-Status: SUCCESS http://dpdk.org/patch/158824 _Testing PASS_ Submitter: Shreesh Adiga <16567adigashreesh@gmail.com> Date: Saturday, November 15 2025 10:09:59 DPDK git baseline: Repo:dpdk Branch: master CommitID:be0112878b4fc3a1b918370ed2fe615c52039d77 158823-158824 --> testing pass Upstream job id: Generic-Unit-Test-DPDK#393138 Test environment and result as below: +------------------------------+----------------+--------------+---------------------------+------------------------------+ | Environment | dpdk_unit_test | lpm_autotest | cryptodev_sw_zuc_autotest | cryptodev_sw_snow3g_autotest | +==============================+================+==============+===========================+==============================+ | Ubuntu 20.04 | PASS | PASS | SKIPPED | SKIPPED | +------------------------------+----------------+--------------+---------------------------+------------------------------+ | CentOS Stream 10 | PASS | SKIPPED | SKIPPED | SKIPPED | +------------------------------+----------------+--------------+---------------------------+------------------------------+ | Fedora Linux 40 | PASS | SKIPPED | SKIPPED | SKIPPED | +------------------------------+----------------+--------------+---------------------------+------------------------------+ | Red Hat Enterprise Linux 9.5 | PASS | SKIPPED | SKIPPED | SKIPPED | +------------------------------+----------------+--------------+---------------------------+------------------------------+ | Ubuntu 22.04 | PASS | SKIPPED | SKIPPED | SKIPPED | +------------------------------+----------------+--------------+---------------------------+------------------------------+ | Ubuntu 24.04 | PASS | SKIPPED | SKIPPED | SKIPPED | +------------------------------+----------------+--------------+---------------------------+------------------------------+ | Fedora Linux 42 | PASS | SKIPPED | SKIPPED | SKIPPED | +------------------------------+----------------+--------------+---------------------------+------------------------------+ | Debian GNU/Linux 12 | PASS | SKIPPED | SKIPPED | SKIPPED | +------------------------------+----------------+--------------+---------------------------+------------------------------+ | CentOS Stream 9 | PASS | SKIPPED | SKIPPED | SKIPPED | +------------------------------+----------------+--------------+---------------------------+------------------------------+ | Fedora Linux 41 | PASS | SKIPPED | SKIPPED | SKIPPED | +------------------------------+----------------+--------------+---------------------------+------------------------------+ | Debian 12 (arm) | SKIPPED | SKIPPED | PASS | PASS | +------------------------------+----------------+--------------+---------------------------+------------------------------+ Ubuntu 20.04 Kernel: 5.4 Compiler: gcc gcc (Ubuntu 9.4.0-1ubuntu1~20.04.2) 9.4.0 CentOS Stream 10 Kernel: 5.4 Compiler: gcc gcc (GCC) 14.2.1 20250110 (Red Hat 14.2.1-8) Fedora Linux 40 Kernel: 5.4 Compiler: clang gcc (GCC) 14.2.1 20240912 (Red Hat 14.2.1-3) Red Hat Enterprise Linux 9.5 Kernel: 5.4 Compiler: gcc gcc (GCC) 11.5.0 20240719 (Red Hat 11.5.0-2) Ubuntu 22.04 Kernel: 5.4 Compiler: gcc gcc (Ubuntu 11.4.0-1ubuntu1~22.04) 11.4.0 Ubuntu 24.04 Kernel: 5.4 Compiler: gcc gcc (Ubuntu 13.3.0-6ubuntu2~24.04) 13.3.0 Fedora Linux 42 Kernel: 5.4 Compiler: clang gcc (GCC) 15.2.1 20250808 (Red Hat 15.2.1-1) Debian GNU/Linux 12 Kernel: 5.4 Compiler: gcc gcc (Debian 12.2.0-14+deb12u1) 12.2.0 CentOS Stream 9 Kernel: 5.4 Compiler: gcc gcc (GCC) 11.5.0 20240719 (Red Hat 11.5.0-11) Fedora Linux 41 Kernel: 5.4 Compiler: clang gcc (GCC) 14.3.1 20250523 (Red Hat 14.3.1-1) Debian 12 (arm) Kernel: Depends on container host Compiler: gcc (Debian 12.2.0-14) 12.2.0 To view detailed results, visit: https://lab.dpdk.org/results/dashboard/patchsets/34606/ UNH-IOL DPDK Community Lab To manage your email subscriptions, visit: https://lab.dpdk.org/results/dashboard/preferences/subscriptions/