From mboxrd@z Thu Jan 1 00:00:00 1970 Return-Path: Received: from mails.dpdk.org (mails.dpdk.org [217.70.189.124]) by inbox.dpdk.org (Postfix) with ESMTP id 70DB348B20 for ; Sun, 16 Nov 2025 07:38:03 +0100 (CET) Received: from mails.dpdk.org (localhost [127.0.0.1]) by mails.dpdk.org (Postfix) with ESMTP id 6BCCE4026C; Sun, 16 Nov 2025 07:38:03 +0100 (CET) Received: from mail-yx1-f100.google.com (mail-yx1-f100.google.com [74.125.224.100]) by mails.dpdk.org (Postfix) with ESMTP id DBAEE4026C for ; Sun, 16 Nov 2025 07:38:01 +0100 (CET) Received: by mail-yx1-f100.google.com with SMTP id 956f58d0204a3-640d790d444so2862821d50.0 for ; Sat, 15 Nov 2025 22:38:01 -0800 (PST) DKIM-Signature: v=1; a=rsa-sha256; c=relaxed/relaxed; d=iol.unh.edu; s=unh-iol; t=1763275081; x=1763879881; darn=dpdk.org; h=references:in-reply-to:cc:to:from:subject:message-id:date:from:to :cc:subject:date:message-id:reply-to; bh=+AkaFAuQRH+njIOX4buEe7909WSq910nCpptXBGygPE=; b=KFAcN4yvwKEom9IUFxL7N7IlizTcFmD7B49JleS6koBmI5B9XO6PuSWnzKk6Qo/3k6 bGaGmlZHEXHS+kGs6NRbbsaXlLEHaTp7n84mmRgO4pYo8QufiD2v77EiJR+aEL+r8ung CSqBJFXFOmE/IfJi9uhK8eWaOdo80n39+ARnQ= X-Google-DKIM-Signature: v=1; a=rsa-sha256; c=relaxed/relaxed; d=1e100.net; s=20230601; t=1763275081; x=1763879881; h=references:in-reply-to:cc:to:from:subject:message-id:date:x-gm-gg :x-gm-message-state:from:to:cc:subject:date:message-id:reply-to; bh=+AkaFAuQRH+njIOX4buEe7909WSq910nCpptXBGygPE=; b=N6QUvLTr+BTDxPPXhHGl6gcA4hhsilSg8gCB2fSEvv3V03Svmi56ku0o9/76jl7B1r RJrJwoCPgKvsQtiRE6R586G9e4HX6K3u21eugVuJdl4ohEugjZlmcUB6SAu4TnL/IviJ GNMN7Rd4XKMtFNOtAQjaZsrq3xCrfjbgHKLK5FZSaZkTqlQWzXGDin6Do3igxwQBxhXU jJsqzf56ReFqOGLFCneATxxkD2jIjenGpRhxgAtSi4QIEpqt4fRxAxoklFhlER5DsezP jEnARe9od6bC9yXju+lGif7HYrNC7kYrKphfA36udO2j0HiGNBT01seYu3r9KX/LdxTI PijA== X-Gm-Message-State: AOJu0YwUXpg/A/eIN9uM6Eed3se1yx0sOXZt13jZZ8xRyYx07rME7X05 NC2dWS8/opdo5FmyhGm2Xf5Wc+BeupwScp53d5cteKP2WcKQbJFc1I4Y7GVfMa68pO7Hs8pXaTT 8A6pxBWpfbSlBL+tHdGTpIzZAC2cOJNSM1Qnmwedqsmlnp7boEo/279/Z0TtV X-Gm-Gg: ASbGncurqQcehArmLQejg8vv5EfWDfHEzhkZXTSoJomIbywEnt9JqMzBvvJQKsI1SDz zfjr77WMDZCclI1QWip6NrDTc7f9QAHnQ9j2Ypb8W5CnsYH2uxccX/rh+yOpv99Zj2dQisqsyWJ t+DSvHgC7AYjMeHRe4cPVdu2MFkHSTEz+xSdldGxP/N31ZxZO0VFF30WFwwJufaGUjrB3BFr5Vi 1N2VdhptivSkXxVtiRmU5eTMychsvgBj3LztMBMu00dkalpDXo7U0ZK0qHt44o5wIRsWOrqDcGU 1PAWxp/HWjcAsMSqy7tvxiv7ElFfVK0o8Zxq7Td9tZ3bOPbsrO4td/0mP8fptZzCZLUmhMoOLxO lAv3KIagT X-Google-Smtp-Source: AGHT+IFgrPJ+bUG8gdBUOKnu21QIfguPZZlplHDRGseGnoycgGeXiQoZIXmq24AoeWr/UT5JZi/mFJ0qUt6u X-Received: by 2002:a05:690e:165c:b0:641:718:8a04 with SMTP id 956f58d0204a3-641e76f3381mr6238513d50.56.1763275081206; Sat, 15 Nov 2025 22:38:01 -0800 (PST) Received: from postal.iol.unh.edu (postal.iol.unh.edu. [2606:4100:3880:1234::84]) by smtp-relay.gmail.com with ESMTPS id 00721157ae682-78821df1c8dsm5246197b3.4.2025.11.15.22.38.01 (version=TLS1_2 cipher=ECDHE-ECDSA-AES128-GCM-SHA256 bits=128/128); Sat, 15 Nov 2025 22:38:01 -0800 (PST) X-Relaying-Domain: iol.unh.edu Date: Sat, 15 Nov 2025 22:38:01 -0800 (PST) Message-ID: <69197149.050a0220.10e4fd.9dc7SMTPIN_ADDED_MISSING@mx.google.com> Received: from [172.21.0.19] (unknown [172.18.0.240]) by postal.iol.unh.edu (Postfix) with ESMTP id D91B16051830; Sun, 16 Nov 2025 01:38:00 -0500 (EST) Subject: |SUCCESS| pw158829-158832 [PATCH] [v3,4/4] examples: enable format t From: dpdklab@iol.unh.edu To: Test Report Cc: dpdk-test-reports@iol.unh.edu, Chenbo Xia , Maxime Coquelin In-Reply-To: <20251115193749.101355-5-stephen@networkplumber.org> References: <20251115193749.101355-5-stephen@networkplumber.org> Content-Type: text/plain X-BeenThere: test-report@dpdk.org X-Mailman-Version: 2.1.29 Precedence: list List-Id: automatic DPDK test reports List-Unsubscribe: , List-Archive: List-Post: List-Help: List-Subscribe: , Errors-To: test-report-bounces@dpdk.org Test-Label: iol-compile-amd64-testing Test-Status: SUCCESS http://dpdk.org/patch/158832 _Testing PASS_ Submitter: Stephen Hemminger Date: Saturday, November 15 2025 19:36:39 DPDK git baseline: Repo:dpdk-next-virtio Branch: master CommitID:6b37c26a95388aa41bb5267c7c42f604fd571a38 158829-158832 --> testing pass Upstream job id: Generic-DPDK-Compile-Meson#444965 Test environment and result as below: +-------------------------------+-------------------------+--------------------+------------------+-------------------+----------------------+ | Environment | dpdk_llvm_clang_compile | dpdk_meson_compile | dpdk_compile_ovs | dpdk_msvc_compile | dpdk_mingw64_compile | +===============================+=========================+====================+==================+===================+======================+ | Windows Server 2022 | PASS | SKIPPED | SKIPPED | PASS | PASS | +-------------------------------+-------------------------+--------------------+------------------+-------------------+----------------------+ | Ubuntu 20.04 | SKIPPED | PASS | SKIPPED | SKIPPED | SKIPPED | +-------------------------------+-------------------------+--------------------+------------------+-------------------+----------------------+ | CentOS Stream 10 | SKIPPED | PASS | SKIPPED | SKIPPED | SKIPPED | +-------------------------------+-------------------------+--------------------+------------------+-------------------+----------------------+ | CentOS Stream 9 | SKIPPED | PASS | SKIPPED | SKIPPED | SKIPPED | +-------------------------------+-------------------------+--------------------+------------------+-------------------+----------------------+ | Fedora Linux 42 | SKIPPED | PASS | PASS | SKIPPED | SKIPPED | +-------------------------------+-------------------------+--------------------+------------------+-------------------+----------------------+ | Debian GNU/Linux 12 | SKIPPED | PASS | SKIPPED | SKIPPED | SKIPPED | +-------------------------------+-------------------------+--------------------+------------------+-------------------+----------------------+ | openSUSE Leap 15.6 | SKIPPED | PASS | SKIPPED | SKIPPED | SKIPPED | +-------------------------------+-------------------------+--------------------+------------------+-------------------+----------------------+ | Red Hat Enterprise Linux 8.10 | SKIPPED | PASS | SKIPPED | SKIPPED | SKIPPED | +-------------------------------+-------------------------+--------------------+------------------+-------------------+----------------------+ | Red Hat Enterprise Linux 9.5 | SKIPPED | PASS | SKIPPED | SKIPPED | SKIPPED | +-------------------------------+-------------------------+--------------------+------------------+-------------------+----------------------+ | Ubuntu 24.04 | SKIPPED | PASS | PASS | SKIPPED | SKIPPED | +-------------------------------+-------------------------+--------------------+------------------+-------------------+----------------------+ | FreeBSD 14.2 | SKIPPED | PASS | SKIPPED | SKIPPED | SKIPPED | +-------------------------------+-------------------------+--------------------+------------------+-------------------+----------------------+ | Ubuntu 22.04 | SKIPPED | PASS | SKIPPED | SKIPPED | SKIPPED | +-------------------------------+-------------------------+--------------------+------------------+-------------------+----------------------+ | Alpine Linux 3.22.0 | SKIPPED | PASS | SKIPPED | SKIPPED | SKIPPED | +-------------------------------+-------------------------+--------------------+------------------+-------------------+----------------------+ Windows Server 2022 Kernel: 10.0.20348.2031 Compiler: clang 15.0.7, gcc 14.1.0 (MinGW), and MSVC VS 19.39.33521 Ubuntu 20.04 Kernel: 4.19 Compiler: gcc gcc (Ubuntu 9.4.0-1ubuntu1~20.04.2) 9.4.0 CentOS Stream 10 Kernel: 5.15 Compiler: gcc gcc (GCC) 14.2.1 20250110 (Red Hat 14.2.1-8) CentOS Stream 9 Kernel: 5.15 Compiler: gcc gcc (GCC) 11.5.0 20240719 (Red Hat 11.5.0-11) Fedora Linux 42 Kernel: 5.15 Compiler: gcc gcc (GCC) 15.2.1 20250808 (Red Hat 15.2.1-1) Debian GNU/Linux 12 Kernel: 5.15 Compiler: gcc gcc (Debian 12.2.0-14+deb12u1) 12.2.0 openSUSE Leap 15.6 Kernel: 5.15 Compiler: gcc gcc (SUSE Linux) 7.5.0 Red Hat Enterprise Linux 8.10 Kernel: 5.15 Compiler: gcc gcc (GCC) 8.5.0 20210514 (Red Hat 8.5.0-22) Red Hat Enterprise Linux 9.5 Kernel: 5.15 Compiler: gcc gcc (GCC) 11.5.0 20240719 (Red Hat 11.5.0-2) Ubuntu 24.04 Kernel: 5.15 Compiler: gcc gcc (Ubuntu 13.3.0-6ubuntu2~24.04) 13.3.0 FreeBSD 14.2 Kernel: 14.2-RELEASE Compiler: clang 18.1.6 Ubuntu 22.04 Kernel: 5.15 Compiler: gcc gcc (Ubuntu 11.4.0-1ubuntu1~22.04) 11.4.0 Alpine Linux 3.22.0 Kernel: 5.15 Compiler: gcc gcc (Alpine 14.2.0) 14.2.0 To view detailed results, visit: https://lab.dpdk.org/results/dashboard/patchsets/34607/ UNH-IOL DPDK Community Lab To manage your email subscriptions, visit: https://lab.dpdk.org/results/dashboard/preferences/subscriptions/