From mboxrd@z Thu Jan 1 00:00:00 1970 Return-Path: Received: from mails.dpdk.org (mails.dpdk.org [217.70.189.124]) by inbox.dpdk.org (Postfix) with ESMTP id 8A12D48B20 for ; Sun, 16 Nov 2025 07:38:34 +0100 (CET) Received: from mails.dpdk.org (localhost [127.0.0.1]) by mails.dpdk.org (Postfix) with ESMTP id 83C334026C; Sun, 16 Nov 2025 07:38:34 +0100 (CET) Received: from mail-qv1-f99.google.com (mail-qv1-f99.google.com [209.85.219.99]) by mails.dpdk.org (Postfix) with ESMTP id 72DA54026C for ; Sun, 16 Nov 2025 07:38:33 +0100 (CET) Received: by mail-qv1-f99.google.com with SMTP id 6a1803df08f44-8824ce98111so44884366d6.0 for ; Sat, 15 Nov 2025 22:38:33 -0800 (PST) DKIM-Signature: v=1; a=rsa-sha256; c=relaxed/relaxed; d=iol.unh.edu; s=unh-iol; t=1763275113; x=1763879913; darn=dpdk.org; h=references:in-reply-to:cc:to:from:subject:message-id:date:from:to :cc:subject:date:message-id:reply-to; bh=6b76OV8KDnGN0LaKZRxeps0YJTarFr2XxzAY9Q1zNvk=; b=TZouuIDDPVLVF1oFjxUTStWVB4TqU5oaUHdsJdfFfYQkRDOpBBhKKzqUpIy0r627Im vYuV/B5p0wORP1P5xsGDtb5cQtqUyYmLpVRaruvYbFPH84iaHS+InLq9n/CVnMCRuRzS b9QbexpdrpxZjjbjmPkv7b540r6z2hZwvSLG8= X-Google-DKIM-Signature: v=1; a=rsa-sha256; c=relaxed/relaxed; d=1e100.net; s=20230601; t=1763275113; x=1763879913; h=references:in-reply-to:cc:to:from:subject:message-id:date:x-gm-gg :x-gm-message-state:from:to:cc:subject:date:message-id:reply-to; bh=6b76OV8KDnGN0LaKZRxeps0YJTarFr2XxzAY9Q1zNvk=; b=sfvxbvd/FfJJI+M/NmAZykSW0gfeYkZz2qIAMqpdsYSOkGj2oJ4VuHT+eSNALRoeDu H/Y/01aiLGhvnSV/BxXfcRjMGIt9Xy/Ht6MwMkxUG+YpoHV1nJyHVImKDssOD/yv/Kqa OgUmMKeZcj8mzQmoGBcaQkD2CNEsxOcTO4q6gmZYY0CkwQA9QeBBlwVnUG4b2w43HVRI NetTWvXCABTCTkT/jWlv3sy4Vb/5bdJlTv9nSqyl+6hd57qy/QGCiP+SGDH2yKlPgm3W XYZG8bRcg1zLrgt+pi138r/mexpPWMO/3zYnfuWzJAYsRHVdDCb9D6xB/ydNaibs/wVP Kw1w== X-Gm-Message-State: AOJu0YxtrzEiF3tHH9mxNISSMosst+VZsBWEIbYRHUBGSWAXRuY5SjOG au0YUWfbBhqxG3h3qvjGzvDRKRKsESbmWSC38afLnu8Egd0U+Epm1cZ+QzofNW8HN+0xw5Eh21J UAFCuXW0vzTQvlz3LeBchcj4Zan6K4Naq2WFqltkH+vzV X-Gm-Gg: ASbGncuqEguCkTxVTMabX1uv1Kwee4Nkeix/Rfk5bsJuLoh+qnXDnwob3h4o12Cbfr/ LPiS3p5liuCf7aIzgFHNAOkwIsegcPpxTZmJHMK7gsJp4BBwjP5BPX32DvDqBv855g6y/wZhN1q FUmOeLmPI5o387No9cp/haVM599zzsCmYKk1CZwEe2zA46k+7Sga/MVf4XNm8oTuScSv4X1/6so NtcLhjh1v4KmBBRjORyTuYUN7Y6wfQ+v+KNht3WbL+vbajSsc6FgWI26DEwdw+ras3OQt4BS198 3gEOuXmXPaQ6vF9npAR8Zs6fiUS6fzsDaZIz747PbU8QmCnFHJXClT+JHwuFxfa6NlEYLoY6EB1 KOwRV+lX2ZooAKGb5slIsPINhWrIuGv8= X-Google-Smtp-Source: AGHT+IG7JoOkcz/pvU8ygCvFulrwuvTYVN+yPyS9Ene5xOveGBtMEBbRE8g71NphehFWsSEgQQQ9P102gHIL X-Received: by 2002:a05:6214:21ed:b0:78e:6354:b258 with SMTP id 6a1803df08f44-882925b1ab6mr116804456d6.15.1763275112694; Sat, 15 Nov 2025 22:38:32 -0800 (PST) Received: from postal.iol.unh.edu (postal.iol.unh.edu. [132.177.123.84]) by smtp-relay.gmail.com with ESMTPS id 6a1803df08f44-882862b341asm11717806d6.5.2025.11.15.22.38.32 (version=TLS1_2 cipher=ECDHE-ECDSA-AES128-GCM-SHA256 bits=128/128); Sat, 15 Nov 2025 22:38:32 -0800 (PST) X-Relaying-Domain: iol.unh.edu Date: Sat, 15 Nov 2025 22:38:32 -0800 (PST) Message-ID: <69197168.050a0220.3756e4.b21eSMTPIN_ADDED_MISSING@mx.google.com> Received: from [172.21.0.12] (unknown [172.18.0.240]) by postal.iol.unh.edu (Postfix) with ESMTP id 430C66051830; Sun, 16 Nov 2025 01:38:32 -0500 (EST) Subject: |SUCCESS| pw158829-158832 [PATCH] [v3,4/4] examples: enable format t From: dpdklab@iol.unh.edu To: Test Report Cc: dpdk-test-reports@iol.unh.edu, Chenbo Xia , Maxime Coquelin In-Reply-To: <20251115193749.101355-5-stephen@networkplumber.org> References: <20251115193749.101355-5-stephen@networkplumber.org> Content-Type: text/plain X-BeenThere: test-report@dpdk.org X-Mailman-Version: 2.1.29 Precedence: list List-Id: automatic DPDK test reports List-Unsubscribe: , List-Archive: List-Post: List-Help: List-Subscribe: , Errors-To: test-report-bounces@dpdk.org Test-Label: iol-compile-amd64-testing Test-Status: SUCCESS http://dpdk.org/patch/158832 _Testing PASS_ Submitter: Stephen Hemminger Date: Saturday, November 15 2025 19:36:39 DPDK git baseline: Repo:dpdk-next-virtio Branch: master CommitID:6b37c26a95388aa41bb5267c7c42f604fd571a38 158829-158832 --> testing pass Upstream job id: Generic-DPDK-Compile-Meson#444961 Test environment and result as below: +-------------------------------+-------------------------+--------------------+------------------+-------------------+----------------------+ | Environment | dpdk_llvm_clang_compile | dpdk_meson_compile | dpdk_compile_ovs | dpdk_msvc_compile | dpdk_mingw64_compile | +===============================+=========================+====================+==================+===================+======================+ | Windows Server 2022 | PASS | SKIPPED | SKIPPED | PASS | PASS | +-------------------------------+-------------------------+--------------------+------------------+-------------------+----------------------+ | Ubuntu 20.04 | SKIPPED | PASS | SKIPPED | SKIPPED | SKIPPED | +-------------------------------+-------------------------+--------------------+------------------+-------------------+----------------------+ | CentOS Stream 10 | SKIPPED | PASS | SKIPPED | SKIPPED | SKIPPED | +-------------------------------+-------------------------+--------------------+------------------+-------------------+----------------------+ | CentOS Stream 9 | SKIPPED | PASS | SKIPPED | SKIPPED | SKIPPED | +-------------------------------+-------------------------+--------------------+------------------+-------------------+----------------------+ | Fedora Linux 42 | SKIPPED | PASS | PASS | SKIPPED | SKIPPED | +-------------------------------+-------------------------+--------------------+------------------+-------------------+----------------------+ | Debian GNU/Linux 12 | SKIPPED | PASS | SKIPPED | SKIPPED | SKIPPED | +-------------------------------+-------------------------+--------------------+------------------+-------------------+----------------------+ | openSUSE Leap 15.6 | SKIPPED | PASS | SKIPPED | SKIPPED | SKIPPED | +-------------------------------+-------------------------+--------------------+------------------+-------------------+----------------------+ | Red Hat Enterprise Linux 8.10 | SKIPPED | PASS | SKIPPED | SKIPPED | SKIPPED | +-------------------------------+-------------------------+--------------------+------------------+-------------------+----------------------+ | Red Hat Enterprise Linux 9.5 | SKIPPED | PASS | SKIPPED | SKIPPED | SKIPPED | +-------------------------------+-------------------------+--------------------+------------------+-------------------+----------------------+ | Ubuntu 24.04 | SKIPPED | PASS | PASS | SKIPPED | SKIPPED | +-------------------------------+-------------------------+--------------------+------------------+-------------------+----------------------+ | FreeBSD 14.2 | SKIPPED | PASS | SKIPPED | SKIPPED | SKIPPED | +-------------------------------+-------------------------+--------------------+------------------+-------------------+----------------------+ | Ubuntu 22.04 | SKIPPED | PASS | SKIPPED | SKIPPED | SKIPPED | +-------------------------------+-------------------------+--------------------+------------------+-------------------+----------------------+ | Alpine Linux 3.22.0 | SKIPPED | PASS | SKIPPED | SKIPPED | SKIPPED | +-------------------------------+-------------------------+--------------------+------------------+-------------------+----------------------+ Windows Server 2022 Kernel: 10.0.20348.2031 Compiler: clang 15.0.7, gcc 14.1.0 (MinGW), and MSVC VS 19.39.33521 Ubuntu 20.04 Kernel: 4.19 Compiler: gcc gcc (Ubuntu 9.4.0-1ubuntu1~20.04.2) 9.4.0 CentOS Stream 10 Kernel: 5.15 Compiler: gcc gcc (GCC) 14.2.1 20250110 (Red Hat 14.2.1-8) CentOS Stream 9 Kernel: 5.15 Compiler: gcc gcc (GCC) 11.5.0 20240719 (Red Hat 11.5.0-11) Fedora Linux 42 Kernel: 5.15 Compiler: gcc gcc (GCC) 15.2.1 20250808 (Red Hat 15.2.1-1) Debian GNU/Linux 12 Kernel: 5.15 Compiler: gcc gcc (Debian 12.2.0-14+deb12u1) 12.2.0 openSUSE Leap 15.6 Kernel: 5.15 Compiler: gcc gcc (SUSE Linux) 7.5.0 Red Hat Enterprise Linux 8.10 Kernel: 5.15 Compiler: gcc gcc (GCC) 8.5.0 20210514 (Red Hat 8.5.0-22) Red Hat Enterprise Linux 9.5 Kernel: 5.15 Compiler: gcc gcc (GCC) 11.5.0 20240719 (Red Hat 11.5.0-2) Ubuntu 24.04 Kernel: 5.15 Compiler: gcc gcc (Ubuntu 13.3.0-6ubuntu2~24.04) 13.3.0 FreeBSD 14.2 Kernel: 14.2-RELEASE Compiler: clang 18.1.6 Ubuntu 22.04 Kernel: 5.15 Compiler: gcc gcc (Ubuntu 11.4.0-1ubuntu1~22.04) 11.4.0 Alpine Linux 3.22.0 Kernel: 5.15 Compiler: gcc gcc (Alpine 14.2.0) 14.2.0 To view detailed results, visit: https://lab.dpdk.org/results/dashboard/patchsets/34607/ UNH-IOL DPDK Community Lab To manage your email subscriptions, visit: https://lab.dpdk.org/results/dashboard/preferences/subscriptions/