From mboxrd@z Thu Jan 1 00:00:00 1970 Return-Path: Received: from mails.dpdk.org (mails.dpdk.org [217.70.189.124]) by inbox.dpdk.org (Postfix) with ESMTP id A2AB048B20 for ; Sun, 16 Nov 2025 07:38:57 +0100 (CET) Received: from mails.dpdk.org (localhost [127.0.0.1]) by mails.dpdk.org (Postfix) with ESMTP id 9D7FC4026C; Sun, 16 Nov 2025 07:38:57 +0100 (CET) Received: from mail-qv1-f99.google.com (mail-qv1-f99.google.com [209.85.219.99]) by mails.dpdk.org (Postfix) with ESMTP id 0473240E24 for ; Sun, 16 Nov 2025 07:38:51 +0100 (CET) Received: by mail-qv1-f99.google.com with SMTP id 6a1803df08f44-8823cde292eso38930216d6.2 for ; Sat, 15 Nov 2025 22:38:50 -0800 (PST) DKIM-Signature: v=1; a=rsa-sha256; c=relaxed/relaxed; d=iol.unh.edu; s=unh-iol; t=1763275130; x=1763879930; darn=dpdk.org; h=references:in-reply-to:cc:to:from:subject:message-id:date:from:to :cc:subject:date:message-id:reply-to; bh=vkbXeVh1oo0Xn9tT0T9X3C93Xfl5DUJLONimMT3Je7w=; b=gkpWGFasQh4POusbR5CazJFhGlSZsSWyLpVvAnrXgD4s7Yi+BePuwBdubmUnjub2Fd RWXTax9awtYux2FjgkAiPi5hjVzbSCORkenRR2f434G0R6TC7Px8FgngWe0wUOXnmQT3 fPy7r5lZHxz0yuBLx8mwwLOfOqarHdiaOalSU= X-Google-DKIM-Signature: v=1; a=rsa-sha256; c=relaxed/relaxed; d=1e100.net; s=20230601; t=1763275130; x=1763879930; h=references:in-reply-to:cc:to:from:subject:message-id:date:x-gm-gg :x-gm-message-state:from:to:cc:subject:date:message-id:reply-to; bh=vkbXeVh1oo0Xn9tT0T9X3C93Xfl5DUJLONimMT3Je7w=; b=F4ULsgn1rYgADLGPFPQ2XE5gVwTd5Z2C76L2fpy/IW0y3nYS7AELY20EcXk3d1oM6e qESE/Y/ZFPlLHK+rby4w8fUCeZYYVdRaG6Xtux4i+nd6Sh4k5tYJ0F8nwLFZOs+SpbHf p4Qo403VBhT8tutVPJ/BsWWsjxT+pnl0EmzWpTsQP3Qt+QcSWD7lmxSJoLvrGvAwfw0g KztE8COHnG/GDz8HHyiOHSmA7xGd+/PPMQUSjnQ17gtMJFPBdGyRQqLqyOfulU1Le+0O B4eXX54iW1qapA0QSB1CA4BJTsAV6+2fLShrkw8EGbybiDNfGf0Lw5PBehMm42Ohfn/Z speQ== X-Gm-Message-State: AOJu0Yz9IYZtqn7f3SiPoEQTj+25xui7O/zqpTlQdWxnwGW69Vdl0gwI iflUMajjzt2KZTiCCl09WRMcSH6geEV1jshuNbULjqqKkg350j86AThBEmBXPXZofXdA7RVpleD zudeTzYsG089JD2p7G3xAj819Rmxts7FZsYgsou2zE4AfAoeotnFPBQgQv3u0 X-Gm-Gg: ASbGncsBxjwl/L26eQaC5Qlow9y3erqhfafgfiR6+Eei9Tmchl831rMXLFrb00eVwcu 1IPBShAYr1BA2ZWmc4S4T6dP2Q0idvAnrwbRRE03LL4ARD6QYNAcKnXNkMwasD4+R4hgiArFz6a 0w4bpN2NYHdaEwmfJTkeH/CmJmPk68QWqwmXkjUqYtbX2FKw2tmgzNj/WQBotBV07R6UBZgDSDV tOEI6m3ieGMY942HPp7O6BFK2C78b5naeF8or3PM1ZdWHhR9x16QD9vnnQ7nYFGDkWaUI102C35 UUPwYrUelSBs/hnYFG9Pg19tB1brngnrMES2G6L/xptVm//PuQZz8jJaJIvDplhkFx+pNwBpXgq 52L3bISYV X-Google-Smtp-Source: AGHT+IF7F3dxgzelql5jGIvcH7TpktOH+F0UrNiX6nTNalydQiZpe8/2luXvQjPR8C+VPIXBWI54hSmE7B+1 X-Received: by 2002:a05:6214:c43:b0:880:501f:5cd with SMTP id 6a1803df08f44-882925c5665mr110915016d6.2.1763275130447; Sat, 15 Nov 2025 22:38:50 -0800 (PST) Received: from postal.iol.unh.edu (postal.iol.unh.edu. [2606:4100:3880:1234::84]) by smtp-relay.gmail.com with ESMTPS id 6a1803df08f44-8828657c6aasm11546196d6.26.2025.11.15.22.38.50 (version=TLS1_2 cipher=ECDHE-ECDSA-AES128-GCM-SHA256 bits=128/128); Sat, 15 Nov 2025 22:38:50 -0800 (PST) X-Relaying-Domain: iol.unh.edu Date: Sat, 15 Nov 2025 22:38:50 -0800 (PST) Message-ID: <6919717a.050a0220.3daff.8eccSMTPIN_ADDED_MISSING@mx.google.com> Received: from [172.21.0.8] (unknown [172.18.0.240]) by postal.iol.unh.edu (Postfix) with ESMTP id 320156051830; Sun, 16 Nov 2025 01:38:50 -0500 (EST) Subject: |SUCCESS| pw158829-158832 [PATCH] [v3,4/4] examples: enable format t From: dpdklab@iol.unh.edu To: Test Report Cc: dpdk-test-reports@iol.unh.edu, Chenbo Xia , Maxime Coquelin In-Reply-To: <20251115193749.101355-5-stephen@networkplumber.org> References: <20251115193749.101355-5-stephen@networkplumber.org> Content-Type: text/plain X-BeenThere: test-report@dpdk.org X-Mailman-Version: 2.1.29 Precedence: list List-Id: automatic DPDK test reports List-Unsubscribe: , List-Archive: List-Post: List-Help: List-Subscribe: , Errors-To: test-report-bounces@dpdk.org Test-Label: iol-compile-amd64-testing Test-Status: SUCCESS http://dpdk.org/patch/158832 _Testing PASS_ Submitter: Stephen Hemminger Date: Saturday, November 15 2025 19:36:39 DPDK git baseline: Repo:dpdk-next-virtio Branch: master CommitID:6b37c26a95388aa41bb5267c7c42f604fd571a38 158829-158832 --> testing pass Upstream job id: Generic-DPDK-Compile-Meson#444958 Test environment and result as below: +-------------------------------+-------------------------+--------------------+------------------+-------------------+----------------------+ | Environment | dpdk_llvm_clang_compile | dpdk_meson_compile | dpdk_compile_ovs | dpdk_msvc_compile | dpdk_mingw64_compile | +===============================+=========================+====================+==================+===================+======================+ | Windows Server 2022 | PASS | SKIPPED | SKIPPED | PASS | PASS | +-------------------------------+-------------------------+--------------------+------------------+-------------------+----------------------+ | Ubuntu 20.04 | SKIPPED | PASS | SKIPPED | SKIPPED | SKIPPED | +-------------------------------+-------------------------+--------------------+------------------+-------------------+----------------------+ | CentOS Stream 10 | SKIPPED | PASS | SKIPPED | SKIPPED | SKIPPED | +-------------------------------+-------------------------+--------------------+------------------+-------------------+----------------------+ | CentOS Stream 9 | SKIPPED | PASS | SKIPPED | SKIPPED | SKIPPED | +-------------------------------+-------------------------+--------------------+------------------+-------------------+----------------------+ | Fedora Linux 42 | SKIPPED | PASS | PASS | SKIPPED | SKIPPED | +-------------------------------+-------------------------+--------------------+------------------+-------------------+----------------------+ | Debian GNU/Linux 12 | SKIPPED | PASS | SKIPPED | SKIPPED | SKIPPED | +-------------------------------+-------------------------+--------------------+------------------+-------------------+----------------------+ | openSUSE Leap 15.6 | SKIPPED | PASS | SKIPPED | SKIPPED | SKIPPED | +-------------------------------+-------------------------+--------------------+------------------+-------------------+----------------------+ | Red Hat Enterprise Linux 8.10 | SKIPPED | PASS | SKIPPED | SKIPPED | SKIPPED | +-------------------------------+-------------------------+--------------------+------------------+-------------------+----------------------+ | Red Hat Enterprise Linux 9.5 | SKIPPED | PASS | SKIPPED | SKIPPED | SKIPPED | +-------------------------------+-------------------------+--------------------+------------------+-------------------+----------------------+ | Ubuntu 24.04 | SKIPPED | PASS | PASS | SKIPPED | SKIPPED | +-------------------------------+-------------------------+--------------------+------------------+-------------------+----------------------+ | FreeBSD 14.2 | SKIPPED | PASS | SKIPPED | SKIPPED | SKIPPED | +-------------------------------+-------------------------+--------------------+------------------+-------------------+----------------------+ | Ubuntu 22.04 | SKIPPED | PASS | SKIPPED | SKIPPED | SKIPPED | +-------------------------------+-------------------------+--------------------+------------------+-------------------+----------------------+ | Alpine Linux 3.22.0 | SKIPPED | PASS | SKIPPED | SKIPPED | SKIPPED | +-------------------------------+-------------------------+--------------------+------------------+-------------------+----------------------+ Windows Server 2022 Kernel: 10.0.20348.2031 Compiler: clang 15.0.7, gcc 14.1.0 (MinGW), and MSVC VS 19.39.33521 Ubuntu 20.04 Kernel: 4.19 Compiler: gcc gcc (Ubuntu 9.4.0-1ubuntu1~20.04.2) 9.4.0 CentOS Stream 10 Kernel: 5.15 Compiler: gcc gcc (GCC) 14.2.1 20250110 (Red Hat 14.2.1-8) CentOS Stream 9 Kernel: 5.15 Compiler: gcc gcc (GCC) 11.5.0 20240719 (Red Hat 11.5.0-11) Fedora Linux 42 Kernel: 5.15 Compiler: gcc gcc (GCC) 15.2.1 20250808 (Red Hat 15.2.1-1) Debian GNU/Linux 12 Kernel: 5.15 Compiler: gcc gcc (Debian 12.2.0-14+deb12u1) 12.2.0 openSUSE Leap 15.6 Kernel: 5.15 Compiler: gcc gcc (SUSE Linux) 7.5.0 Red Hat Enterprise Linux 8.10 Kernel: 5.15 Compiler: gcc gcc (GCC) 8.5.0 20210514 (Red Hat 8.5.0-22) Red Hat Enterprise Linux 9.5 Kernel: 5.15 Compiler: gcc gcc (GCC) 11.5.0 20240719 (Red Hat 11.5.0-2) Ubuntu 24.04 Kernel: 5.15 Compiler: gcc gcc (Ubuntu 13.3.0-6ubuntu2~24.04) 13.3.0 FreeBSD 14.2 Kernel: 14.2-RELEASE Compiler: clang 18.1.6 Ubuntu 22.04 Kernel: 5.15 Compiler: gcc gcc (Ubuntu 11.4.0-1ubuntu1~22.04) 11.4.0 Alpine Linux 3.22.0 Kernel: 5.15 Compiler: gcc gcc (Alpine 14.2.0) 14.2.0 To view detailed results, visit: https://lab.dpdk.org/results/dashboard/patchsets/34607/ UNH-IOL DPDK Community Lab To manage your email subscriptions, visit: https://lab.dpdk.org/results/dashboard/preferences/subscriptions/