From mboxrd@z Thu Jan 1 00:00:00 1970 Return-Path: Received: from mails.dpdk.org (mails.dpdk.org [217.70.189.124]) by inbox.dpdk.org (Postfix) with ESMTP id AD7F848B20 for ; Sun, 16 Nov 2025 07:39:05 +0100 (CET) Received: from mails.dpdk.org (localhost [127.0.0.1]) by mails.dpdk.org (Postfix) with ESMTP id A99034026C; Sun, 16 Nov 2025 07:39:05 +0100 (CET) Received: from mail-qv1-f100.google.com (mail-qv1-f100.google.com [209.85.219.100]) by mails.dpdk.org (Postfix) with ESMTP id DDC1F4026C for ; Sun, 16 Nov 2025 07:39:04 +0100 (CET) Received: by mail-qv1-f100.google.com with SMTP id 6a1803df08f44-88267973e5cso18940306d6.3 for ; Sat, 15 Nov 2025 22:39:04 -0800 (PST) DKIM-Signature: v=1; a=rsa-sha256; c=relaxed/relaxed; d=iol.unh.edu; s=unh-iol; t=1763275144; x=1763879944; darn=dpdk.org; h=references:in-reply-to:cc:to:from:subject:message-id:date:from:to :cc:subject:date:message-id:reply-to; bh=Ccg+piVNjMcFDuzMNqicQtpUN9E3g4twPUCqLoSSzNw=; b=FGK9xjsslQCyJ1Oo/CGfodgGNesybIF2URaQbzknpIjpGfKLs08qAB4rAaCMgP+lOd 4vGlAIoIgsWRr3NqouhO9qdhBoDybcMfU7J4A1jHD1lUFfhj6tPftIHmjTEebzttGAIU UsqI3PrZ/X5M/GNz0o7gcAMQKhLtw8/FpKx3g= X-Google-DKIM-Signature: v=1; a=rsa-sha256; c=relaxed/relaxed; d=1e100.net; s=20230601; t=1763275144; x=1763879944; h=references:in-reply-to:cc:to:from:subject:message-id:date:x-gm-gg :x-gm-message-state:from:to:cc:subject:date:message-id:reply-to; bh=Ccg+piVNjMcFDuzMNqicQtpUN9E3g4twPUCqLoSSzNw=; b=nvAUK/DQbRu/ZNnHGaXZxDkv36j8+R2hP7sZsrrFEhxzEpJn4LT6v/CXVjP3dMM+CW 0uU1KELPOhs+0Mpw7nVgGV2TKqwL6TcCsKc3WpUn24RqEVFUoDHO7Tmw3zhoY6kfyy6T Wm34oFCQG/za5sqAt98KUdVuYDKJuSCSPVRMt88aD0v483DvCEoyFYNqvSdlbLckgATx DYLIp+cEysU7Z7PCP3TCGvXP+Ea7xPbhe4Ir0JJYcoSsKgAe16sl7j102X5DvDueEUn4 M6s7VfkQotPnockcueaCg4idRGmHAHe6Xms0h0fflY1QG4ML+zQrFy82tB8a7X2VPHF8 GyDw== X-Gm-Message-State: AOJu0YwQOqLopbbQFF6LQVAwJNG1hWfl4InKrypJpUuwH/zajTvrhhIr B/WB9Q2WggCmLjUI7ageQ2XjwuDWkSnc16KFse3uT+MZk3lxCoOs6FuGESuNHTcz6Kx6uqPYJk/ Y0Nc7aYMEz7fYyGiTcVkGc3lOhEmDu0rh1sJf9lwN7oeOszEDuKBfmV5UMPCL X-Gm-Gg: ASbGncsoXr0oZJlyJ4QghOsGYtHqavtWAKdt0R16xTk4GJIEZgpyBNbtAnGvy+wjged rrj5UX5D5lOI52DsWswQok2FXouomrPb0W6f2g/wFjMYQIaBUoXSosydfQhpZ7Vr0YdygH/fAqF r35f7kR12yv4K1Hqoa8zeQ2111QW9IJF5djkfNoS3YHlp0BJXk7jJU1udxfUuDtkpbC8wVWxjPc pKJDqpCaFOSWK1Oe3jo5cXaZIz4DVooT3taT7sMPkzvtRVuH3sjd4u0e0y3MOghEeXDEF3eKypk 5WuLtN7SBdwiBJ9rTRUPLx7qIH/yOJCAJHIOYasJp1odjBwqD5iYqaZUEtVIlZMQI6UtG9R/Y3C NtHNpbhwh X-Google-Smtp-Source: AGHT+IEkUw9sEWk4cfXO32tLGpfWO0qXQLZNZZFdEX03+vCXllcWpU3opI+pCf5myIYmO0n3CN9pu1KShipC X-Received: by 2002:a05:6214:258b:b0:880:53da:fcbc with SMTP id 6a1803df08f44-882925a3858mr120530806d6.7.1763275144254; Sat, 15 Nov 2025 22:39:04 -0800 (PST) Received: from postal.iol.unh.edu (postal.iol.unh.edu. [2606:4100:3880:1234::84]) by smtp-relay.gmail.com with ESMTPS id 6a1803df08f44-8828653a138sm11274686d6.20.2025.11.15.22.39.04 (version=TLS1_2 cipher=ECDHE-ECDSA-AES128-GCM-SHA256 bits=128/128); Sat, 15 Nov 2025 22:39:04 -0800 (PST) X-Relaying-Domain: iol.unh.edu Date: Sat, 15 Nov 2025 22:39:04 -0800 (PST) Message-ID: <69197188.050a0220.3840d5.8779SMTPIN_ADDED_MISSING@mx.google.com> Received: from [172.21.0.18] (unknown [172.18.0.240]) by postal.iol.unh.edu (Postfix) with ESMTP id F26C36051830; Sun, 16 Nov 2025 01:39:03 -0500 (EST) Subject: |SUCCESS| pw158829-158832 [PATCH] [v3,4/4] examples: enable format t From: dpdklab@iol.unh.edu To: Test Report Cc: dpdk-test-reports@iol.unh.edu, Chenbo Xia , Maxime Coquelin In-Reply-To: <20251115193749.101355-5-stephen@networkplumber.org> References: <20251115193749.101355-5-stephen@networkplumber.org> Content-Type: text/plain X-BeenThere: test-report@dpdk.org X-Mailman-Version: 2.1.29 Precedence: list List-Id: automatic DPDK test reports List-Unsubscribe: , List-Archive: List-Post: List-Help: List-Subscribe: , Errors-To: test-report-bounces@dpdk.org Test-Label: iol-compile-amd64-testing Test-Status: SUCCESS http://dpdk.org/patch/158832 _Testing PASS_ Submitter: Stephen Hemminger Date: Saturday, November 15 2025 19:36:39 DPDK git baseline: Repo:dpdk-next-virtio Branch: master CommitID:6b37c26a95388aa41bb5267c7c42f604fd571a38 158829-158832 --> testing pass Upstream job id: Generic-DPDK-Compile-Meson#444963 Test environment and result as below: +-------------------------------+-------------------------+--------------------+------------------+-------------------+----------------------+ | Environment | dpdk_llvm_clang_compile | dpdk_meson_compile | dpdk_compile_ovs | dpdk_msvc_compile | dpdk_mingw64_compile | +===============================+=========================+====================+==================+===================+======================+ | Windows Server 2022 | PASS | SKIPPED | SKIPPED | PASS | PASS | +-------------------------------+-------------------------+--------------------+------------------+-------------------+----------------------+ | Ubuntu 20.04 | SKIPPED | PASS | SKIPPED | SKIPPED | SKIPPED | +-------------------------------+-------------------------+--------------------+------------------+-------------------+----------------------+ | CentOS Stream 10 | SKIPPED | PASS | SKIPPED | SKIPPED | SKIPPED | +-------------------------------+-------------------------+--------------------+------------------+-------------------+----------------------+ | CentOS Stream 9 | SKIPPED | PASS | SKIPPED | SKIPPED | SKIPPED | +-------------------------------+-------------------------+--------------------+------------------+-------------------+----------------------+ | Fedora Linux 42 | SKIPPED | PASS | PASS | SKIPPED | SKIPPED | +-------------------------------+-------------------------+--------------------+------------------+-------------------+----------------------+ | Debian GNU/Linux 12 | SKIPPED | PASS | SKIPPED | SKIPPED | SKIPPED | +-------------------------------+-------------------------+--------------------+------------------+-------------------+----------------------+ | openSUSE Leap 15.6 | SKIPPED | PASS | SKIPPED | SKIPPED | SKIPPED | +-------------------------------+-------------------------+--------------------+------------------+-------------------+----------------------+ | Red Hat Enterprise Linux 8.10 | SKIPPED | PASS | SKIPPED | SKIPPED | SKIPPED | +-------------------------------+-------------------------+--------------------+------------------+-------------------+----------------------+ | Red Hat Enterprise Linux 9.5 | SKIPPED | PASS | SKIPPED | SKIPPED | SKIPPED | +-------------------------------+-------------------------+--------------------+------------------+-------------------+----------------------+ | Ubuntu 24.04 | SKIPPED | PASS | PASS | SKIPPED | SKIPPED | +-------------------------------+-------------------------+--------------------+------------------+-------------------+----------------------+ | FreeBSD 14.2 | SKIPPED | PASS | SKIPPED | SKIPPED | SKIPPED | +-------------------------------+-------------------------+--------------------+------------------+-------------------+----------------------+ | Ubuntu 22.04 | SKIPPED | PASS | SKIPPED | SKIPPED | SKIPPED | +-------------------------------+-------------------------+--------------------+------------------+-------------------+----------------------+ | Alpine Linux 3.22.0 | SKIPPED | PASS | SKIPPED | SKIPPED | SKIPPED | +-------------------------------+-------------------------+--------------------+------------------+-------------------+----------------------+ Windows Server 2022 Kernel: 10.0.20348.2031 Compiler: clang 15.0.7, gcc 14.1.0 (MinGW), and MSVC VS 19.39.33521 Ubuntu 20.04 Kernel: 4.19 Compiler: gcc gcc (Ubuntu 9.4.0-1ubuntu1~20.04.2) 9.4.0 CentOS Stream 10 Kernel: 5.15 Compiler: gcc gcc (GCC) 14.2.1 20250110 (Red Hat 14.2.1-8) CentOS Stream 9 Kernel: 5.15 Compiler: gcc gcc (GCC) 11.5.0 20240719 (Red Hat 11.5.0-11) Fedora Linux 42 Kernel: 5.15 Compiler: gcc gcc (GCC) 15.2.1 20250808 (Red Hat 15.2.1-1) Debian GNU/Linux 12 Kernel: 5.15 Compiler: gcc gcc (Debian 12.2.0-14+deb12u1) 12.2.0 openSUSE Leap 15.6 Kernel: 5.15 Compiler: gcc gcc (SUSE Linux) 7.5.0 Red Hat Enterprise Linux 8.10 Kernel: 5.15 Compiler: gcc gcc (GCC) 8.5.0 20210514 (Red Hat 8.5.0-22) Red Hat Enterprise Linux 9.5 Kernel: 5.15 Compiler: gcc gcc (GCC) 11.5.0 20240719 (Red Hat 11.5.0-2) Ubuntu 24.04 Kernel: 5.15 Compiler: gcc gcc (Ubuntu 13.3.0-6ubuntu2~24.04) 13.3.0 FreeBSD 14.2 Kernel: 14.2-RELEASE Compiler: clang 18.1.6 Ubuntu 22.04 Kernel: 5.15 Compiler: gcc gcc (Ubuntu 11.4.0-1ubuntu1~22.04) 11.4.0 Alpine Linux 3.22.0 Kernel: 5.15 Compiler: gcc gcc (Alpine 14.2.0) 14.2.0 To view detailed results, visit: https://lab.dpdk.org/results/dashboard/patchsets/34607/ UNH-IOL DPDK Community Lab To manage your email subscriptions, visit: https://lab.dpdk.org/results/dashboard/preferences/subscriptions/