From mboxrd@z Thu Jan 1 00:00:00 1970 Return-Path: Received: from mails.dpdk.org (mails.dpdk.org [217.70.189.124]) by inbox.dpdk.org (Postfix) with ESMTP id B756248B20 for ; Sun, 16 Nov 2025 07:39:08 +0100 (CET) Received: from mails.dpdk.org (localhost [127.0.0.1]) by mails.dpdk.org (Postfix) with ESMTP id B3B2A4026C; Sun, 16 Nov 2025 07:39:08 +0100 (CET) Received: from mail-il1-f225.google.com (mail-il1-f225.google.com [209.85.166.225]) by mails.dpdk.org (Postfix) with ESMTP id 2FE0C4026C for ; Sun, 16 Nov 2025 07:39:05 +0100 (CET) Received: by mail-il1-f225.google.com with SMTP id e9e14a558f8ab-4336f8e97c3so28440765ab.3 for ; Sat, 15 Nov 2025 22:39:05 -0800 (PST) DKIM-Signature: v=1; a=rsa-sha256; c=relaxed/relaxed; d=iol.unh.edu; s=unh-iol; t=1763275144; x=1763879944; darn=dpdk.org; h=references:in-reply-to:cc:to:from:subject:message-id:date:from:to :cc:subject:date:message-id:reply-to; bh=/lZ+9MQB6njQJuelQaJ4zGayMjJaXXEgzZWDuTmK7ZY=; b=GEBmaAJXnplV3isKzYTLWTnOY5iomuo5+03mGDUAv6boxNIx7YwAPnXQ+FLmkL4C18 brBUGExtUVYitrU1/xoLwF59XKxSaHd+sOTEq3OZ958vkVBYjRbN+litoC0lK1H0XDbV XIXqrY0lLz6k2a1JiBC5Fzd3/IYS99uYBCZNk= X-Google-DKIM-Signature: v=1; a=rsa-sha256; c=relaxed/relaxed; d=1e100.net; s=20230601; t=1763275144; x=1763879944; h=references:in-reply-to:cc:to:from:subject:message-id:date:x-gm-gg :x-gm-message-state:from:to:cc:subject:date:message-id:reply-to; bh=/lZ+9MQB6njQJuelQaJ4zGayMjJaXXEgzZWDuTmK7ZY=; b=YcYxH3XNS116S8SkJQjX0eH/bqZj60NLT5dNhbKmtYJCH3QCbtFKpWy4r1LFJ2E2d5 0X9rgClN2Sa2f4vmyubccR/PDONUTf96DMTz9xVyqE/bJdpYbdt6Xl98PyXX7ytMHd+r uI9ksl+/OhN3M5XpCU6eV9L/Xhn+kDGcj01cQ3eIRJDfubESoTaNNw2I5bh11CYpKCKX OkvfassvPXIcBZnuAmAXoFIca+UPcFKs3eDQQQynwRIHJbP/NVEitZQpt4FQsGpHB05j imMDNvn7+GI0QOvG+v6PI2VdZO4vNtpMLWSdQ6KWCWknGX4bcTgGyYrgfUtgaPWITTwa ClUg== X-Gm-Message-State: AOJu0Yze8pAUzZesMupunAbttR9l5+S+HXaGEGDKU90ykib9PGovUSNG 0GZGCEK930RFAkYVpYHMLR/crjGVYC2v6OE6tx/Mwjn16BxLbhgHdnxoFSCgAi4PHMFAMgEnoiC oApU9AnL5saHJXXj/iAW7z/RgAu8ecxyDEfKP0J3vziOLsErGoDMLwrKKzUp9 X-Gm-Gg: ASbGncumhzBtnZD86ZismBH/8kDip/SfyKyr6CtseLW5y1aoAWVd6alpWPvMPpRXbCV S2hAKvF5AtuxqwqGSxA8Cai1AfZ80mX0dtCIg6wM+V1QM42EtbdeylZUrngnHsBHeFtwEfQ2M3o BNWo4FgI0F2fuu6830OqqH4oZzFw7qN0JoXJ7uDdVZNk1KzI9N1Fu+LREwDc83YtfNznI36HXue OS679QBNrSxlYjtYjjG6kk0icO71LzYrBZLaaCtJWCAnRZsvCDDq4Zy54RMhi3y7Yd0lsBPT3oh u5cZ5LSaiIW5xrfvqsNZGJnyqgT61b+gbB7cJ34NTJf7Qnt2k9FttVEGdZjwR2K+yKMNrf4gu+U DAg3PGZyv X-Google-Smtp-Source: AGHT+IGvYDtLmoazTBMhQj0uBIzfUTqbMp3p4vMOqQXZWCtk7CWb5cCCOcvjLPlpBYkODncJHy6AMdbv8FKf X-Received: by 2002:a05:6e02:99:b0:433:6aa2:f6aa with SMTP id e9e14a558f8ab-4348c95ca9fmr143651585ab.29.1763275144495; Sat, 15 Nov 2025 22:39:04 -0800 (PST) Received: from postal.iol.unh.edu (postal.iol.unh.edu. [2606:4100:3880:1234::84]) by smtp-relay.gmail.com with ESMTPS id e9e14a558f8ab-434839b238asm8950205ab.24.2025.11.15.22.39.04 (version=TLS1_2 cipher=ECDHE-ECDSA-AES128-GCM-SHA256 bits=128/128); Sat, 15 Nov 2025 22:39:04 -0800 (PST) X-Relaying-Domain: iol.unh.edu Date: Sat, 15 Nov 2025 22:39:04 -0800 (PST) Message-ID: <69197188.050a0220.ea2aa.c5f4SMTPIN_ADDED_MISSING@mx.google.com> Received: from [172.21.0.5] (unknown [172.18.0.240]) by postal.iol.unh.edu (Postfix) with ESMTP id 097BD6051835; Sun, 16 Nov 2025 01:39:04 -0500 (EST) Subject: |SUCCESS| pw158829-158832 [PATCH] [v3,4/4] examples: enable format t From: dpdklab@iol.unh.edu To: Test Report Cc: dpdk-test-reports@iol.unh.edu, Chenbo Xia , Maxime Coquelin In-Reply-To: <20251115193749.101355-5-stephen@networkplumber.org> References: <20251115193749.101355-5-stephen@networkplumber.org> Content-Type: text/plain X-BeenThere: test-report@dpdk.org X-Mailman-Version: 2.1.29 Precedence: list List-Id: automatic DPDK test reports List-Unsubscribe: , List-Archive: List-Post: List-Help: List-Subscribe: , Errors-To: test-report-bounces@dpdk.org Test-Label: iol-compile-amd64-testing Test-Status: SUCCESS http://dpdk.org/patch/158832 _Testing PASS_ Submitter: Stephen Hemminger Date: Saturday, November 15 2025 19:36:39 DPDK git baseline: Repo:dpdk-next-virtio Branch: master CommitID:6b37c26a95388aa41bb5267c7c42f604fd571a38 158829-158832 --> testing pass Upstream job id: Generic-DPDK-Compile-Meson#444956 Test environment and result as below: +-------------------------------+-------------------------+--------------------+------------------+-------------------+----------------------+ | Environment | dpdk_llvm_clang_compile | dpdk_meson_compile | dpdk_compile_ovs | dpdk_msvc_compile | dpdk_mingw64_compile | +===============================+=========================+====================+==================+===================+======================+ | Windows Server 2022 | PASS | SKIPPED | SKIPPED | PASS | PASS | +-------------------------------+-------------------------+--------------------+------------------+-------------------+----------------------+ | Ubuntu 20.04 | SKIPPED | PASS | SKIPPED | SKIPPED | SKIPPED | +-------------------------------+-------------------------+--------------------+------------------+-------------------+----------------------+ | CentOS Stream 10 | SKIPPED | PASS | SKIPPED | SKIPPED | SKIPPED | +-------------------------------+-------------------------+--------------------+------------------+-------------------+----------------------+ | CentOS Stream 9 | SKIPPED | PASS | SKIPPED | SKIPPED | SKIPPED | +-------------------------------+-------------------------+--------------------+------------------+-------------------+----------------------+ | Fedora Linux 42 | SKIPPED | PASS | PASS | SKIPPED | SKIPPED | +-------------------------------+-------------------------+--------------------+------------------+-------------------+----------------------+ | Debian GNU/Linux 12 | SKIPPED | PASS | SKIPPED | SKIPPED | SKIPPED | +-------------------------------+-------------------------+--------------------+------------------+-------------------+----------------------+ | openSUSE Leap 15.6 | SKIPPED | PASS | SKIPPED | SKIPPED | SKIPPED | +-------------------------------+-------------------------+--------------------+------------------+-------------------+----------------------+ | Red Hat Enterprise Linux 8.10 | SKIPPED | PASS | SKIPPED | SKIPPED | SKIPPED | +-------------------------------+-------------------------+--------------------+------------------+-------------------+----------------------+ | Red Hat Enterprise Linux 9.5 | SKIPPED | PASS | SKIPPED | SKIPPED | SKIPPED | +-------------------------------+-------------------------+--------------------+------------------+-------------------+----------------------+ | Ubuntu 24.04 | SKIPPED | PASS | PASS | SKIPPED | SKIPPED | +-------------------------------+-------------------------+--------------------+------------------+-------------------+----------------------+ | FreeBSD 14.2 | SKIPPED | PASS | SKIPPED | SKIPPED | SKIPPED | +-------------------------------+-------------------------+--------------------+------------------+-------------------+----------------------+ | Ubuntu 22.04 | SKIPPED | PASS | SKIPPED | SKIPPED | SKIPPED | +-------------------------------+-------------------------+--------------------+------------------+-------------------+----------------------+ | Alpine Linux 3.22.0 | SKIPPED | PASS | SKIPPED | SKIPPED | SKIPPED | +-------------------------------+-------------------------+--------------------+------------------+-------------------+----------------------+ Windows Server 2022 Kernel: 10.0.20348.2031 Compiler: clang 15.0.7, gcc 14.1.0 (MinGW), and MSVC VS 19.39.33521 Ubuntu 20.04 Kernel: 4.19 Compiler: gcc gcc (Ubuntu 9.4.0-1ubuntu1~20.04.2) 9.4.0 CentOS Stream 10 Kernel: 5.15 Compiler: gcc gcc (GCC) 14.2.1 20250110 (Red Hat 14.2.1-8) CentOS Stream 9 Kernel: 5.15 Compiler: gcc gcc (GCC) 11.5.0 20240719 (Red Hat 11.5.0-11) Fedora Linux 42 Kernel: 5.15 Compiler: gcc gcc (GCC) 15.2.1 20250808 (Red Hat 15.2.1-1) Debian GNU/Linux 12 Kernel: 5.15 Compiler: gcc gcc (Debian 12.2.0-14+deb12u1) 12.2.0 openSUSE Leap 15.6 Kernel: 5.15 Compiler: gcc gcc (SUSE Linux) 7.5.0 Red Hat Enterprise Linux 8.10 Kernel: 5.15 Compiler: gcc gcc (GCC) 8.5.0 20210514 (Red Hat 8.5.0-22) Red Hat Enterprise Linux 9.5 Kernel: 5.15 Compiler: gcc gcc (GCC) 11.5.0 20240719 (Red Hat 11.5.0-2) Ubuntu 24.04 Kernel: 5.15 Compiler: gcc gcc (Ubuntu 13.3.0-6ubuntu2~24.04) 13.3.0 FreeBSD 14.2 Kernel: 14.2-RELEASE Compiler: clang 18.1.6 Ubuntu 22.04 Kernel: 5.15 Compiler: gcc gcc (Ubuntu 11.4.0-1ubuntu1~22.04) 11.4.0 Alpine Linux 3.22.0 Kernel: 5.15 Compiler: gcc gcc (Alpine 14.2.0) 14.2.0 To view detailed results, visit: https://lab.dpdk.org/results/dashboard/patchsets/34607/ UNH-IOL DPDK Community Lab To manage your email subscriptions, visit: https://lab.dpdk.org/results/dashboard/preferences/subscriptions/