From mboxrd@z Thu Jan 1 00:00:00 1970 Return-Path: Received: from mails.dpdk.org (mails.dpdk.org [217.70.189.124]) by inbox.dpdk.org (Postfix) with ESMTP id 7626648B24 for ; Sun, 16 Nov 2025 08:16:13 +0100 (CET) Received: from mails.dpdk.org (localhost [127.0.0.1]) by mails.dpdk.org (Postfix) with ESMTP id 6D0204026C; Sun, 16 Nov 2025 08:16:13 +0100 (CET) Received: from mail-il1-f226.google.com (mail-il1-f226.google.com [209.85.166.226]) by mails.dpdk.org (Postfix) with ESMTP id 3EE244026C for ; Sun, 16 Nov 2025 08:16:12 +0100 (CET) Received: by mail-il1-f226.google.com with SMTP id e9e14a558f8ab-43476cba770so15138855ab.1 for ; Sat, 15 Nov 2025 23:16:12 -0800 (PST) DKIM-Signature: v=1; a=rsa-sha256; c=relaxed/relaxed; d=iol.unh.edu; s=unh-iol; t=1763277371; x=1763882171; darn=dpdk.org; h=references:in-reply-to:cc:to:from:subject:message-id:date:from:to :cc:subject:date:message-id:reply-to; bh=K4iz9QFcgE8ba7pX/WG9f2ZdhKJGNIO3umHpkMacbZI=; b=GFS++y+SSxqs79Uosgm7Mrp+IAKkeboOeRHN3xWwk1pmcpoP9vQh3o7zcAvoi5avGg GCShaWsQV6Dr9oO5EPOLnUrZwuhhnlEP9A9W6KUgtQoox1zpNt6/oZxj1u66gEbgGVwC y3II/7v8KhdoKc8o9OVx/lC/djHX0sHMZCbtQ= X-Google-DKIM-Signature: v=1; a=rsa-sha256; c=relaxed/relaxed; d=1e100.net; s=20230601; t=1763277371; x=1763882171; h=references:in-reply-to:cc:to:from:subject:message-id:date:x-gm-gg :x-gm-message-state:from:to:cc:subject:date:message-id:reply-to; bh=K4iz9QFcgE8ba7pX/WG9f2ZdhKJGNIO3umHpkMacbZI=; b=p0gH/Qa4Q6OvKu0ghz56IrrbNspGLvxuoz3SeZe9I0u8b0T8zDOw54oxAFEMZldyAh jDN5zzkEw3Wf2NVqkYLsqftZFeArYlGImCBILJDBfDNicYQxedx3i6y+5ocLq8JVv0ga C3eNwtzAc8fY33EZHWQE6a5QeIBDO/kHrFVhwjF0iRF86CZMsAz3DHw3nHV2s7g7e2jU oE4jTJluZ8J2RTiI6CpJUU+T/9B0HJZb386yEVzagFj+8do6h7EYfuz3GOnUB5cZj5Gh IhIs9NYfpYGpdnEAaHdPWUvBzdBftBlWMVKaQ7alPWRrnBBzi2srrMMapHvav33OZYFG /Zzg== X-Gm-Message-State: AOJu0Yy/4Tuw1OUiVCNOLKBQDikUZgGGrCTHiydPKESH4dJON5IJdmsI 88aWE6Du86WQz8ckNt8eol1JJFRXYbse7vF9y10LQbQr+pj5wTBPqlMqBLyavLHN1YJ+wZJJDwS FMcquaaxBwfcre/OYEzrQ2T4EXNtlH2aq/H0PLvnuM9w4wLNiEU0fUf6e4UmO X-Gm-Gg: ASbGncuF4/tGFXF602fbZr7qOQj7RBI0fV3lxw4ZyxqSBRVBxkCWhZTKJTqEkRKtXgW GcPKc/hcWSby6u0qEad27XepMdmd6QUMepDtf1oLEFwQP+JCRS+YfJXcDRCglfU0eNMFj7hW5w8 13+SeS9Bm9sLzIPtbUKU0ROKaLOpsXK8HdTQlTEuY963pys7m7OO3YQKvsJM9AY9QXfAZ64hbft fwlTEPAffeL1/enZTnBEdOQJWVaOyvqL1dV7zLm7KWcCifbjbtdntEXABSol0rNJ393o+rZ8/pm p4EBNyfFw8XnmT4y+o2WpY9lCLa2lUgpNsexd8sE4bf9XIhF5VE5zDf++QlO1bNgozxn1w0EIWT wzcwFKzkg X-Google-Smtp-Source: AGHT+IHsD7xvOdVWqntjTM/+F4Uh49e0XV5YMh3Qhe8xO0+VdUjYzC2qfNV9vy5BiN+MG4GFjyvDwkz13OU4 X-Received: by 2002:a92:cf43:0:b0:434:96ea:ff44 with SMTP id e9e14a558f8ab-43496eb0013mr52912685ab.18.1763277371447; Sat, 15 Nov 2025 23:16:11 -0800 (PST) Received: from postal.iol.unh.edu (postal.iol.unh.edu. [2606:4100:3880:1234::84]) by smtp-relay.gmail.com with ESMTPS id e9e14a558f8ab-43483992476sm8224905ab.17.2025.11.15.23.16.11 (version=TLS1_2 cipher=ECDHE-ECDSA-AES128-GCM-SHA256 bits=128/128); Sat, 15 Nov 2025 23:16:11 -0800 (PST) X-Relaying-Domain: iol.unh.edu Date: Sat, 15 Nov 2025 23:16:11 -0800 (PST) Message-ID: <69197a3b.920a0220.33f9e8.930dSMTPIN_ADDED_MISSING@mx.google.com> Received: from [172.21.0.3] (unknown [172.18.0.240]) by postal.iol.unh.edu (Postfix) with ESMTP id F01166051830; Sun, 16 Nov 2025 02:16:10 -0500 (EST) Subject: |SUCCESS| pw158833 [PATCH] [v2] net/ice: add MAC anti-spoof option From: dpdklab@iol.unh.edu To: Test Report Cc: dpdk-test-reports@iol.unh.edu, Bruce Richardson In-Reply-To: <20251116035749.45922-1-anurag.mandal@intel.com> References: <20251116035749.45922-1-anurag.mandal@intel.com> Content-Type: text/plain X-BeenThere: test-report@dpdk.org X-Mailman-Version: 2.1.29 Precedence: list List-Id: automatic DPDK test reports List-Unsubscribe: , List-Archive: List-Post: List-Help: List-Subscribe: , Errors-To: test-report-bounces@dpdk.org Test-Label: iol-compile-amd64-testing Test-Status: SUCCESS http://dpdk.org/patch/158833 _Testing PASS_ Submitter: Anurag Mandal Date: Sunday, November 16 2025 03:57:49 DPDK git baseline: Repo:dpdk-next-net-intel Branch: master CommitID:e5357d609907d504f4705e4899f3dad43cb4b70f 158833 --> testing pass Upstream job id: Windows-Compile-DPDK-Native#32444 Test environment and result as below: +---------------------+--------------------+-------------------+-------------------------+ | Environment | dpdk_meson_compile | dpdk_msvc_compile | dpdk_llvm_clang_compile | +=====================+====================+===================+=========================+ | Ubuntu 20.04 | PASS | SKIPPED | SKIPPED | +---------------------+--------------------+-------------------+-------------------------+ | FreeBSD 14.2 | PASS | SKIPPED | SKIPPED | +---------------------+--------------------+-------------------+-------------------------+ | Windows Server 2022 | SKIPPED | PASS | PASS | +---------------------+--------------------+-------------------+-------------------------+ Ubuntu 20.04 Kernel: 4.19 Compiler: gcc gcc (Ubuntu 9.4.0-1ubuntu1~20.04.2) 9.4.0 FreeBSD 14.2 Kernel: 14.2-RELEASE Compiler: clang 18.1.6 Windows Server 2022 Kernel: 10.0.20348.2031 Compiler: clang 15.0.7, gcc 14.1.0 (MinGW), and MSVC VS 19.39.33521 To view detailed results, visit: https://lab.dpdk.org/results/dashboard/patchsets/34608/ UNH-IOL DPDK Community Lab To manage your email subscriptions, visit: https://lab.dpdk.org/results/dashboard/preferences/subscriptions/