From mboxrd@z Thu Jan 1 00:00:00 1970 Return-Path: Received: from mails.dpdk.org (mails.dpdk.org [217.70.189.124]) by inbox.dpdk.org (Postfix) with ESMTP id D089948B24 for ; Sun, 16 Nov 2025 08:18:07 +0100 (CET) Received: from mails.dpdk.org (localhost [127.0.0.1]) by mails.dpdk.org (Postfix) with ESMTP id CB6584026C; Sun, 16 Nov 2025 08:18:07 +0100 (CET) Received: from mail-qv1-f98.google.com (mail-qv1-f98.google.com [209.85.219.98]) by mails.dpdk.org (Postfix) with ESMTP id 2666F4026C for ; Sun, 16 Nov 2025 08:18:07 +0100 (CET) Received: by mail-qv1-f98.google.com with SMTP id 6a1803df08f44-8824a756771so32567456d6.0 for ; Sat, 15 Nov 2025 23:18:07 -0800 (PST) DKIM-Signature: v=1; a=rsa-sha256; c=relaxed/relaxed; d=iol.unh.edu; s=unh-iol; t=1763277486; x=1763882286; darn=dpdk.org; h=cc:to:from:subject:message-id:date:from:to:cc:subject:date :message-id:reply-to; bh=XmWEtOT1rg/m76/qXsApq803e3i0Vyw5mp+NBMyzRkg=; b=LFeUK60nmm2Sa0zA8nR0t8NrWXGWBdlYQeV5vgWQ+KHtKyMWPpgDUsKXCjuPEuqFVQ dDm6vIp03NLuDcTMJh26FaV6vxirt0a24lTN5RgSabNJFe/AUpOeGa5xx+oIQ7HNA1Oz nWYbT3PKk8KMvsGe4NwALHjJ06gP3ZctFdBMA= X-Google-DKIM-Signature: v=1; a=rsa-sha256; c=relaxed/relaxed; d=1e100.net; s=20230601; t=1763277486; x=1763882286; h=cc:to:from:subject:message-id:date:x-gm-gg:x-gm-message-state:from :to:cc:subject:date:message-id:reply-to; bh=XmWEtOT1rg/m76/qXsApq803e3i0Vyw5mp+NBMyzRkg=; b=TXrAu2Ah71w1ChZlSS2LwydyhQQRQ5HYet/BwGtR5ZyxfWNUmmrC+G970LA5Y/b03B mD6EsevHGlJLjIgw0xeVr4ymuDj1NFt22+FbqXRG62yArYFbtHyRKi+jWhEmAsh7lOPf qtAL9FJ11CzPqxowMf5hK52usttQtDFw1FcKSKUEsxqEg+bAylAzF1ucbDdxtn22cMdL AHJBDcJ12l+HsXvhkAXLZMC3W+rb5nEkg8LdVdGkYYEVLFTeE2cLT4L8vVDaxa61rdL5 IfBBeR1fijQwyMzHPY7jqYP0+0fhasP/KapK96XNqic41AR3yGx0otNdejFt0Q5V/y5s +cNw== X-Gm-Message-State: AOJu0YwX4FycXOGKdxfhQUkq7TF+K3GWnT0FNAtj/Wtrf65p0S5nhr2I yq+NnZ8d+5zonvTe6SDVpMUpdsj3CWhId0O3QjqiHvCI9MS/bCKY+F6lwK5Jf1APET2cg/7IEJf kYoy+m8THXr6MZ6BqOahE784eML2K7+srs//NyCn+hNnpTQiuIeaT X-Gm-Gg: ASbGnctCgzD+nrZALjdvHfn8P4ZLS2KP9aJxPhO+eufra7povfka0GOa3hWzE1GwKGZ +kTOf50NpmwesKjpe1DyQny7BCHoIOYuYInNWFCShJDZzjQFHGUmSonX5dEhTHE3ynyPyVgiWvz g53jAygYb/Ik8co/ok/TX3SNsYj6gdn1lPbM6b5IIVgQwNLvMBd33w4ybLfQ+1xZzH77IyTQjgw lBFwdbVlxckykGuS4/FxwVX+5d786p8sp6R5LxIfi4XvyveJD4Fz8ILVVJ+Q1BRdIAqkB6v+JAP R/58iPbmA0ImnhOIKPsawNTWGNUFPagJf4tZ92SlK3S8c9R8wLCUXNntdmxhi2cEm25uwF2kdNu 1ZB+hYZFk X-Google-Smtp-Source: AGHT+IE7+k5NtaXaRYm21tqgGG+Y/ET+bDyiOgQffvAKvIg79G1Vnbkrxp72ogy3LP8g2NKXAi8Or73OyxYw X-Received: by 2002:a05:6214:c49:b0:775:6a7c:dbd5 with SMTP id 6a1803df08f44-8829100586dmr140171746d6.33.1763277486522; Sat, 15 Nov 2025 23:18:06 -0800 (PST) Received: from postal.iol.unh.edu (postal.iol.unh.edu. [2606:4100:3880:1234::84]) by smtp-relay.gmail.com with ESMTPS id 6a1803df08f44-882862b3ddasm11705756d6.1.2025.11.15.23.18.06 (version=TLS1_2 cipher=ECDHE-ECDSA-AES128-GCM-SHA256 bits=128/128); Sat, 15 Nov 2025 23:18:06 -0800 (PST) X-Relaying-Domain: iol.unh.edu Date: Sat, 15 Nov 2025 23:18:06 -0800 (PST) Message-ID: <69197aae.d40a0220.29ea87.a1bcSMTPIN_ADDED_MISSING@mx.google.com> Received: from [172.21.0.2] (unknown [172.18.0.240]) by postal.iol.unh.edu (Postfix) with ESMTP id 40D006051830; Sun, 16 Nov 2025 02:18:06 -0500 (EST) Subject: |SUCCESS| [GIT MASTER] 9784db2c5af1eecd02fc21132b59b5b266039b87 From: dpdklab@iol.unh.edu To: Test Report Cc: dpdk-test-reports@iol.unh.edu, Xueming Li , Christian Ehrhardt , Kevin Traynor , Luca Boccassi Content-Type: text/plain X-BeenThere: test-report@dpdk.org X-Mailman-Version: 2.1.29 Precedence: list List-Id: automatic DPDK test reports List-Unsubscribe: , List-Archive: List-Post: List-Help: List-Subscribe: , Errors-To: test-report-bounces@dpdk.org _Testing PASS_ Branch: tags/v22.11 9784db2c5af1eecd02fc21132b59b5b266039b87 --> testing pass Upstream job id: Generic-DPDK-Compile-Meson#444968 Test environment and result as below: +-------------------------------+--------------------+-------------------------+----------------------+ | Environment | dpdk_meson_compile | dpdk_llvm_clang_compile | dpdk_mingw64_compile | +===============================+====================+=========================+======================+ | FreeBSD 14.2 | PASS | SKIPPED | SKIPPED | +-------------------------------+--------------------+-------------------------+----------------------+ | Ubuntu 20.04 | PASS | SKIPPED | SKIPPED | +-------------------------------+--------------------+-------------------------+----------------------+ | Debian GNU/Linux 12 | PASS | SKIPPED | SKIPPED | +-------------------------------+--------------------+-------------------------+----------------------+ | Fedora Linux 42 | PASS | SKIPPED | SKIPPED | +-------------------------------+--------------------+-------------------------+----------------------+ | Ubuntu 24.04 | PASS | SKIPPED | SKIPPED | +-------------------------------+--------------------+-------------------------+----------------------+ | CentOS Stream 9 | PASS | SKIPPED | SKIPPED | +-------------------------------+--------------------+-------------------------+----------------------+ | Red Hat Enterprise Linux 8.10 | PASS | SKIPPED | SKIPPED | +-------------------------------+--------------------+-------------------------+----------------------+ | CentOS Stream 10 | PASS | SKIPPED | SKIPPED | +-------------------------------+--------------------+-------------------------+----------------------+ | openSUSE Leap 15.6 | PASS | SKIPPED | SKIPPED | +-------------------------------+--------------------+-------------------------+----------------------+ | Ubuntu 22.04 | PASS | SKIPPED | SKIPPED | +-------------------------------+--------------------+-------------------------+----------------------+ | Red Hat Enterprise Linux 9.5 | PASS | SKIPPED | SKIPPED | +-------------------------------+--------------------+-------------------------+----------------------+ | Windows Server 2022 | SKIPPED | PASS | PASS | +-------------------------------+--------------------+-------------------------+----------------------+ FreeBSD 14.2 Kernel: 14.2-RELEASE Compiler: clang 18.1.6 Ubuntu 20.04 Kernel: 4.19 Compiler: gcc gcc (Ubuntu 9.4.0-1ubuntu1~20.04.2) 9.4.0 Debian GNU/Linux 12 Kernel: 5.15 Compiler: gcc gcc (Debian 12.2.0-14+deb12u1) 12.2.0 Fedora Linux 42 Kernel: 5.15 Compiler: gcc gcc (GCC) 15.2.1 20250808 (Red Hat 15.2.1-1) Ubuntu 24.04 Kernel: 5.15 Compiler: gcc gcc (Ubuntu 13.3.0-6ubuntu2~24.04) 13.3.0 CentOS Stream 9 Kernel: 5.15 Compiler: gcc gcc (GCC) 11.5.0 20240719 (Red Hat 11.5.0-11) Red Hat Enterprise Linux 8.10 Kernel: 5.15 Compiler: gcc gcc (GCC) 8.5.0 20210514 (Red Hat 8.5.0-22) CentOS Stream 10 Kernel: 5.15 Compiler: gcc gcc (GCC) 14.2.1 20250110 (Red Hat 14.2.1-8) openSUSE Leap 15.6 Kernel: 5.15 Compiler: gcc gcc (SUSE Linux) 7.5.0 Ubuntu 22.04 Kernel: 5.15 Compiler: gcc gcc (Ubuntu 11.4.0-1ubuntu1~22.04) 11.4.0 Red Hat Enterprise Linux 9.5 Kernel: 5.15 Compiler: gcc gcc (GCC) 11.5.0 20240719 (Red Hat 11.5.0-2) Windows Server 2022 Kernel: 10.0.20348.2031 Compiler: clang 15.0.7, gcc 14.1.0 (MinGW), and MSVC VS 19.39.33521 To view detailed results, visit: https://lab.dpdk.org/results/dashboard/tarballs/35614/ UNH-IOL DPDK Community Lab To manage your email subscriptions, visit: https://lab.dpdk.org/results/dashboard/preferences/subscriptions/