From: dpdklab@iol.unh.edu
To: Test Report <test-report@dpdk.org>
Cc: dpdk-test-reports@iol.unh.edu,
Bruce Richardson <bruce.richardson@intel.com>
Subject: |SUCCESS| pw158833 [PATCH] [v2] net/ice: add MAC anti-spoof option
Date: Sat, 15 Nov 2025 23:25:59 -0800 (PST) [thread overview]
Message-ID: <69197c87.050a0220.fc618.a28bSMTPIN_ADDED_MISSING@mx.google.com> (raw)
In-Reply-To: <20251116035749.45922-1-anurag.mandal@intel.com>
Test-Label: iol-compile-amd64-testing
Test-Status: SUCCESS
http://dpdk.org/patch/158833
_Testing PASS_
Submitter: Anurag Mandal <anurag.mandal@intel.com>
Date: Sunday, November 16 2025 03:57:49
DPDK git baseline: Repo:dpdk-next-net-intel
Branch: master
CommitID:e5357d609907d504f4705e4899f3dad43cb4b70f
158833 --> testing pass
Upstream job id: Windows-Compile-DPDK-Native#32445
Test environment and result as below:
+---------------------+--------------------+-------------------+-------------------------+----------------------+
| Environment | dpdk_meson_compile | dpdk_msvc_compile | dpdk_llvm_clang_compile | dpdk_mingw64_compile |
+=====================+====================+===================+=========================+======================+
| Ubuntu 20.04 | PASS | SKIPPED | SKIPPED | SKIPPED |
+---------------------+--------------------+-------------------+-------------------------+----------------------+
| FreeBSD 14.2 | PASS | SKIPPED | SKIPPED | SKIPPED |
+---------------------+--------------------+-------------------+-------------------------+----------------------+
| Windows Server 2022 | SKIPPED | PASS | PASS | PASS |
+---------------------+--------------------+-------------------+-------------------------+----------------------+
Ubuntu 20.04
Kernel: 4.19
Compiler: gcc gcc (Ubuntu 9.4.0-1ubuntu1~20.04.2) 9.4.0
FreeBSD 14.2
Kernel: 14.2-RELEASE
Compiler: clang 18.1.6
Windows Server 2022
Kernel: 10.0.20348.2031
Compiler: clang 15.0.7, gcc 14.1.0 (MinGW), and MSVC VS 19.39.33521
To view detailed results, visit:
https://lab.dpdk.org/results/dashboard/patchsets/34608/
UNH-IOL DPDK Community Lab
To manage your email subscriptions, visit:
https://lab.dpdk.org/results/dashboard/preferences/subscriptions/
next prev parent reply other threads:[~2025-11-16 7:26 UTC|newest]
Thread overview: 23+ messages / expand[flat|nested] mbox.gz Atom feed top
[not found] <20251116035749.45922-1-anurag.mandal@intel.com>
2025-11-16 3:25 ` |SUCCESS| pw158833 [PATCH v2] " qemudev
2025-11-16 3:30 ` qemudev
2025-11-16 3:57 ` checkpatch
2025-11-16 6:26 ` 0-day Robot
2025-11-16 6:27 ` 0-day Robot
2025-11-16 6:51 ` |PENDING| pw158833 [PATCH] [v2] " dpdklab
2025-11-16 6:55 ` |SUCCESS| " dpdklab
2025-11-16 6:59 ` dpdklab
2025-11-16 7:03 ` dpdklab
2025-11-16 7:11 ` |PENDING| " dpdklab
2025-11-16 7:11 ` |SUCCESS| " dpdklab
2025-11-16 7:15 ` dpdklab
2025-11-16 7:16 ` dpdklab
2025-11-16 7:17 ` dpdklab
2025-11-16 7:24 ` |PENDING| " dpdklab
2025-11-16 7:25 ` dpdklab [this message]
2025-11-16 7:54 ` dpdklab
2025-11-16 8:01 ` |SUCCESS| " dpdklab
2025-11-16 8:06 ` dpdklab
2025-11-16 8:24 ` dpdklab
2025-11-16 8:28 ` dpdklab
2025-11-16 8:33 ` dpdklab
2025-11-16 10:01 ` dpdklab
Reply instructions:
You may reply publicly to this message via plain-text email
using any one of the following methods:
* Save the following mbox file, import it into your mail client,
and reply-to-all from there: mbox
Avoid top-posting and favor interleaved quoting:
https://en.wikipedia.org/wiki/Posting_style#Interleaved_style
* Reply using the --to, --cc, and --in-reply-to
switches of git-send-email(1):
git send-email \
--in-reply-to=69197c87.050a0220.fc618.a28bSMTPIN_ADDED_MISSING@mx.google.com \
--to=dpdklab@iol.unh.edu \
--cc=bruce.richardson@intel.com \
--cc=dpdk-test-reports@iol.unh.edu \
--cc=test-report@dpdk.org \
/path/to/YOUR_REPLY
https://kernel.org/pub/software/scm/git/docs/git-send-email.html
* If your mail client supports setting the In-Reply-To header
via mailto: links, try the mailto: link
Be sure your reply has a Subject: header at the top and a blank line
before the message body.
This is a public inbox, see mirroring instructions
for how to clone and mirror all data and code used for this inbox;
as well as URLs for NNTP newsgroup(s).