From mboxrd@z Thu Jan 1 00:00:00 1970 Return-Path: Received: from mails.dpdk.org (mails.dpdk.org [217.70.189.124]) by inbox.dpdk.org (Postfix) with ESMTP id 8838848B24 for ; Sun, 16 Nov 2025 08:26:01 +0100 (CET) Received: from mails.dpdk.org (localhost [127.0.0.1]) by mails.dpdk.org (Postfix) with ESMTP id 801EE4026C; Sun, 16 Nov 2025 08:26:01 +0100 (CET) Received: from mail-qv1-f99.google.com (mail-qv1-f99.google.com [209.85.219.99]) by mails.dpdk.org (Postfix) with ESMTP id 9BE9E4026C for ; Sun, 16 Nov 2025 08:26:00 +0100 (CET) Received: by mail-qv1-f99.google.com with SMTP id 6a1803df08f44-882399d60baso31257726d6.0 for ; Sat, 15 Nov 2025 23:26:00 -0800 (PST) DKIM-Signature: v=1; a=rsa-sha256; c=relaxed/relaxed; d=iol.unh.edu; s=unh-iol; t=1763277960; x=1763882760; darn=dpdk.org; h=references:in-reply-to:cc:to:from:subject:message-id:date:from:to :cc:subject:date:message-id:reply-to; bh=xkaduosI4O+Bc9EhRepXr+SJeLSdXKwjbyWetYKm1i4=; b=jALp8dEBoTQy+0DLeEOXJ36lpekWigjUna3pSa0ra4D7vIFiI65pcWTUuX1HrSdSUf 7QQ7YIVqvPNtLOSx3mSE6lkvkWg4wJ6vfKKtoW7eo18jiuoW0ZRNZj3n87x1ZbFJLVHP IWiw9ey7ZZGazvLED7fDvjerTnkBK5KnoJr7I= X-Google-DKIM-Signature: v=1; a=rsa-sha256; c=relaxed/relaxed; d=1e100.net; s=20230601; t=1763277960; x=1763882760; h=references:in-reply-to:cc:to:from:subject:message-id:date:x-gm-gg :x-gm-message-state:from:to:cc:subject:date:message-id:reply-to; bh=xkaduosI4O+Bc9EhRepXr+SJeLSdXKwjbyWetYKm1i4=; b=hziEkejHzljor6lExTUQSEub1usymghTVZMr66r3ePiFPG/BMpKYjmxYzHjovSCDIQ GePKZTuffbqhhyMw1zespakGc6wL8cUFusoMkDb2ZXt8yZeg3cqQBN+iB2P65fSYGTVc hZyY11qkUF70+KtZs1d1S9xnO4ku2OiQ8ULsO+hz8/N4ZqloDWyDR20dVpGa0V2LuSTq FDuZ+vNTbvr/Ad5NlIeL349xxIREtZwseZZ5eoGKeaaIzrlsMxkSvYHz2Kt01xk6K1kt rPw9B7FnfgiXRpBkTeLXuRC0AF+mY/mJf9Ww6QhoQuGNBLvfA3ns9b87wv08h4+HKBLD a4TQ== X-Gm-Message-State: AOJu0YxLvQPJ73DcA1Kmv4HSKbhaC9yvRFd+cONyppnJNUxmGv2A0S6L cmgPq9Miek+3tG+JMC/uUTnvVdn5YIZatpa9yt/cVbQTemKS64bw/kkJHCd1KQIe8dF6MtyX7ki 70n6eHilGDWTICDFDHztOwiM4oCG1/OJtONu4IINqCY6I X-Gm-Gg: ASbGncsweXBj6MJ1A5/D+ZPcreGkt30AFfs3JgPxRup3CUJwMyJRXtObPZvU5wKn5ed 51cQVL0ftCpinX/msmumHjH+NB6nNn+5gP6vm/TSWUVY17Vf2d+UgPOjqvNDb76D4sNT3rACPY+ kEKxlORNWivh830WlYkzZWvdX6a9JZSkLo/YKFLm3lT4B0Q64FP/kFSwdsNYabOfbRvLVyAomv6 0oNWz7wxH3ufmZinsL+LFWYqSIPLyypDQWXGvEJLv/fc1FSZ0rumXyff2cc1CI8xrAyo0yZ3ypP bUtgKRDISUUq4m9dbpQQuTbf0+CR2Ym/3duOJbBrRJuNIVEjoEBHTgnJMxGPjxJCbhK9ftsJF2h FNrClwFiL0tUmFaL60HkWbP8XNg3+bb0= X-Google-Smtp-Source: AGHT+IFTFRgmunM7GEx4/2Bw/RwCgVsiKkUOKgjYMRmJkcd1RJCC3aQ1vu48SOqLCTG7PwCha5MsTqNrEMdA X-Received: by 2002:a05:6214:1d06:b0:882:47a5:3696 with SMTP id 6a1803df08f44-882925dfb19mr106374166d6.25.1763277959953; Sat, 15 Nov 2025 23:25:59 -0800 (PST) Received: from postal.iol.unh.edu (postal.iol.unh.edu. [132.177.123.84]) by smtp-relay.gmail.com with ESMTPS id 6a1803df08f44-882865bb054sm11737376d6.30.2025.11.15.23.25.59 (version=TLS1_2 cipher=ECDHE-ECDSA-AES128-GCM-SHA256 bits=128/128); Sat, 15 Nov 2025 23:25:59 -0800 (PST) X-Relaying-Domain: iol.unh.edu Date: Sat, 15 Nov 2025 23:25:59 -0800 (PST) Message-ID: <69197c87.050a0220.fc618.a28bSMTPIN_ADDED_MISSING@mx.google.com> Received: from [172.21.0.4] (unknown [172.18.0.240]) by postal.iol.unh.edu (Postfix) with ESMTP id A219F6051830; Sun, 16 Nov 2025 02:25:59 -0500 (EST) Subject: |SUCCESS| pw158833 [PATCH] [v2] net/ice: add MAC anti-spoof option From: dpdklab@iol.unh.edu To: Test Report Cc: dpdk-test-reports@iol.unh.edu, Bruce Richardson In-Reply-To: <20251116035749.45922-1-anurag.mandal@intel.com> References: <20251116035749.45922-1-anurag.mandal@intel.com> Content-Type: text/plain X-BeenThere: test-report@dpdk.org X-Mailman-Version: 2.1.29 Precedence: list List-Id: automatic DPDK test reports List-Unsubscribe: , List-Archive: List-Post: List-Help: List-Subscribe: , Errors-To: test-report-bounces@dpdk.org Test-Label: iol-compile-amd64-testing Test-Status: SUCCESS http://dpdk.org/patch/158833 _Testing PASS_ Submitter: Anurag Mandal Date: Sunday, November 16 2025 03:57:49 DPDK git baseline: Repo:dpdk-next-net-intel Branch: master CommitID:e5357d609907d504f4705e4899f3dad43cb4b70f 158833 --> testing pass Upstream job id: Windows-Compile-DPDK-Native#32445 Test environment and result as below: +---------------------+--------------------+-------------------+-------------------------+----------------------+ | Environment | dpdk_meson_compile | dpdk_msvc_compile | dpdk_llvm_clang_compile | dpdk_mingw64_compile | +=====================+====================+===================+=========================+======================+ | Ubuntu 20.04 | PASS | SKIPPED | SKIPPED | SKIPPED | +---------------------+--------------------+-------------------+-------------------------+----------------------+ | FreeBSD 14.2 | PASS | SKIPPED | SKIPPED | SKIPPED | +---------------------+--------------------+-------------------+-------------------------+----------------------+ | Windows Server 2022 | SKIPPED | PASS | PASS | PASS | +---------------------+--------------------+-------------------+-------------------------+----------------------+ Ubuntu 20.04 Kernel: 4.19 Compiler: gcc gcc (Ubuntu 9.4.0-1ubuntu1~20.04.2) 9.4.0 FreeBSD 14.2 Kernel: 14.2-RELEASE Compiler: clang 18.1.6 Windows Server 2022 Kernel: 10.0.20348.2031 Compiler: clang 15.0.7, gcc 14.1.0 (MinGW), and MSVC VS 19.39.33521 To view detailed results, visit: https://lab.dpdk.org/results/dashboard/patchsets/34608/ UNH-IOL DPDK Community Lab To manage your email subscriptions, visit: https://lab.dpdk.org/results/dashboard/preferences/subscriptions/