From mboxrd@z Thu Jan 1 00:00:00 1970 Return-Path: Received: from mails.dpdk.org (mails.dpdk.org [217.70.189.124]) by inbox.dpdk.org (Postfix) with ESMTP id 5C1F448B24 for ; Sun, 16 Nov 2025 08:45:20 +0100 (CET) Received: from mails.dpdk.org (localhost [127.0.0.1]) by mails.dpdk.org (Postfix) with ESMTP id 561804026C; Sun, 16 Nov 2025 08:45:20 +0100 (CET) Received: from mail-qk1-f227.google.com (mail-qk1-f227.google.com [209.85.222.227]) by mails.dpdk.org (Postfix) with ESMTP id 910F84026C for ; Sun, 16 Nov 2025 08:45:19 +0100 (CET) Received: by mail-qk1-f227.google.com with SMTP id af79cd13be357-8b2da83f721so96998985a.1 for ; Sat, 15 Nov 2025 23:45:19 -0800 (PST) DKIM-Signature: v=1; a=rsa-sha256; c=relaxed/relaxed; d=iol.unh.edu; s=unh-iol; t=1763279119; x=1763883919; darn=dpdk.org; h=cc:to:from:subject:message-id:date:from:to:cc:subject:date :message-id:reply-to; bh=mbYgBovvfRuDa/A/IeGmbXZ51EOloK3xQJ0nqTSq3uw=; b=WCBYgpnhtbq9ZdVRgf7CocJW7H/UK7C4Ms5u7FNEjzu9ycWiBaddrpuyZtjKiAY21m KuTzQDDxIunpKPGgGJKEkKpjl91dcsOUc5uI8TTrdne9RBuYD7/4+oN2quNRDcrjdV+F XcMv0IqTPFnd0XGpoB/Fo9GdJB740C26XkHaw= X-Google-DKIM-Signature: v=1; a=rsa-sha256; c=relaxed/relaxed; d=1e100.net; s=20230601; t=1763279119; x=1763883919; h=cc:to:from:subject:message-id:date:x-gm-gg:x-gm-message-state:from :to:cc:subject:date:message-id:reply-to; bh=mbYgBovvfRuDa/A/IeGmbXZ51EOloK3xQJ0nqTSq3uw=; b=ZficsaoKWWyRPgVQ//7X3Nwlw++Hn8w7DXAC4vmk2NhyFrKZQsjV53DYNM+RXhBwLN MeeVNdebajWvN6dWpvs2YYdzg02Oc4jE83TpZZETaXB2zYPGXGdikp+XsG7c61cUDBMO CyEt7fBQhfqWhQmKkBrPR4C6OmvhYgeYpD2WR9D0A+KmR6wzX7pmRlTxDGWD0CYul97A nbcEXangtkvEjdH+8N42LyQML9vvUXAz1MY9D/msyltTxbqsz8DGE7E5icO9lOQGvDbJ MDpi0AtK0HLB0ouMcgW6ttAzFD0CXKqszoDIsNnHnorw6GyFeYncLsvIqGrk8dGfcFmU SmIg== X-Gm-Message-State: AOJu0YzdtdLexv3aUXOducxcVeQOyRv7fq/B/hwhd6DcIeO0ZNoXw4aL qCIVxv60NJWRKRLsUEaLtl4nQwqxmcu1kn16ObgE1W8EWDzlQi/Z6MxBnjGSb3A8rNRob56NOIF LCH3ZiauEm3247caXB9vRRl3A8eu7oMB5cB4pBStg4Pw2 X-Gm-Gg: ASbGncu75ypgbTkzaf72ibt6Jv+38w6ElmTS+pUZnhiC+n+ivYnqQrvHGX+V0dykR4U EjwdcDscUOQD699qyewmyCasVX04BGvAbxK6xbnonV0FQo9De/uJdjZ1kigmLJ6vcYQd5CPyi1e 9nycGo5UiNG268XgQAzYuvjyDzqkAp+87tQBllQOfFZjmsSaWZ7ONcna12CUNnv86GBixL3iQuW V9HKsFGlnljne5WkSQdF2yU1vS8dyIjXpo/T9qIVWnJAOPKyje9TPPdIRrN3p7f3YL5jrTXs8Sn Ep1pk0d8rHwCQClaDaihZEw65EpoG6IQhbyr0gX+WKNkrquvesUoPCoKac/zaoAPnkeXMGbDjos HNm8ylsHeeBcf9gJfqdDK+yN1Z0VjWTs= X-Google-Smtp-Source: AGHT+IEpGIU6dJVeXsnTFf/oY450XoKVniFtNYXazrAjHVYIY2vZWBKXzkxrut/BVqBNvoqWOgTvy0wt45G6 X-Received: by 2002:a05:620a:1726:b0:8b2:e8c8:671e with SMTP id af79cd13be357-8b2e8c86b5emr76939685a.29.1763279118922; Sat, 15 Nov 2025 23:45:18 -0800 (PST) Received: from postal.iol.unh.edu (postal.iol.unh.edu. [132.177.123.84]) by smtp-relay.gmail.com with ESMTPS id af79cd13be357-8b2aef263dfsm92485285a.6.2025.11.15.23.45.18 (version=TLS1_2 cipher=ECDHE-ECDSA-AES128-GCM-SHA256 bits=128/128); Sat, 15 Nov 2025 23:45:18 -0800 (PST) X-Relaying-Domain: iol.unh.edu Date: Sat, 15 Nov 2025 23:45:18 -0800 (PST) Message-ID: <6919810e.050a0220.2e2634.d559SMTPIN_ADDED_MISSING@mx.google.com> Received: from [172.21.0.4] (unknown [172.18.0.240]) by postal.iol.unh.edu (Postfix) with ESMTP id 1F52460003F4; Sun, 16 Nov 2025 02:45:16 -0500 (EST) Subject: |SUCCESS| [GIT MASTER] be0112878b4fc3a1b918370ed2fe615c52039d77 From: dpdklab@iol.unh.edu To: Test Report Cc: dpdk-test-reports@iol.unh.edu Content-Type: text/plain X-BeenThere: test-report@dpdk.org X-Mailman-Version: 2.1.29 Precedence: list List-Id: automatic DPDK test reports List-Unsubscribe: , List-Archive: List-Post: List-Help: List-Subscribe: , Errors-To: test-report-bounces@dpdk.org _Testing PASS_ Branch: dpdk be0112878b4fc3a1b918370ed2fe615c52039d77 --> testing pass Upstream job id: Generic-Unit-Test-DPDK#393176 Test environment and result as below: +------------------------------+---------------------------+--------------+------------------------------+----------------+ | Environment | cryptodev_sw_zuc_autotest | lpm_autotest | cryptodev_sw_snow3g_autotest | dpdk_unit_test | +==============================+===========================+==============+==============================+================+ | Debian 12 (arm) | PASS | SKIPPED | PASS | SKIPPED | +------------------------------+---------------------------+--------------+------------------------------+----------------+ | Ubuntu 20.04 | SKIPPED | PASS | SKIPPED | PASS | +------------------------------+---------------------------+--------------+------------------------------+----------------+ | CentOS Stream 9 | SKIPPED | SKIPPED | SKIPPED | PASS | +------------------------------+---------------------------+--------------+------------------------------+----------------+ | CentOS Stream 10 | SKIPPED | SKIPPED | SKIPPED | PASS | +------------------------------+---------------------------+--------------+------------------------------+----------------+ | Fedora Linux 40 | SKIPPED | SKIPPED | SKIPPED | PASS | +------------------------------+---------------------------+--------------+------------------------------+----------------+ | Debian GNU/Linux 12 | SKIPPED | SKIPPED | SKIPPED | PASS | +------------------------------+---------------------------+--------------+------------------------------+----------------+ | Fedora Linux 41 | SKIPPED | SKIPPED | SKIPPED | PASS | +------------------------------+---------------------------+--------------+------------------------------+----------------+ | Fedora Linux 42 | SKIPPED | SKIPPED | SKIPPED | PASS | +------------------------------+---------------------------+--------------+------------------------------+----------------+ | Ubuntu 22.04 | SKIPPED | SKIPPED | SKIPPED | PASS | +------------------------------+---------------------------+--------------+------------------------------+----------------+ | Red Hat Enterprise Linux 9.5 | SKIPPED | SKIPPED | SKIPPED | PASS | +------------------------------+---------------------------+--------------+------------------------------+----------------+ | Ubuntu 24.04 | SKIPPED | SKIPPED | SKIPPED | PASS | +------------------------------+---------------------------+--------------+------------------------------+----------------+ Debian 12 (arm) Kernel: Depends on container host Compiler: gcc (Debian 12.2.0-14) 12.2.0 Ubuntu 20.04 Kernel: 5.4 Compiler: gcc gcc (Ubuntu 9.4.0-1ubuntu1~20.04.2) 9.4.0 CentOS Stream 9 Kernel: 5.4 Compiler: gcc gcc (GCC) 11.5.0 20240719 (Red Hat 11.5.0-11) CentOS Stream 10 Kernel: 5.4 Compiler: gcc gcc (GCC) 14.2.1 20250110 (Red Hat 14.2.1-8) Fedora Linux 40 Kernel: 5.4 Compiler: gcc gcc (GCC) 14.2.1 20240912 (Red Hat 14.2.1-3) Debian GNU/Linux 12 Kernel: 5.4 Compiler: gcc gcc (Debian 12.2.0-14+deb12u1) 12.2.0 Fedora Linux 41 Kernel: 5.4 Compiler: gcc gcc (GCC) 14.3.1 20250523 (Red Hat 14.3.1-1) Fedora Linux 42 Kernel: 5.4 Compiler: gcc gcc (GCC) 15.2.1 20250808 (Red Hat 15.2.1-1) Ubuntu 22.04 Kernel: 5.4 Compiler: gcc gcc (Ubuntu 11.4.0-1ubuntu1~22.04) 11.4.0 Red Hat Enterprise Linux 9.5 Kernel: 5.4 Compiler: gcc gcc (GCC) 11.5.0 20240719 (Red Hat 11.5.0-2) Ubuntu 24.04 Kernel: 5.4 Compiler: gcc gcc (Ubuntu 13.3.0-6ubuntu2~24.04) 13.3.0 To view detailed results, visit: https://lab.dpdk.org/results/dashboard/tarballs/35612/ UNH-IOL DPDK Community Lab To manage your email subscriptions, visit: https://lab.dpdk.org/results/dashboard/preferences/subscriptions/