From mboxrd@z Thu Jan 1 00:00:00 1970 Return-Path: Received: from mails.dpdk.org (mails.dpdk.org [217.70.189.124]) by inbox.dpdk.org (Postfix) with ESMTP id 418BA48B24 for ; Sun, 16 Nov 2025 08:53:14 +0100 (CET) Received: from mails.dpdk.org (localhost [127.0.0.1]) by mails.dpdk.org (Postfix) with ESMTP id 2AF784026C; Sun, 16 Nov 2025 08:53:14 +0100 (CET) Received: from mail-qk1-f226.google.com (mail-qk1-f226.google.com [209.85.222.226]) by mails.dpdk.org (Postfix) with ESMTP id 727814026C for ; Sun, 16 Nov 2025 08:53:12 +0100 (CET) Received: by mail-qk1-f226.google.com with SMTP id af79cd13be357-8a3eac7ca30so216230185a.2 for ; Sat, 15 Nov 2025 23:53:12 -0800 (PST) DKIM-Signature: v=1; a=rsa-sha256; c=relaxed/relaxed; d=iol.unh.edu; s=unh-iol; t=1763279591; x=1763884391; darn=dpdk.org; h=cc:to:from:subject:message-id:date:from:to:cc:subject:date :message-id:reply-to; bh=DoqpgGB6KvhCaOrKCZGPZ4WN4wol/ZiDFgJTk2Fxmcw=; b=CEeH8V4jkb6yOhoWO1WbHe8mVTm+LMu7bn+VNuXqSagr3oc3auBvA5EK7Z7/CX0pBE 6ixGTt9TNN6Hi9n7LKGM4fAgrqdg/7D3A7r5gwjY+DpI3LThIPLw27p2PF2o9NqYNu0H hsdaQNUPhs8z5UPjlWNDSSre1mCoxSMiqkOGA= X-Google-DKIM-Signature: v=1; a=rsa-sha256; c=relaxed/relaxed; d=1e100.net; s=20230601; t=1763279591; x=1763884391; h=cc:to:from:subject:message-id:date:x-gm-gg:x-gm-message-state:from :to:cc:subject:date:message-id:reply-to; bh=DoqpgGB6KvhCaOrKCZGPZ4WN4wol/ZiDFgJTk2Fxmcw=; b=gOtx7C/0r2BNwu4LCshujauGxPFXRdLiDQDiKx+4Sp44NKmvw7tpZUaCehxEmn/eWi 5ROeh34z51uu/0YL/0TcF5FyQXmylZvVcDz3KQsPg6s25+ruC5ME3z5Nqo367qp6UjeJ gk1Tg7Jd7+2H99xVIzl9j1ReB+Cv+MUOTRsZdmnMioFZKbR6w6sqzeuotH35jrRVcies lHiWbc6SkDFj+sZe6H7GTNAUyebpkrS/NZjXCg+F606BITpgRtGK/sYRHtJ6Ipp6/V0J U1eoOGf/dcwtpu1Ox/57NJQs1sFiT5Mn83+aJffcnFbNNdhcYI8RHw5LCPt3Ffo2uAn9 aupw== X-Gm-Message-State: AOJu0YzglB9w7KpRm1nEs1YYmaJ0/4LTuX1/eyr6ZEAWBvE3hUVSP0ja uqfPtboih+/VhNJkcm5HkyA6UhYHVDnbU2q2YkmJxjwpKENeuKwgs5+NAczIX/e01dS9IjIZ11I yYTo6mJfNJEiMEJwDBSyJd2VMG0cIo/Vw5Cng X-Gm-Gg: ASbGncsZYArhF/2oSHxvpIxteQ7lkRQRdB2MJClEEs3EzaEJ8g5DZobFfP4TRn7m9yZ xxrUZH/VoEp69jWZirlhHjoTQyDwt39xi/9NKa+pvkG276v27/djal9oAYtybAnuWig4W8k65uH 5HUnWN1OBlLasNvz/9wzzwvbUWASd8l6CGNuBWsW6JJRd7Mxy78XYZQlIKcVqHZHg0Bs+kdiIlP HOMiS0I+jtbM97pQtghRFebAvjXHU6ucxWWDN5/QeiGer3XJkJuV0NgnaH3ls19NM+uUZHN6LL7 s7MJl+ay7J2aFzz0L5JMinvMfBQYAOrf0sRFJi5vEgwJHGuF5OPsCE1aHsAXqXdeJUqgtiSfhfs XdjM5i21FM2TFs1KzOq3GZD+M0XfI8+Y= X-Google-Smtp-Source: AGHT+IFBYk6PGs9e3xu5kk0lhlBeMXE2U7zXDDT9tluwxshre4qq4x7Gc1iCEc+tA44bDiAaA5WTwCud2ag3 X-Received: by 2002:a05:620a:4446:b0:89e:72fa:ba7f with SMTP id af79cd13be357-8b2c31a11damr1097011685a.46.1763279591445; Sat, 15 Nov 2025 23:53:11 -0800 (PST) Received: from postal.iol.unh.edu (postal.iol.unh.edu. [132.177.123.84]) by smtp-relay.gmail.com with ESMTPS id af79cd13be357-8b2aef263dfsm92642685a.6.2025.11.15.23.53.11 (version=TLS1_2 cipher=ECDHE-ECDSA-AES128-GCM-SHA256 bits=128/128); Sat, 15 Nov 2025 23:53:11 -0800 (PST) X-Relaying-Domain: iol.unh.edu Date: Sat, 15 Nov 2025 23:53:11 -0800 (PST) Message-ID: <691982e7.050a0220.2e2634.d661SMTPIN_ADDED_MISSING@mx.google.com> Received: from [172.21.0.2] (unknown [172.18.0.240]) by postal.iol.unh.edu (Postfix) with ESMTP id 25A5F6051830; Sun, 16 Nov 2025 02:53:11 -0500 (EST) Subject: |SUCCESS| [GIT MASTER] 0bd935abcb823f581ce53986986aa54eaf6f8140 From: dpdklab@iol.unh.edu To: Test Report Cc: dpdk-test-reports@iol.unh.edu, Xueming Li , Christian Ehrhardt , Kevin Traynor , Luca Boccassi Content-Type: text/plain X-BeenThere: test-report@dpdk.org X-Mailman-Version: 2.1.29 Precedence: list List-Id: automatic DPDK test reports List-Unsubscribe: , List-Archive: List-Post: List-Help: List-Subscribe: , Errors-To: test-report-bounces@dpdk.org _Testing PASS_ Branch: tags/v24.11 0bd935abcb823f581ce53986986aa54eaf6f8140 --> testing pass Upstream job id: Generic-Unit-Test-DPDK#393273 Test environment and result as below: +-------------------------------+----------------+ | Environment | dpdk_unit_test | +===============================+================+ | CentOS Stream 9 | PASS | +-------------------------------+----------------+ | CentOS Stream 10 | PASS | +-------------------------------+----------------+ | Debian GNU/Linux 12 | PASS | +-------------------------------+----------------+ | Fedora Linux 40 | PASS | +-------------------------------+----------------+ | Fedora Linux 41 | PASS | +-------------------------------+----------------+ | Fedora Linux 42 | PASS | +-------------------------------+----------------+ | Red Hat Enterprise Linux 8.10 | PASS | +-------------------------------+----------------+ | Ubuntu 20.04 | PASS | +-------------------------------+----------------+ | Ubuntu 24.04 | PASS | +-------------------------------+----------------+ | Ubuntu 22.04 | PASS | +-------------------------------+----------------+ | Red Hat Enterprise Linux 9.5 | PASS | +-------------------------------+----------------+ | Windows Server 2022 | PASS | +-------------------------------+----------------+ CentOS Stream 9 Kernel: 5.15 Compiler: gcc gcc (GCC) 11.5.0 20240719 (Red Hat 11.5.0-11) CentOS Stream 10 Kernel: 5.15 Compiler: gcc gcc (GCC) 14.2.1 20250110 (Red Hat 14.2.1-8) Debian GNU/Linux 12 Kernel: 5.15 Compiler: gcc gcc (Debian 12.2.0-14+deb12u1) 12.2.0 Fedora Linux 40 Kernel: 5.15 Compiler: clang gcc (GCC) 14.2.1 20240912 (Red Hat 14.2.1-3) Fedora Linux 41 Kernel: 5.15 Compiler: clang gcc (GCC) 14.3.1 20250523 (Red Hat 14.3.1-1) Fedora Linux 42 Kernel: 5.15 Compiler: gcc gcc (GCC) 15.2.1 20250808 (Red Hat 15.2.1-1) Red Hat Enterprise Linux 8.10 Kernel: 5.15 Compiler: gcc gcc (GCC) 8.5.0 20210514 (Red Hat 8.5.0-22) Ubuntu 20.04 Kernel: 5.15 Compiler: gcc gcc (Ubuntu 9.4.0-1ubuntu1~20.04.2) 9.4.0 Ubuntu 24.04 Kernel: 5.15 Compiler: gcc gcc (Ubuntu 13.3.0-6ubuntu2~24.04) 13.3.0 Ubuntu 22.04 Kernel: 5.15 Compiler: gcc gcc (Ubuntu 11.4.0-1ubuntu1~22.04) 11.4.0 Red Hat Enterprise Linux 9.5 Kernel: 5.15 Compiler: gcc gcc (GCC) 11.5.0 20240719 (Red Hat 11.5.0-2) Windows Server 2022 Kernel: 10.0.20348.2031 Compiler: clang 15.0.7, gcc 14.1.0 (MinGW), and MSVC VS 19.39.33521 To view detailed results, visit: https://lab.dpdk.org/results/dashboard/tarballs/35616/ UNH-IOL DPDK Community Lab To manage your email subscriptions, visit: https://lab.dpdk.org/results/dashboard/preferences/subscriptions/