From mboxrd@z Thu Jan 1 00:00:00 1970 Return-Path: Received: from mails.dpdk.org (mails.dpdk.org [217.70.189.124]) by inbox.dpdk.org (Postfix) with ESMTP id 0CB7748B24 for ; Sun, 16 Nov 2025 09:09:44 +0100 (CET) Received: from mails.dpdk.org (localhost [127.0.0.1]) by mails.dpdk.org (Postfix) with ESMTP id DED574026C; Sun, 16 Nov 2025 09:09:43 +0100 (CET) Received: from mail-pj1-f98.google.com (mail-pj1-f98.google.com [209.85.216.98]) by mails.dpdk.org (Postfix) with ESMTP id 303764026C for ; Sun, 16 Nov 2025 09:09:42 +0100 (CET) Received: by mail-pj1-f98.google.com with SMTP id 98e67ed59e1d1-34101107cc8so2974693a91.0 for ; Sun, 16 Nov 2025 00:09:42 -0800 (PST) DKIM-Signature: v=1; a=rsa-sha256; c=relaxed/relaxed; d=iol.unh.edu; s=unh-iol; t=1763280581; x=1763885381; darn=dpdk.org; h=cc:to:from:subject:message-id:date:from:to:cc:subject:date :message-id:reply-to; bh=drrwvCwq4/fBbnedj1axxWYTgTcKg5jR+eEu2v334OI=; b=Sprv0bCEllxG8azzdpdujZyWkWipx0SfR41B9FGgW8C88KIa+goahMTp2lYc4f0o5l JHiEIHeVRiHUF0xIobGQAfKNjfMHVKxxKQ/XW5SPRp/ndQ/yacfMHkIjyX649pItHVxK 6RB4ErA8896zVheHAwqbYR15uQ8t4PLE5ShLU= X-Google-DKIM-Signature: v=1; a=rsa-sha256; c=relaxed/relaxed; d=1e100.net; s=20230601; t=1763280581; x=1763885381; h=cc:to:from:subject:message-id:date:x-gm-gg:x-gm-message-state:from :to:cc:subject:date:message-id:reply-to; bh=drrwvCwq4/fBbnedj1axxWYTgTcKg5jR+eEu2v334OI=; b=APauWzla6s4jsySbBsMT4wiXrCUukKfPJyYNrxAzbUgo+h+0V5RfanMy1XkYdGUa6j ZgW5LsnEqz52htNecGzkRiwuddBZ2x2Cs4kE3X7W8xyVT9JV5+M8jRe1oRZUr31DbZHe 3ZzbKxg9Tan4DoR3uk6i4ukFXfm0qw7i5HqGzYz9POOJpzi3ij4nKsTl+TSd0Xu3PQxA GAq1llZm+XHO7JtLLr4YVOmKRpiqGJCeyBYEakBsiuhEULfuycCGkkifIh6awp8f6y+X tyVRAxcvw5IFjhFrAbuRw890CqRS9VLUqvvbee+6AYRiAMSDSsXhuN7AIdoVBpqSg20q hiGA== X-Gm-Message-State: AOJu0Yz3JEqir0AEJDib3S1oW2FSr21OXXllC06l1fukn4D+NuHXDW1p C+l9iyKbvKiB0mQvVzNkDcGzF+ogWabnD1ybDGAdnslTtU4s18P6xRawuDDjJqPcJq9aaAfBgMh Qmay54l1V9rnatXAfcvwe3pJkcqWVJdHo84tOpJsiRkzDpWCIxuF5 X-Gm-Gg: ASbGnctHNpTfiv4h0QRBhQRqoVi0ZlGAjCVFy4DCQPalkggjXfvKnI+VlHm6P/lk5mT TQqgbe6X9aRk13aez7gBJFs6tVgB0yWXkK3vOtSIYP/3FWzTl/Xz1to8cfFZVFKf1MGhzfCPuhj hKXxhMSoAgNryq8vkuvIMSz/qeq/6wtA7eUPJOdr5vFMbCCs+yhdqQ5BrLnV3UeaYFWPDL0DJ2N smTHw7AhKyyIaW/SIvchqAXYT669HZgEpIucDcTHvHpq7SQGKCmvtRBWVkXOTiYwT79KiegdbQR dQ3y9HWViI2920d/oaL8oNNym940K1bM6veR0oWw9zMkOPYeW3/3YsuLHNk1ZdBW8dfWgIVBmRc w7H5vLug3 X-Google-Smtp-Source: AGHT+IHEqeMQJkW051JmQ8BkE9RbL741ZzdFSs58MkdG/dQ82q55hIflDT69tSVOZr5wZxbxEi6kyL7xGgc7 X-Received: by 2002:a17:90b:3d08:b0:340:c070:82d7 with SMTP id 98e67ed59e1d1-343fa756c02mr9514183a91.35.1763280581320; Sun, 16 Nov 2025 00:09:41 -0800 (PST) Received: from postal.iol.unh.edu (postal.iol.unh.edu. [2606:4100:3880:1234::84]) by smtp-relay.gmail.com with ESMTPS id d9443c01a7336-2986181be8dsm10004095ad.13.2025.11.16.00.09.41 (version=TLS1_2 cipher=ECDHE-ECDSA-AES128-GCM-SHA256 bits=128/128); Sun, 16 Nov 2025 00:09:41 -0800 (PST) X-Relaying-Domain: iol.unh.edu Date: Sun, 16 Nov 2025 00:09:41 -0800 (PST) Message-ID: <691986c5.170a0220.d5672.13ebSMTPIN_ADDED_MISSING@mx.google.com> Received: from [172.21.0.3] (unknown [172.18.0.240]) by postal.iol.unh.edu (Postfix) with ESMTP id 8C6896051830; Sun, 16 Nov 2025 03:09:40 -0500 (EST) Subject: |SUCCESS| [GIT MASTER] 0bd935abcb823f581ce53986986aa54eaf6f8140 From: dpdklab@iol.unh.edu To: Test Report Cc: dpdk-test-reports@iol.unh.edu, Xueming Li , Christian Ehrhardt , Kevin Traynor , Luca Boccassi Content-Type: text/plain X-BeenThere: test-report@dpdk.org X-Mailman-Version: 2.1.29 Precedence: list List-Id: automatic DPDK test reports List-Unsubscribe: , List-Archive: List-Post: List-Help: List-Subscribe: , Errors-To: test-report-bounces@dpdk.org _Testing PASS_ Branch: tags/v24.11 0bd935abcb823f581ce53986986aa54eaf6f8140 --> testing pass Upstream job id: Generic-DPDK-Compile-Meson#445017 Test environment and result as below: +-------------------------------+--------------------+------------------+-------------------+-------------------------+----------------------+ | Environment | dpdk_meson_compile | dpdk_compile_ovs | dpdk_msvc_compile | dpdk_llvm_clang_compile | dpdk_mingw64_compile | +===============================+====================+==================+===================+=========================+======================+ | Ubuntu 20.04 | PASS | SKIPPED | SKIPPED | SKIPPED | SKIPPED | +-------------------------------+--------------------+------------------+-------------------+-------------------------+----------------------+ | CentOS Stream 9 | PASS | SKIPPED | SKIPPED | SKIPPED | SKIPPED | +-------------------------------+--------------------+------------------+-------------------+-------------------------+----------------------+ | CentOS Stream 10 | PASS | SKIPPED | SKIPPED | SKIPPED | SKIPPED | +-------------------------------+--------------------+------------------+-------------------+-------------------------+----------------------+ | Debian GNU/Linux 12 | PASS | SKIPPED | SKIPPED | SKIPPED | SKIPPED | +-------------------------------+--------------------+------------------+-------------------+-------------------------+----------------------+ | Fedora Linux 42 | PASS | PASS | SKIPPED | SKIPPED | SKIPPED | +-------------------------------+--------------------+------------------+-------------------+-------------------------+----------------------+ | openSUSE Leap 15.6 | PASS | SKIPPED | SKIPPED | SKIPPED | SKIPPED | +-------------------------------+--------------------+------------------+-------------------+-------------------------+----------------------+ | Red Hat Enterprise Linux 9.5 | PASS | SKIPPED | SKIPPED | SKIPPED | SKIPPED | +-------------------------------+--------------------+------------------+-------------------+-------------------------+----------------------+ | Red Hat Enterprise Linux 8.10 | PASS | SKIPPED | SKIPPED | SKIPPED | SKIPPED | +-------------------------------+--------------------+------------------+-------------------+-------------------------+----------------------+ | Ubuntu 24.04 | PASS | PASS | SKIPPED | SKIPPED | SKIPPED | +-------------------------------+--------------------+------------------+-------------------+-------------------------+----------------------+ | Ubuntu 22.04 | PASS | SKIPPED | SKIPPED | SKIPPED | SKIPPED | +-------------------------------+--------------------+------------------+-------------------+-------------------------+----------------------+ | Alpine Linux 3.22.0 | PASS | SKIPPED | SKIPPED | SKIPPED | SKIPPED | +-------------------------------+--------------------+------------------+-------------------+-------------------------+----------------------+ | FreeBSD 14.2 | PASS | SKIPPED | SKIPPED | SKIPPED | SKIPPED | +-------------------------------+--------------------+------------------+-------------------+-------------------------+----------------------+ | Windows Server 2022 | SKIPPED | SKIPPED | PASS | PASS | PASS | +-------------------------------+--------------------+------------------+-------------------+-------------------------+----------------------+ Ubuntu 20.04 Kernel: 4.19 Compiler: gcc gcc (Ubuntu 9.4.0-1ubuntu1~20.04.2) 9.4.0 CentOS Stream 9 Kernel: 5.15 Compiler: gcc gcc (GCC) 11.5.0 20240719 (Red Hat 11.5.0-11) CentOS Stream 10 Kernel: 5.15 Compiler: gcc gcc (GCC) 14.2.1 20250110 (Red Hat 14.2.1-8) Debian GNU/Linux 12 Kernel: 5.15 Compiler: gcc gcc (Debian 12.2.0-14+deb12u1) 12.2.0 Fedora Linux 42 Kernel: 5.15 Compiler: clang gcc (GCC) 15.2.1 20250808 (Red Hat 15.2.1-1) openSUSE Leap 15.6 Kernel: 5.15 Compiler: gcc gcc (SUSE Linux) 7.5.0 Red Hat Enterprise Linux 9.5 Kernel: 5.15 Compiler: gcc gcc (GCC) 11.5.0 20240719 (Red Hat 11.5.0-2) Red Hat Enterprise Linux 8.10 Kernel: 5.15 Compiler: gcc gcc (GCC) 8.5.0 20210514 (Red Hat 8.5.0-22) Ubuntu 24.04 Kernel: 5.15 Compiler: gcc gcc (Ubuntu 13.3.0-6ubuntu2~24.04) 13.3.0 Ubuntu 22.04 Kernel: 5.15 Compiler: gcc gcc (Ubuntu 11.4.0-1ubuntu1~22.04) 11.4.0 Alpine Linux 3.22.0 Kernel: 5.15 Compiler: gcc gcc (Alpine 14.2.0) 14.2.0 FreeBSD 14.2 Kernel: 14.2-RELEASE Compiler: clang 18.1.6 Windows Server 2022 Kernel: 10.0.20348.2031 Compiler: clang 15.0.7, gcc 14.1.0 (MinGW), and MSVC VS 19.39.33521 To view detailed results, visit: https://lab.dpdk.org/results/dashboard/tarballs/35616/ UNH-IOL DPDK Community Lab To manage your email subscriptions, visit: https://lab.dpdk.org/results/dashboard/preferences/subscriptions/