From mboxrd@z Thu Jan 1 00:00:00 1970 Return-Path: Received: from mails.dpdk.org (mails.dpdk.org [217.70.189.124]) by inbox.dpdk.org (Postfix) with ESMTP id 8D35348B24 for ; Sun, 16 Nov 2025 09:24:49 +0100 (CET) Received: from mails.dpdk.org (localhost [127.0.0.1]) by mails.dpdk.org (Postfix) with ESMTP id 6C00A4026C; Sun, 16 Nov 2025 09:24:49 +0100 (CET) Received: from mail-qt1-f228.google.com (mail-qt1-f228.google.com [209.85.160.228]) by mails.dpdk.org (Postfix) with ESMTP id 4A09D4026C for ; Sun, 16 Nov 2025 09:24:48 +0100 (CET) Received: by mail-qt1-f228.google.com with SMTP id d75a77b69052e-4ee158187aaso6355321cf.0 for ; Sun, 16 Nov 2025 00:24:48 -0800 (PST) DKIM-Signature: v=1; a=rsa-sha256; c=relaxed/relaxed; d=iol.unh.edu; s=unh-iol; t=1763281487; x=1763886287; darn=dpdk.org; h=references:in-reply-to:cc:to:from:subject:message-id:date:from:to :cc:subject:date:message-id:reply-to; bh=sZtMDU3sglT/gHY9VEIDZ4aDNMVPfqoTN6NggsMryio=; b=foefuRUUO4tCRpNjunTZI7UNVsNcuxAhOb9VokF3lDoTk+PLveWj419cuDnTg6ldlA NeeI0I5Z6L2S+/HxAfX/s4UyK0mfTv+VICTPjnF5YNc+ZnRN0lht0gSCzitRxjas7k2E u1L8j1CSoBiLNNcEyUIiZ72dBzIYS9mKxZV3k= X-Google-DKIM-Signature: v=1; a=rsa-sha256; c=relaxed/relaxed; d=1e100.net; s=20230601; t=1763281487; x=1763886287; h=references:in-reply-to:cc:to:from:subject:message-id:date:x-gm-gg :x-gm-message-state:from:to:cc:subject:date:message-id:reply-to; bh=sZtMDU3sglT/gHY9VEIDZ4aDNMVPfqoTN6NggsMryio=; b=LXoCeekjGaPzwucEdk4ZZtsRleoKccELdj0CXFpHgrNzfPHjCJt8iOf3fHTxF75nWZ eS7NQp9wYpHekdDAZqqrPMjdl5ngxmLOP26/6P50563DYysq4Ii2akYPbZSEVLi4mqZI LAcYYFAqkVO4k4emHiQ0j7uKTWMwkWQqXC1LObwAgkVx5jKmzLW8WEZpaEvhlk1eHhc+ Vyizg1P3g+qgODW/Y9paevtmRNNCcfK/oRbEb+miwnTg4VMDZpJJ5wh8ltncZUg2NfHc D8CjZLeqTsICnd3O9+mBq8bArcraVUQDoQOWkNmNK/giIwvWpJb4mnmwnn3GT4gbc4+E nS2w== X-Gm-Message-State: AOJu0YxEEdUJCRRRKDLRqYgJpjKfkK3KREfGn+8GzNuUBZyObhLQZ6lf JC1+KzC5dxnhMZFSknew+DJ/AkpVbcZkGMw5PxE2IFV953QU2aMgreLo+x7j1EsrGoJccC8IsHU tCh4hbaQCdiGniD3+mFZmBQWIcoPuhOwwx1LZJL+VNMDs X-Gm-Gg: ASbGncthAWBWuBK4EEa6YMGshTxW3bIBae86vu2UUssotPSvviu/5X9iPyq6mLvmGQw RwEeHtFd1kfCUK/H2TcFOshGS86yuC9b1Q2iWAFMxLBguEeR2/O1asvNqmqOG4Tgy9XAiUiTszO sWOZltPaQ/CVWbHo4m0kfhsxM5lCTltZHAP+AD/s8OwSgoclsg1Higej54ulgIXxNp3oUaVpeik k643JgH8ZCNOz7VCtVh+WyOYU8eCtQAYjT5KKQQE1Db+2wWT9Rgn+p8VY1mZ8Eeus4LWQ9ynww3 uNVa8VLaYryBpvY6VgdY27fdGo1yh9dfnWi8wIYENU9Ckt2meW8SmL8GZ89uXt+Ui/0j34C8LQj 6EFO69EjCvEIXxBTpjjpZ5q5FhGNlBFg= X-Google-Smtp-Source: AGHT+IHZ9ieH/rQa4LxQQVRTjU7T4q5TWzWEpCptinHK1L77PdJsAdowH+Cjpgk6Sv/HK7Y/4MlCompBng2g X-Received: by 2002:ac8:5993:0:b0:4ed:bb39:9a6b with SMTP id d75a77b69052e-4edf20ec95fmr123427241cf.54.1763281487535; Sun, 16 Nov 2025 00:24:47 -0800 (PST) Received: from postal.iol.unh.edu (postal.iol.unh.edu. [132.177.123.84]) by smtp-relay.gmail.com with ESMTPS id 6a1803df08f44-882862f836fsm11915626d6.10.2025.11.16.00.24.47 (version=TLS1_2 cipher=ECDHE-ECDSA-AES128-GCM-SHA256 bits=128/128); Sun, 16 Nov 2025 00:24:47 -0800 (PST) X-Relaying-Domain: iol.unh.edu Date: Sun, 16 Nov 2025 00:24:47 -0800 (PST) Message-ID: <69198a4f.050a0220.3844f7.afc0SMTPIN_ADDED_MISSING@mx.google.com> Received: from [172.21.0.3] (unknown [172.18.0.240]) by postal.iol.unh.edu (Postfix) with ESMTP id 462086051830; Sun, 16 Nov 2025 03:24:47 -0500 (EST) Subject: |SUCCESS| pw158833 [PATCH] [v2] net/ice: add MAC anti-spoof option From: dpdklab@iol.unh.edu To: Test Report Cc: dpdk-test-reports@iol.unh.edu, Bruce Richardson In-Reply-To: <20251116035749.45922-1-anurag.mandal@intel.com> References: <20251116035749.45922-1-anurag.mandal@intel.com> Content-Type: text/plain X-BeenThere: test-report@dpdk.org X-Mailman-Version: 2.1.29 Precedence: list List-Id: automatic DPDK test reports List-Unsubscribe: , List-Archive: List-Post: List-Help: List-Subscribe: , Errors-To: test-report-bounces@dpdk.org Test-Label: iol-unit-amd64-testing Test-Status: SUCCESS http://dpdk.org/patch/158833 _Testing PASS_ Submitter: Anurag Mandal Date: Sunday, November 16 2025 03:57:49 DPDK git baseline: Repo:dpdk-next-net-intel Branch: master CommitID:e5357d609907d504f4705e4899f3dad43cb4b70f 158833 --> testing pass Upstream job id: Generic-Unit-Test-DPDK#393312 Test environment and result as below: +-------------------------------+----------------+ | Environment | dpdk_unit_test | +===============================+================+ | Fedora Linux 40 | PASS | +-------------------------------+----------------+ | Fedora Linux 42 | PASS | +-------------------------------+----------------+ | Windows Server 2022 | PASS | +-------------------------------+----------------+ | CentOS Stream 10 | PASS | +-------------------------------+----------------+ | Fedora Linux 41 | PASS | +-------------------------------+----------------+ | Ubuntu 20.04 | PASS | +-------------------------------+----------------+ | Red Hat Enterprise Linux 9.5 | PASS | +-------------------------------+----------------+ | CentOS Stream 9 | PASS | +-------------------------------+----------------+ | Debian GNU/Linux 12 | PASS | +-------------------------------+----------------+ | Red Hat Enterprise Linux 8.10 | PASS | +-------------------------------+----------------+ | Ubuntu 24.04 | PASS | +-------------------------------+----------------+ | Ubuntu 22.04 | PASS | +-------------------------------+----------------+ Fedora Linux 40 Kernel: 5.15 Compiler: gcc gcc (GCC) 14.2.1 20240912 (Red Hat 14.2.1-3) Fedora Linux 42 Kernel: 5.15 Compiler: gcc gcc (GCC) 15.2.1 20250808 (Red Hat 15.2.1-1) Windows Server 2022 Kernel: 10.0.20348.2031 Compiler: clang 15.0.7, gcc 14.1.0 (MinGW), and MSVC VS 19.39.33521 CentOS Stream 10 Kernel: 5.15 Compiler: gcc gcc (GCC) 14.2.1 20250110 (Red Hat 14.2.1-8) Fedora Linux 41 Kernel: 5.15 Compiler: gcc gcc (GCC) 14.3.1 20250523 (Red Hat 14.3.1-1) Ubuntu 20.04 Kernel: 5.15 Compiler: gcc gcc (Ubuntu 9.4.0-1ubuntu1~20.04.2) 9.4.0 Red Hat Enterprise Linux 9.5 Kernel: 5.15 Compiler: gcc gcc (GCC) 11.5.0 20240719 (Red Hat 11.5.0-2) CentOS Stream 9 Kernel: 5.15 Compiler: gcc gcc (GCC) 11.5.0 20240719 (Red Hat 11.5.0-11) Debian GNU/Linux 12 Kernel: 5.15 Compiler: gcc gcc (Debian 12.2.0-14+deb12u1) 12.2.0 Red Hat Enterprise Linux 8.10 Kernel: 5.15 Compiler: gcc gcc (GCC) 8.5.0 20210514 (Red Hat 8.5.0-22) Ubuntu 24.04 Kernel: 5.15 Compiler: gcc gcc (Ubuntu 13.3.0-6ubuntu2~24.04) 13.3.0 Ubuntu 22.04 Kernel: 5.15 Compiler: gcc gcc (Ubuntu 11.4.0-1ubuntu1~22.04) 11.4.0 To view detailed results, visit: https://lab.dpdk.org/results/dashboard/patchsets/34608/ UNH-IOL DPDK Community Lab To manage your email subscriptions, visit: https://lab.dpdk.org/results/dashboard/preferences/subscriptions/