From mboxrd@z Thu Jan 1 00:00:00 1970 Return-Path: Received: from mails.dpdk.org (mails.dpdk.org [217.70.189.124]) by inbox.dpdk.org (Postfix) with ESMTP id DCCAC48B26 for ; Sun, 16 Nov 2025 10:51:52 +0100 (CET) Received: from mails.dpdk.org (localhost [127.0.0.1]) by mails.dpdk.org (Postfix) with ESMTP id BB9304026C; Sun, 16 Nov 2025 10:51:52 +0100 (CET) Received: from mail-pl1-f228.google.com (mail-pl1-f228.google.com [209.85.214.228]) by mails.dpdk.org (Postfix) with ESMTP id 4ECB74026C for ; Sun, 16 Nov 2025 10:51:51 +0100 (CET) Received: by mail-pl1-f228.google.com with SMTP id d9443c01a7336-297f35be2ffso49546905ad.2 for ; Sun, 16 Nov 2025 01:51:51 -0800 (PST) DKIM-Signature: v=1; a=rsa-sha256; c=relaxed/relaxed; d=iol.unh.edu; s=unh-iol; t=1763286710; x=1763891510; darn=dpdk.org; h=references:in-reply-to:cc:to:from:subject:message-id:date:from:to :cc:subject:date:message-id:reply-to; bh=rhEN4a6HAn2U/v/f0OPEMxHkHtLbrvI8zASA8fuxx7I=; b=S6tCPKCv16OEIcDVTsfSCOQjeT6qq/tA++OxrGy/RKAuKmexiDjTGjv8vtuuCQs73n ulfBvEgUiuuggCjivzvABVx/jVjIhvyrYZYUQ3B+kGILXLiwUEIGnwnVIxV46Zn3zjWF YROlzWScIqJzGqJGe1sx/q+l76njx/nTMkUho= X-Google-DKIM-Signature: v=1; a=rsa-sha256; c=relaxed/relaxed; d=1e100.net; s=20230601; t=1763286710; x=1763891510; h=references:in-reply-to:cc:to:from:subject:message-id:date:x-gm-gg :x-gm-message-state:from:to:cc:subject:date:message-id:reply-to; bh=rhEN4a6HAn2U/v/f0OPEMxHkHtLbrvI8zASA8fuxx7I=; b=qkqQ7K5Ru6uJXxXgQ5bWIxowAF1CyJHea6xUbSXyS4fDoFLktjEzo3UKsLxk/6tH1E OW4hSDpS476opEswIOpHV3m91X2xoXIaLsF8xEhoFGvcNbp0IdHYImYPqp/MLgvpMQzG 7EF7U96/QNeszGYOvShNVwqO7O0wh55jYdN1zI3to9YaHiSfvFn4Gj+YlRdRgHIpj9BM NRoLbB5eF/9r26O5dbHeWrEV4muBYVXxszCoIsqTOuisY4j0fWgzgedLFvn8zAIVVLlw NG3lfDEgGvvA0G25XF/25yQ3ugC+dhb+9i/4TlVoXwAIVLW/f7LF9j5rAS/ydnwBrcrd 7+/w== X-Gm-Message-State: AOJu0YxRq4dnp4yT0ub6A8y5vTTWQcouniSorPR6iJr/ctanHprbN6Oa 0TljrFIZWE+5rWX4j35L8WVC+9qdZI+SpxWO69RsQwThN5rrFsoCmjUgeqaZ9y+4d9nyUc7SWKh jS+U5wqdrtr9y6XeYo0mMIlnQk9C9RudjU9SR+gRcKM3F8f/TCRZ+92FE1XPl X-Gm-Gg: ASbGnctdBgLW6ZzsKLT/hRHQeuI+mrC5LBwPp0+Lz44zu2YzvHWvjqeixD2DcID9VED 6G2kMWezFs0Y7aqk1PRxMMvBh9xTpP0+KJYBx8aUEmuk9x2fkhGklmHPyIrEfopKeesyXRLQBYw MVEw3rXYJM4QH913gAkO+/6GR04gk1f6eNTbB70WYApjb9xAAeAupV3tIkQ98WmsBvm5e8CJmIV HAt9jekcr3vkJhAQldJ3fFd2OdAXLNU2X78TNCIwrZlKqb1Cuym50ikdYOonqViAZGQ1qtlTW+o Yxg3QSxYx1MD+dzf2vIZlwQ/SMSyMn/pciizhOCZxuRujbQcj2z/tJLcywETcqyeyTL5pJuSCdF Cbb6cOdUF X-Google-Smtp-Source: AGHT+IGoSQCp2v6PreCvnU+R6wJVjPsEqdLwBVL9aWc1FugElNHB3jW+txFnH7mD5Qr8g0YlVZQzZ4Bf8Lwt X-Received: by 2002:a17:902:ce8c:b0:295:350a:f9b8 with SMTP id d9443c01a7336-2986a74195bmr114438095ad.29.1763286710457; Sun, 16 Nov 2025 01:51:50 -0800 (PST) Received: from postal.iol.unh.edu (postal.iol.unh.edu. [2606:4100:3880:1234::84]) by smtp-relay.gmail.com with ESMTPS id d9443c01a7336-2985c2b84d8sm11610185ad.48.2025.11.16.01.51.50 (version=TLS1_2 cipher=ECDHE-ECDSA-AES128-GCM-SHA256 bits=128/128); Sun, 16 Nov 2025 01:51:50 -0800 (PST) X-Relaying-Domain: iol.unh.edu Date: Sun, 16 Nov 2025 01:51:50 -0800 (PST) Message-ID: <69199eb6.170a0220.315a52.9966SMTPIN_ADDED_MISSING@mx.google.com> Received: from [172.21.0.3] (unknown [172.18.0.240]) by postal.iol.unh.edu (Postfix) with ESMTP id 109F660003E8; Sun, 16 Nov 2025 04:51:49 -0500 (EST) Subject: |SUCCESS| pw158829-158832 [PATCH] [v3,4/4] examples: enable format t From: dpdklab@iol.unh.edu To: Test Report Cc: dpdk-test-reports@iol.unh.edu, Chenbo Xia , Maxime Coquelin In-Reply-To: <20251115193749.101355-5-stephen@networkplumber.org> References: <20251115193749.101355-5-stephen@networkplumber.org> Content-Type: text/plain X-BeenThere: test-report@dpdk.org X-Mailman-Version: 2.1.29 Precedence: list List-Id: automatic DPDK test reports List-Unsubscribe: , List-Archive: List-Post: List-Help: List-Subscribe: , Errors-To: test-report-bounces@dpdk.org Test-Label: iol-compile-arm64-testing Test-Status: SUCCESS http://dpdk.org/patch/158832 _Testing PASS_ Submitter: Stephen Hemminger Date: Saturday, November 15 2025 19:36:39 DPDK git baseline: Repo:dpdk-next-virtio Branch: master CommitID:6b37c26a95388aa41bb5267c7c42f604fd571a38 158829-158832 --> testing pass Upstream job id: Generic-DPDK-Compile-Meson#444939 Test environment and result as below: +------------------------------+--------------------+ | Environment | dpdk_meson_compile | +==============================+====================+ | Red Hat Enterprise Linux 9.5 | PASS | +------------------------------+--------------------+ | Ubuntu 20.04 | PASS | +------------------------------+--------------------+ | Debian GNU/Linux 12 | PASS | +------------------------------+--------------------+ | Fedora Linux 42 | PASS | +------------------------------+--------------------+ | Ubuntu 22.04 | PASS | +------------------------------+--------------------+ | CentOS Stream 9 | PASS | +------------------------------+--------------------+ | Ubuntu 24.04 | PASS | +------------------------------+--------------------+ | CentOS Stream 10 | PASS | +------------------------------+--------------------+ Red Hat Enterprise Linux 9.5 Kernel: 5.4 Compiler: gcc gcc (GCC) 11.5.0 20240719 (Red Hat 11.5.0-2) Ubuntu 20.04 Kernel: 5.15 Compiler: aarch64-linux-gnu-gcc gcc (Ubuntu 9.4.0-1ubuntu1~20.04.2) 9.4.0 Debian GNU/Linux 12 Kernel: 5.4 Compiler: gcc gcc (Debian 12.2.0-14+deb12u1) 12.2.0 Fedora Linux 42 Kernel: 5.4 Compiler: clang gcc (GCC) 15.2.1 20250808 (Red Hat 15.2.1-1) Ubuntu 22.04 Kernel: 5.4 Compiler: gcc gcc (Ubuntu 11.4.0-1ubuntu1~22.04) 11.4.0 CentOS Stream 9 Kernel: 5.4 Compiler: gcc gcc (GCC) 11.5.0 20240719 (Red Hat 11.5.0-11) Ubuntu 24.04 Kernel: 5.4 Compiler: gcc gcc (Ubuntu 13.3.0-6ubuntu2~24.04) 13.3.0 CentOS Stream 10 Kernel: 5.4 Compiler: gcc gcc (GCC) 14.2.1 20250110 (Red Hat 14.2.1-8) To view detailed results, visit: https://lab.dpdk.org/results/dashboard/patchsets/34607/ UNH-IOL DPDK Community Lab To manage your email subscriptions, visit: https://lab.dpdk.org/results/dashboard/preferences/subscriptions/