From mboxrd@z Thu Jan 1 00:00:00 1970 Return-Path: Received: from mails.dpdk.org (mails.dpdk.org [217.70.189.124]) by inbox.dpdk.org (Postfix) with ESMTP id B460648B26 for ; Sun, 16 Nov 2025 11:01:13 +0100 (CET) Received: from mails.dpdk.org (localhost [127.0.0.1]) by mails.dpdk.org (Postfix) with ESMTP id 912454026C; Sun, 16 Nov 2025 11:01:13 +0100 (CET) Received: from mail-il1-f228.google.com (mail-il1-f228.google.com [209.85.166.228]) by mails.dpdk.org (Postfix) with ESMTP id 11AE04026C for ; Sun, 16 Nov 2025 11:01:12 +0100 (CET) Received: by mail-il1-f228.google.com with SMTP id e9e14a558f8ab-433100c59dcso14178845ab.0 for ; Sun, 16 Nov 2025 02:01:11 -0800 (PST) DKIM-Signature: v=1; a=rsa-sha256; c=relaxed/relaxed; d=iol.unh.edu; s=unh-iol; t=1763287271; x=1763892071; darn=dpdk.org; h=references:in-reply-to:cc:to:from:subject:message-id:date:from:to :cc:subject:date:message-id:reply-to; bh=YL3QOWNo3Pm+Jqdyq4Z7avG9NWltgNiFps91LCElnVQ=; b=gbjTgURDv0iTrlY517CMgO5oAt7YPfOrkSOl42E31YE/2mwKMFA+VVwa2XCw/OFugb Qm5tcGr4rMW5DzquvrV09FM9dNXV1wS4wLd/D4Fb64dYULLJd/EupfR3qCdmRmIfFWih qumSh6tcegFIX7snEkcKvg/9X27r7w8wK/Gj8= X-Google-DKIM-Signature: v=1; a=rsa-sha256; c=relaxed/relaxed; d=1e100.net; s=20230601; t=1763287271; x=1763892071; h=references:in-reply-to:cc:to:from:subject:message-id:date:x-gm-gg :x-gm-message-state:from:to:cc:subject:date:message-id:reply-to; bh=YL3QOWNo3Pm+Jqdyq4Z7avG9NWltgNiFps91LCElnVQ=; b=m/yEq5UWdhfPxam8wciV9sOyReu9fYrvcs/YTFKiaM4i7SSrH8m7k8RlZFakDOJ+Yj YWeP+wDfQjRYpOo4iEENbXMjv2pwJsSdoO06lJeBsbVxqZm0FnStL2EKuFNY3YhRJw5G /5HmE7Dm4DCIoz2IbIeLpI7q3RSX9K9knaaEua3KETwfmGls8yl2eSGG+1VQMHNqm+aq u3daCPLR/VAS+Cd6pft/qLxA8qKft/+KBTnC+BC5Mbm+pqdv5Iyin3ctgQ9xifx4kj3x /dmPMfpMRFsdc07SQcpl961rjakm7aQU68+eRx0RimHbISTdOgtbLA8XMsAOsANPlNOq nqkg== X-Gm-Message-State: AOJu0YwDsb1AKWsTmwdpFYmNi9zfAhFuqlv+9Dmd3GV6p8iXgiB1NlZr 8i1lSb7vzZMR4R5iTv5OyqzL0UrMPap4FHXtVjmBspLMVaDU6XyIyXM9mC/nKhXxDoxD9L8N12z /1C33GxukpgYCGHS0idj+o3qzdzAit0jhY2jI1OXenvoEJ/7m3q92Jz/u1BA/ X-Gm-Gg: ASbGnctnh7St+ej1+Oa7GxHmmnr4xutQf9ViizgowmZG3qvHCeg7k7hHQDeyxSiSP8J JaLrKZEjCK9YxysEYLBOT4txlESOWKaNeM8BgxOgYXmA4JNuuoEAoSfxe7Ov+z/PO/N1t0PSCtM F7C3JTvYzYwuRY6XwNmnEgkJzP/m7AFKMsZClvSN7YuFkjhnfu44NRMH4gWjE6+sCTXXZQ555+K cvz8cjodFgRtcTfrj4apZhjpDMEUxQm1utUs0z7ZpES8gCYmP3Jq+NsCUNSxIxYoBLkOy1Tg3Jv joFUjZkiIXT71gAbOMnyQ9kSj6zBFe9Ngqqok55jGhyPfDBL4Ee+rNQsUe3JhCslmIzCuHO+NSn QqyMHNhY6 X-Google-Smtp-Source: AGHT+IF5hXgizJQuz2PIwmsudlB9Fze7NLqmlLtFOV4aRbrt9E2z0W9ha8doOXu6iwKZ0sITsLpcUqNU3rUZ X-Received: by 2002:a92:d9c1:0:b0:434:a78e:f6e0 with SMTP id e9e14a558f8ab-434a78ef91dmr2300565ab.12.1763287271293; Sun, 16 Nov 2025 02:01:11 -0800 (PST) Received: from postal.iol.unh.edu (postal.iol.unh.edu. [2606:4100:3880:1234::84]) by smtp-relay.gmail.com with ESMTPS id e9e14a558f8ab-434a86a6813sm133955ab.23.2025.11.16.02.01.11 (version=TLS1_2 cipher=ECDHE-ECDSA-AES128-GCM-SHA256 bits=128/128); Sun, 16 Nov 2025 02:01:11 -0800 (PST) X-Relaying-Domain: iol.unh.edu Date: Sun, 16 Nov 2025 02:01:11 -0800 (PST) Message-ID: <6919a0e7.050a0220.1e612d.0a4fSMTPIN_ADDED_MISSING@mx.google.com> Received: from [172.21.0.4] (unknown [172.18.0.240]) by postal.iol.unh.edu (Postfix) with ESMTP id D6DB76051830; Sun, 16 Nov 2025 05:01:10 -0500 (EST) Subject: |SUCCESS| pw158833 [PATCH] [v2] net/ice: add MAC anti-spoof option From: dpdklab@iol.unh.edu To: Test Report Cc: dpdk-test-reports@iol.unh.edu, Bruce Richardson In-Reply-To: <20251116035749.45922-1-anurag.mandal@intel.com> References: <20251116035749.45922-1-anurag.mandal@intel.com> Content-Type: text/plain X-BeenThere: test-report@dpdk.org X-Mailman-Version: 2.1.29 Precedence: list List-Id: automatic DPDK test reports List-Unsubscribe: , List-Archive: List-Post: List-Help: List-Subscribe: , Errors-To: test-report-bounces@dpdk.org Test-Label: iol-compile-amd64-testing Test-Status: SUCCESS http://dpdk.org/patch/158833 _Testing PASS_ Submitter: Anurag Mandal Date: Sunday, November 16 2025 03:57:49 DPDK git baseline: Repo:dpdk-next-net-intel Branch: master CommitID:e5357d609907d504f4705e4899f3dad43cb4b70f 158833 --> testing pass Upstream job id: Generic-DPDK-Compile-Meson#445055 Test environment and result as below: +-------------------------------+--------------------+-------------------+-------------------------+----------------------+------------------+ | Environment | dpdk_meson_compile | dpdk_msvc_compile | dpdk_llvm_clang_compile | dpdk_mingw64_compile | dpdk_compile_ovs | +===============================+====================+===================+=========================+======================+==================+ | Ubuntu 20.04 | PASS | SKIPPED | SKIPPED | SKIPPED | SKIPPED | +-------------------------------+--------------------+-------------------+-------------------------+----------------------+------------------+ | FreeBSD 14.2 | PASS | SKIPPED | SKIPPED | SKIPPED | SKIPPED | +-------------------------------+--------------------+-------------------+-------------------------+----------------------+------------------+ | CentOS Stream 9 | PASS | SKIPPED | SKIPPED | SKIPPED | SKIPPED | +-------------------------------+--------------------+-------------------+-------------------------+----------------------+------------------+ | CentOS Stream 10 | PASS | SKIPPED | SKIPPED | SKIPPED | SKIPPED | +-------------------------------+--------------------+-------------------+-------------------------+----------------------+------------------+ | Fedora Linux 42 | PASS | SKIPPED | SKIPPED | SKIPPED | PASS | +-------------------------------+--------------------+-------------------+-------------------------+----------------------+------------------+ | openSUSE Leap 15.6 | PASS | SKIPPED | SKIPPED | SKIPPED | SKIPPED | +-------------------------------+--------------------+-------------------+-------------------------+----------------------+------------------+ | Debian GNU/Linux 12 | PASS | SKIPPED | SKIPPED | SKIPPED | SKIPPED | +-------------------------------+--------------------+-------------------+-------------------------+----------------------+------------------+ | Red Hat Enterprise Linux 8.10 | PASS | SKIPPED | SKIPPED | SKIPPED | SKIPPED | +-------------------------------+--------------------+-------------------+-------------------------+----------------------+------------------+ | Red Hat Enterprise Linux 9.5 | PASS | SKIPPED | SKIPPED | SKIPPED | SKIPPED | +-------------------------------+--------------------+-------------------+-------------------------+----------------------+------------------+ | Ubuntu 22.04 | PASS | SKIPPED | SKIPPED | SKIPPED | SKIPPED | +-------------------------------+--------------------+-------------------+-------------------------+----------------------+------------------+ | Ubuntu 24.04 | PASS | SKIPPED | SKIPPED | SKIPPED | PASS | +-------------------------------+--------------------+-------------------+-------------------------+----------------------+------------------+ | Alpine Linux 3.22.0 | PASS | SKIPPED | SKIPPED | SKIPPED | SKIPPED | +-------------------------------+--------------------+-------------------+-------------------------+----------------------+------------------+ | Windows Server 2022 | SKIPPED | PASS | PASS | PASS | SKIPPED | +-------------------------------+--------------------+-------------------+-------------------------+----------------------+------------------+ Ubuntu 20.04 Kernel: 4.19 Compiler: gcc gcc (Ubuntu 9.4.0-1ubuntu1~20.04.2) 9.4.0 FreeBSD 14.2 Kernel: 14.2-RELEASE Compiler: clang 18.1.6 CentOS Stream 9 Kernel: 5.15 Compiler: gcc gcc (GCC) 11.5.0 20240719 (Red Hat 11.5.0-11) CentOS Stream 10 Kernel: 5.15 Compiler: gcc gcc (GCC) 14.2.1 20250110 (Red Hat 14.2.1-8) Fedora Linux 42 Kernel: 5.15 Compiler: clang gcc (GCC) 15.2.1 20250808 (Red Hat 15.2.1-1) openSUSE Leap 15.6 Kernel: 5.15 Compiler: gcc gcc (SUSE Linux) 7.5.0 Debian GNU/Linux 12 Kernel: 5.15 Compiler: gcc gcc (Debian 12.2.0-14+deb12u1) 12.2.0 Red Hat Enterprise Linux 8.10 Kernel: 5.15 Compiler: gcc gcc (GCC) 8.5.0 20210514 (Red Hat 8.5.0-22) Red Hat Enterprise Linux 9.5 Kernel: 5.15 Compiler: gcc gcc (GCC) 11.5.0 20240719 (Red Hat 11.5.0-2) Ubuntu 22.04 Kernel: 5.15 Compiler: gcc gcc (Ubuntu 11.4.0-1ubuntu1~22.04) 11.4.0 Ubuntu 24.04 Kernel: 5.15 Compiler: gcc gcc (Ubuntu 13.3.0-6ubuntu2~24.04) 13.3.0 Alpine Linux 3.22.0 Kernel: 5.15 Compiler: gcc gcc (Alpine 14.2.0) 14.2.0 Windows Server 2022 Kernel: 10.0.20348.2031 Compiler: clang 15.0.7, gcc 14.1.0 (MinGW), and MSVC VS 19.39.33521 To view detailed results, visit: https://lab.dpdk.org/results/dashboard/patchsets/34608/ UNH-IOL DPDK Community Lab To manage your email subscriptions, visit: https://lab.dpdk.org/results/dashboard/preferences/subscriptions/