From mboxrd@z Thu Jan 1 00:00:00 1970 Return-Path: Received: from mails.dpdk.org (mails.dpdk.org [217.70.189.124]) by inbox.dpdk.org (Postfix) with ESMTP id 6279648B26 for ; Sun, 16 Nov 2025 11:21:13 +0100 (CET) Received: from mails.dpdk.org (localhost [127.0.0.1]) by mails.dpdk.org (Postfix) with ESMTP id 454014026C; Sun, 16 Nov 2025 11:21:13 +0100 (CET) Received: from mail-io1-f99.google.com (mail-io1-f99.google.com [209.85.166.99]) by mails.dpdk.org (Postfix) with ESMTP id D92354026C for ; Sun, 16 Nov 2025 11:21:11 +0100 (CET) Received: by mail-io1-f99.google.com with SMTP id ca18e2360f4ac-9486adc1aa9so129959939f.1 for ; Sun, 16 Nov 2025 02:21:11 -0800 (PST) DKIM-Signature: v=1; a=rsa-sha256; c=relaxed/relaxed; d=iol.unh.edu; s=unh-iol; t=1763288471; x=1763893271; darn=dpdk.org; h=references:in-reply-to:cc:to:from:subject:message-id:date:from:to :cc:subject:date:message-id:reply-to; bh=g6wYvf++4bUDQknDj6Zn08MPhsdTMWlm1LNJj6x3TfU=; b=P4WqK1UQDc7GCocih3NKFVw32g7cUPSrzeh+shoh8M4dcZbT9EYyA2nyI2fTW4w59s VlcKvffe5KAaPc9iy+CpOUTvpXTcFT1rlZE8DGFu6vwD/ZJZ8UoAHNI+8x9YnzrqViyV 70OWimz4Ht6p6/suptGPmdaUG+yuNW+gKIEDQ= X-Google-DKIM-Signature: v=1; a=rsa-sha256; c=relaxed/relaxed; d=1e100.net; s=20230601; t=1763288471; x=1763893271; h=references:in-reply-to:cc:to:from:subject:message-id:date:x-gm-gg :x-gm-message-state:from:to:cc:subject:date:message-id:reply-to; bh=g6wYvf++4bUDQknDj6Zn08MPhsdTMWlm1LNJj6x3TfU=; b=h19h/Vo1JRR6cBUpyXIwXgAOqQng1FaQw0Cb3lAeQHOJQUzD2zdHEZkugh113NqOQI 0a8QMiedkXzGYLNrUu/1/8uGK/aIC/sdtASQMRf8338VPGifaRBCAwNyw3UmMz+TXNK1 Oj/eA+3omz0oZiZYN+QbIOnG4jkT9JLpw0V92q7pRpBkEppUZdMZcrYXENfwQ7XoggD8 AB8vJ1LzORjXPXQc1fEEXDmUP7idNPdNHS6XPwPh+KPrMv0qrBgLTRK5YPx9ji/omQHq UzxjPHnGZpgWH2JJ9ZwF96N5jZ35fB0YmaxfqppZtc0E8fqS6opQKsSGhuQQi7IzpHHO R4pw== X-Gm-Message-State: AOJu0YxuHFA/pEZLtnG0/7oxW8Lt2LB1kR0GJ8ziWtcM5IWegsO0S5Qk pE6b1iw22P6ttfPjwliMzRir7XjthynXxbfaauwzDH36h6/vmQD6y9LHXqOSfqw6D749B0hzRBK OE5Pn5mSsJ79pq5XTnSu/Rmb0p/oOVc1gxd8kVXfSLhmn X-Gm-Gg: ASbGnctE2/C56CFtgD4FsDog4FFk4JZnMZpJWgQ+EIw50GUyxnL56cW20lHasdAonQO X5+7E97+vJjDCZaoNbuoWMVpbjm70e0oJQFPHBQirkn2eJfKMMooDUbKIRvIxxliwRV8HBn3/Sm 9Eo9RgxoabpfqwXhW5XOT6c45ttmUQFy0EH1Te2Df8T5HyAu68C5zDdefv3E6lN5OsdW0rUYIXD Xmo2LqyPmdnthRNXr11RdmSkbWpo/pAJmArNnYVqwtqJEmBg2UYMCfcLQIEFOXIFycO5jSTerSX J1quchDaTd467DxAT4UAD5Z3jTIhyHkPAArpXlqfmnRTKaXc3IjajmMrhFT9MKYNo/JskX8XHuZ A7ZQyYHt3Oi16GOTCZXKZuXyssL+8z10= X-Google-Smtp-Source: AGHT+IFcXOukfzVvj0KKmDpoon4eDlUdZwnjRITJx9mAxEUCXPz6tTjcn7v5HtWNBmIhiuwPyflSgvjiMUO0 X-Received: by 2002:a05:6638:c615:b0:5b7:ac2f:e3ca with SMTP id 8926c6da1cb9f-5b7c9e04543mr6326232173.17.1763288471163; Sun, 16 Nov 2025 02:21:11 -0800 (PST) Received: from postal.iol.unh.edu (postal.iol.unh.edu. [132.177.123.84]) by smtp-relay.gmail.com with ESMTPS id 8926c6da1cb9f-5b7bd246c7esm602674173.3.2025.11.16.02.21.11 (version=TLS1_2 cipher=ECDHE-ECDSA-AES128-GCM-SHA256 bits=128/128); Sun, 16 Nov 2025 02:21:11 -0800 (PST) X-Relaying-Domain: iol.unh.edu Date: Sun, 16 Nov 2025 02:21:11 -0800 (PST) Message-ID: <6919a597.050a0220.23458e.dbc2SMTPIN_ADDED_MISSING@mx.google.com> Received: from [172.21.0.3] (unknown [172.18.0.240]) by postal.iol.unh.edu (Postfix) with ESMTP id 833706051830; Sun, 16 Nov 2025 05:21:10 -0500 (EST) Subject: |SUCCESS| pw158829-158832 [PATCH] [v3,4/4] examples: enable format t From: dpdklab@iol.unh.edu To: Test Report Cc: dpdk-test-reports@iol.unh.edu, Chenbo Xia , Maxime Coquelin In-Reply-To: <20251115193749.101355-5-stephen@networkplumber.org> References: <20251115193749.101355-5-stephen@networkplumber.org> Content-Type: text/plain X-BeenThere: test-report@dpdk.org X-Mailman-Version: 2.1.29 Precedence: list List-Id: automatic DPDK test reports List-Unsubscribe: , List-Archive: List-Post: List-Help: List-Subscribe: , Errors-To: test-report-bounces@dpdk.org Test-Label: iol-unit-arm64-testing Test-Status: SUCCESS http://dpdk.org/patch/158832 _Testing PASS_ Submitter: Stephen Hemminger Date: Saturday, November 15 2025 19:36:39 DPDK git baseline: Repo:dpdk-next-virtio Branch: master CommitID:6b37c26a95388aa41bb5267c7c42f604fd571a38 158829-158832 --> testing pass Upstream job id: Generic-Unit-Test-DPDK#393211 Test environment and result as below: +------------------------------+----------------+--------------+---------------------------+------------------------------+ | Environment | dpdk_unit_test | lpm_autotest | cryptodev_sw_zuc_autotest | cryptodev_sw_snow3g_autotest | +==============================+================+==============+===========================+==============================+ | CentOS Stream 10 | PASS | SKIPPED | SKIPPED | SKIPPED | +------------------------------+----------------+--------------+---------------------------+------------------------------+ | CentOS Stream 9 | PASS | SKIPPED | SKIPPED | SKIPPED | +------------------------------+----------------+--------------+---------------------------+------------------------------+ | Debian GNU/Linux 12 | PASS | SKIPPED | SKIPPED | SKIPPED | +------------------------------+----------------+--------------+---------------------------+------------------------------+ | Fedora Linux 40 | PASS | SKIPPED | SKIPPED | SKIPPED | +------------------------------+----------------+--------------+---------------------------+------------------------------+ | Fedora Linux 41 | PASS | SKIPPED | SKIPPED | SKIPPED | +------------------------------+----------------+--------------+---------------------------+------------------------------+ | Red Hat Enterprise Linux 9.5 | PASS | SKIPPED | SKIPPED | SKIPPED | +------------------------------+----------------+--------------+---------------------------+------------------------------+ | Fedora Linux 42 | PASS | SKIPPED | SKIPPED | SKIPPED | +------------------------------+----------------+--------------+---------------------------+------------------------------+ | Ubuntu 22.04 | PASS | SKIPPED | SKIPPED | SKIPPED | +------------------------------+----------------+--------------+---------------------------+------------------------------+ | Ubuntu 20.04 | PASS | PASS | SKIPPED | SKIPPED | +------------------------------+----------------+--------------+---------------------------+------------------------------+ | Ubuntu 24.04 | PASS | SKIPPED | SKIPPED | SKIPPED | +------------------------------+----------------+--------------+---------------------------+------------------------------+ | Debian 12 (arm) | SKIPPED | SKIPPED | PASS | PASS | +------------------------------+----------------+--------------+---------------------------+------------------------------+ CentOS Stream 10 Kernel: 5.4 Compiler: gcc gcc (GCC) 14.2.1 20250110 (Red Hat 14.2.1-8) CentOS Stream 9 Kernel: 5.4 Compiler: gcc gcc (GCC) 11.5.0 20240719 (Red Hat 11.5.0-11) Debian GNU/Linux 12 Kernel: 5.4 Compiler: gcc gcc (Debian 12.2.0-14+deb12u1) 12.2.0 Fedora Linux 40 Kernel: 5.4 Compiler: gcc gcc (GCC) 14.2.1 20240912 (Red Hat 14.2.1-3) Fedora Linux 41 Kernel: 5.4 Compiler: clang gcc (GCC) 14.3.1 20250523 (Red Hat 14.3.1-1) Red Hat Enterprise Linux 9.5 Kernel: 5.4 Compiler: gcc gcc (GCC) 11.5.0 20240719 (Red Hat 11.5.0-2) Fedora Linux 42 Kernel: 5.4 Compiler: gcc gcc (GCC) 15.2.1 20250808 (Red Hat 15.2.1-1) Ubuntu 22.04 Kernel: 5.4 Compiler: gcc gcc (Ubuntu 11.4.0-1ubuntu1~22.04) 11.4.0 Ubuntu 20.04 Kernel: 5.4 Compiler: gcc gcc (Ubuntu 9.4.0-1ubuntu1~20.04.2) 9.4.0 Ubuntu 24.04 Kernel: 5.4 Compiler: gcc gcc (Ubuntu 13.3.0-6ubuntu2~24.04) 13.3.0 Debian 12 (arm) Kernel: Depends on container host Compiler: gcc (Debian 12.2.0-14) 12.2.0 To view detailed results, visit: https://lab.dpdk.org/results/dashboard/patchsets/34607/ UNH-IOL DPDK Community Lab To manage your email subscriptions, visit: https://lab.dpdk.org/results/dashboard/preferences/subscriptions/