* |SUCCESS| pw158834 [PATCH v2] gro : improve GRO performance based on hash table
[not found] <20251116060634.262352-1-kumaraparamesh92@gmail.com>
@ 2025-11-16 5:38 ` qemudev
2025-11-16 5:43 ` qemudev
` (21 subsequent siblings)
22 siblings, 0 replies; 23+ messages in thread
From: qemudev @ 2025-11-16 5:38 UTC (permalink / raw)
To: test-report
Test-Label: loongarch-compilation
Test-Status: SUCCESS
http://dpdk.org/patch/158834
_Compilation OK_
Submitter: Kumara Parameshwaran <kumaraparamesh92@gmail.com>
Date: Sun, 16 Nov 2025 11:36:34 +0530
DPDK git baseline: Repo:dpdk
Branch: main
CommitID: be0112878b4fc3a1b918370ed2fe615c52039d77
158834 --> meson & ninja build successfully
Test environment and result as below:
+---------------------+----------------+
| Environment | compilation |
+---------------------+----------------+
| Loongnix-Server 8.3 | PASS |
+---------------------+----------------+
Loongnix-Server 8.3
Kernel: 4.19.190+
Compiler: gcc 8.3
^ permalink raw reply [flat|nested] 23+ messages in thread* |SUCCESS| pw158834 [PATCH v2] gro : improve GRO performance based on hash table
[not found] <20251116060634.262352-1-kumaraparamesh92@gmail.com>
2025-11-16 5:38 ` |SUCCESS| pw158834 [PATCH v2] gro : improve GRO performance based on hash table qemudev
@ 2025-11-16 5:43 ` qemudev
2025-11-16 6:06 ` checkpatch
` (20 subsequent siblings)
22 siblings, 0 replies; 23+ messages in thread
From: qemudev @ 2025-11-16 5:43 UTC (permalink / raw)
To: test-report
Test-Label: loongarch-unit-testing
Test-Status: SUCCESS
http://dpdk.org/patch/158834
_Unit Testing PASS_
Submitter: Kumara Parameshwaran <kumaraparamesh92@gmail.com>
Date: Sun, 16 Nov 2025 11:36:34 +0530
DPDK git baseline: Repo:dpdk
Branch: main
CommitID: be0112878b4fc3a1b918370ed2fe615c52039d77
158834 --> testing pass
Test environment and result as below:
+---------------------+----------------+
| Environment | dpdk_unit_test |
+---------------------+----------------+
| Loongnix-Server 8.3 | PASS |
+---------------------+----------------+
Loongnix-Server 8.3
Kernel: 4.19.190+
Compiler: gcc 8.3
Test result details:
1/121 DPDK:fast-tests / acl_autotest OK 3.34s
2/121 DPDK:fast-tests / alarm_autotest OK 1.65s
3/121 DPDK:fast-tests / argparse_autotest OK 0.64s
4/121 DPDK:fast-tests / atomic_autotest OK 6.94s
5/121 DPDK:fast-tests / bitcount_autotest OK 0.31s
6/121 DPDK:fast-tests / bitmap_autotest OK 0.42s
7/121 DPDK:fast-tests / bitops_autotest OK 1.82s
8/121 DPDK:fast-tests / bitratestats_autotest OK 0.31s
9/121 DPDK:fast-tests / bitset_autotest OK 3.05s
10/121 DPDK:fast-tests / bpf_autotest OK 0.31s
11/121 DPDK:fast-tests / bpf_convert_autotest OK 0.32s
12/121 DPDK:fast-tests / byteorder_autotest OK 0.31s
13/121 DPDK:fast-tests / cfgfile_autotest OK 0.31s
14/121 DPDK:fast-tests / cksum_autotest OK 0.31s
15/121 DPDK:fast-tests / cmdline_autotest OK 0.31s
16/121 DPDK:fast-tests / common_autotest OK 1.20s
17/121 DPDK:fast-tests / compressdev_autotest SKIP 0.07s exit status 77
18/121 DPDK:fast-tests / cpuflags_autotest OK 0.31s
19/121 DPDK:fast-tests / crc_autotest OK 0.31s
20/121 DPDK:fast-tests / user_delay_us OK 0.31s
21/121 DPDK:fast-tests / debug_autotest OK 19.14s
22/121 DPDK:fast-tests / devargs_autotest OK 0.31s
23/121 DPDK:fast-tests / dispatcher_autotest OK 2.50s
24/121 DPDK:fast-tests / distributor_autotest OK 1.21s
25/121 DPDK:fast-tests / eal_flags_c_opt_autotest OK 1.09s
26/121 DPDK:fast-tests / eal_flags_main_opt_autotest OK 0.28s
27/121 DPDK:fast-tests / eal_flags_n_opt_autotest OK 0.25s
28/121 DPDK:fast-tests / eal_flags_hpet_autotest OK 0.16s
29/121 DPDK:fast-tests / eal_flags_no_huge_autotest OK 0.25s
30/121 DPDK:fast-tests / eal_flags_a_opt_autotest OK 0.40s
31/121 DPDK:fast-tests / eal_flags_b_opt_autotest OK 0.33s
32/121 DPDK:fast-tests / eal_flags_vdev_opt_autotest OK 0.24s
33/121 DPDK:fast-tests / eal_flags_r_opt_autotest OK 0.24s
34/121 DPDK:fast-tests / eal_flags_mem_autotest OK 0.70s
35/121 DPDK:fast-tests / eal_flags_file_prefix_autotest OK 22.33s
36/121 DPDK:fast-tests / eal_flags_misc_autotest OK 1.32s
37/121 DPDK:fast-tests / eal_fs_autotest OK 0.40s
38/121 DPDK:fast-tests / errno_autotest OK 0.40s
39/121 DPDK:fast-tests / ethdev_link_status OK 0.40s
40/121 DPDK:fast-tests / event_eth_tx_adapter_autotest OK 1.70s
41/121 DPDK:fast-tests / event_ring_autotest OK 0.40s
42/121 DPDK:fast-tests / eventdev_common_autotest OK 0.40s
43/121 DPDK:fast-tests / eventdev_selftest_sw OK 7.34s
44/121 DPDK:fast-tests / fbarray_autotest OK 0.40s
45/121 DPDK:fast-tests / fib_autotest OK 1.25s
46/121 DPDK:fast-tests / fib6_autotest OK 1.24s
47/121 DPDK:fast-tests / func_reentrancy_autotest OK 2.11s
48/121 DPDK:fast-tests / graph_autotest OK 0.40s
49/121 DPDK:fast-tests / node_list_dump OK 0.40s
50/121 DPDK:fast-tests / graph_feature_arc_autotest OK 0.41s
51/121 DPDK:fast-tests / gro_autotest OK 0.08s
52/121 DPDK:fast-tests / hash_autotest OK 1.02s
53/121 DPDK:fast-tests / hash_readwrite_func_autotest OK 0.12s
54/121 DPDK:fast-tests / interrupt_autotest OK 1.70s
55/121 DPDK:fast-tests / ipfrag_autotest OK 0.08s
56/121 DPDK:fast-tests / ipsec_autotest SKIP 0.40s exit status 77
57/121 DPDK:fast-tests / kvargs_autotest OK 0.41s
58/121 DPDK:fast-tests / latencystats_autotest OK 0.41s
59/121 DPDK:fast-tests / lcore_var_autotest OK 0.54s
60/121 DPDK:fast-tests / lcores_autotest OK 5.21s
61/121 DPDK:fast-tests / logs_autotest OK 0.40s
62/121 DPDK:fast-tests / lpm_autotest OK 2.44s
63/121 DPDK:fast-tests / lpm6_autotest OK 5.59s
64/121 DPDK:fast-tests / malloc_autotest OK 62.13s
65/121 DPDK:fast-tests / mbuf_autotest OK 4.79s
66/121 DPDK:fast-tests / mcslock_autotest OK 3.85s
67/121 DPDK:fast-tests / member_autotest OK 1.61s
68/121 DPDK:fast-tests / memcpy_autotest OK 7.27s
69/121 DPDK:fast-tests / memory_autotest OK 0.09s
70/121 DPDK:fast-tests / mempool_autotest OK 0.44s
71/121 DPDK:fast-tests / memzone_autotest OK 0.15s
72/121 DPDK:fast-tests / meter_autotest OK 0.40s
73/121 DPDK:fast-tests / metrics_autotest OK 0.40s
74/121 DPDK:fast-tests / multiprocess_autotest OK 0.23s
75/121 DPDK:fast-tests / net_ether_autotest OK 1.06s
76/121 DPDK:fast-tests / net_ipv6_autotest OK 0.40s
77/121 DPDK:fast-tests / pcapng_autotest OK 6.82s
78/121 DPDK:fast-tests / pdcp_autotest SKIP 0.07s exit status 77
79/121 DPDK:fast-tests / pdump_autotest OK 0.50s
80/121 DPDK:fast-tests / per_lcore_autotest OK 0.50s
81/121 DPDK:fast-tests / pflock_autotest OK 1.23s
82/121 DPDK:fast-tests / pie_autotest OK 0.40s
83/121 DPDK:fast-tests / ring_pmd_autotest OK 0.40s
84/121 DPDK:fast-tests / power_autotest OK 0.40s
85/121 DPDK:fast-tests / power_cpufreq_autotest SKIP 0.07s exit status 77
86/121 DPDK:fast-tests / power_intel_uncore_autotest SKIP 0.40s exit status 77
87/121 DPDK:fast-tests / power_kvm_vm_autotest SKIP 0.07s exit status 77
88/121 DPDK:fast-tests / prefetch_autotest OK 0.40s
89/121 DPDK:fast-tests / ptr_compress_autotest OK 0.40s
90/121 DPDK:fast-tests / rawdev_autotest OK 0.40s
91/121 DPDK:fast-tests / rcu_qsbr_autotest OK 0.92s
92/121 DPDK:fast-tests / reorder_autotest OK 0.46s
93/121 DPDK:fast-tests / rib_autotest OK 9.05s
94/121 DPDK:fast-tests / rib6_autotest OK 9.05s
95/121 DPDK:fast-tests / ring_autotest OK 0.43s
96/121 DPDK:fast-tests / rwlock_test1_autotest OK 1.16s
97/121 DPDK:fast-tests / rwlock_rda_autotest OK 5.39s
98/121 DPDK:fast-tests / rwlock_rds_wrm_autotest OK 5.40s
99/121 DPDK:fast-tests / rwlock_rde_wro_autotest OK 5.40s
100/121 DPDK:fast-tests / sched_autotest OK 0.40s
101/121 DPDK:fast-tests / security_autotest OK 0.07s
102/121 DPDK:fast-tests / seqlock_autotest OK 2.40s
103/121 DPDK:fast-tests / service_autotest OK 3.11s
104/121 DPDK:fast-tests / soring_autotest OK 0.41s
105/121 DPDK:fast-tests / spinlock_autotest OK 0.48s
106/121 DPDK:fast-tests / stack_autotest OK 0.87s
107/121 DPDK:fast-tests / stack_lf_autotest SKIP 0.06s exit status 77
108/121 DPDK:fast-tests / string_autotest OK 0.40s
109/121 DPDK:fast-tests / table_autotest OK 7.76s
110/121 DPDK:fast-tests / tailq_autotest OK 0.40s
111/121 DPDK:fast-tests / telemetry_data_autotest OK 0.41s
112/121 DPDK:fast-tests / telemetry_json_autotest OK 0.40s
113/121 DPDK:fast-tests / thash_autotest OK 0.41s
114/121 DPDK:fast-tests / threads_autotest OK 0.58s
115/121 DPDK:fast-tests / ticketlock_autotest OK 0.59s
116/121 DPDK:fast-tests / timer_autotest OK 3.91s
117/121 DPDK:fast-tests / trace_autotest OK 0.40s
118/121 DPDK:fast-tests / trace_autotest_with_traces OK 0.41s
119/121 DPDK:fast-tests / vdev_autotest OK 0.40s
120/121 DPDK:fast-tests / version_autotest OK 0.40s
121/121 DPDK:fast-tests / telemetry_all OK 19.51s
Ok: 114
Expected Fail: 0
Fail: 0
Unexpected Pass: 0
Skipped: 7
Timeout: 0
^ permalink raw reply [flat|nested] 23+ messages in thread* |SUCCESS| pw158834 [PATCH v2] gro : improve GRO performance based on hash table
[not found] <20251116060634.262352-1-kumaraparamesh92@gmail.com>
2025-11-16 5:38 ` |SUCCESS| pw158834 [PATCH v2] gro : improve GRO performance based on hash table qemudev
2025-11-16 5:43 ` qemudev
@ 2025-11-16 6:06 ` checkpatch
2025-11-16 8:27 ` 0-day Robot
` (19 subsequent siblings)
22 siblings, 0 replies; 23+ messages in thread
From: checkpatch @ 2025-11-16 6:06 UTC (permalink / raw)
To: test-report
Test-Label: checkpatch
Test-Status: SUCCESS
http://dpdk.org/patch/158834
_coding style OK_
^ permalink raw reply [flat|nested] 23+ messages in thread* |SUCCESS| pw158834 [PATCH v2] gro : improve GRO performance based on hash table
[not found] <20251116060634.262352-1-kumaraparamesh92@gmail.com>
` (2 preceding siblings ...)
2025-11-16 6:06 ` checkpatch
@ 2025-11-16 8:27 ` 0-day Robot
2025-11-16 8:27 ` 0-day Robot
` (18 subsequent siblings)
22 siblings, 0 replies; 23+ messages in thread
From: 0-day Robot @ 2025-11-16 8:27 UTC (permalink / raw)
To: test-report; +Cc: robot
From: robot@bytheb.org
Test-Label: github-robot: build
Test-Status: SUCCESS
http://patchwork.dpdk.org/patch/158834/
_github build: passed_
Build URL: https://github.com/ovsrobot/dpdk/actions/runs/19401585080
^ permalink raw reply [flat|nested] 23+ messages in thread* |SUCCESS| pw158834 [PATCH v2] gro : improve GRO performance based on hash table
[not found] <20251116060634.262352-1-kumaraparamesh92@gmail.com>
` (3 preceding siblings ...)
2025-11-16 8:27 ` 0-day Robot
@ 2025-11-16 8:27 ` 0-day Robot
2025-11-16 12:21 ` |PENDING| pw158834 [PATCH] [v2] gro : improve GRO performance based dpdklab
` (17 subsequent siblings)
22 siblings, 0 replies; 23+ messages in thread
From: 0-day Robot @ 2025-11-16 8:27 UTC (permalink / raw)
To: test-report; +Cc: robot
From: robot@bytheb.org
Test-Label: github-robot-post
Test-Status: SUCCESS
http://patchwork.dpdk.org/patch/158834/
_github post: success_
HTML Link: https://github.com/ovsrobot/dpdk/pull/438
^ permalink raw reply [flat|nested] 23+ messages in thread* |PENDING| pw158834 [PATCH] [v2] gro : improve GRO performance based
[not found] <20251116060634.262352-1-kumaraparamesh92@gmail.com>
` (4 preceding siblings ...)
2025-11-16 8:27 ` 0-day Robot
@ 2025-11-16 12:21 ` dpdklab
2025-11-16 12:25 ` dpdklab
` (16 subsequent siblings)
22 siblings, 0 replies; 23+ messages in thread
From: dpdklab @ 2025-11-16 12:21 UTC (permalink / raw)
To: Test Report; +Cc: dpdk-test-reports
Test-Label: iol-compile-amd64-testing
Test-Status: PENDING
http://dpdk.org/patch/158834
_Testing pending_
Submitter: Kumara Parameshwaran <kumaraparamesh92@gmail.com>
Date: Sunday, November 16 2025 06:06:34
DPDK git baseline: Repo:dpdk
Branch: master
CommitID:be0112878b4fc3a1b918370ed2fe615c52039d77
158834 --> testing pending
Upstream job id: Generic-VM-DPDK-Compile-Meson#39808
Test environment and result as below:
+-------------------------------+--------------------+------------------+-------------------------+-------------------+
| Environment | dpdk_meson_compile | dpdk_compile_ovs | dpdk_llvm_clang_compile | dpdk_msvc_compile |
+===============================+====================+==================+=========================+===================+
| Debian GNU/Linux 12 | PEND | SKIPPED | SKIPPED | SKIPPED |
+-------------------------------+--------------------+------------------+-------------------------+-------------------+
| CentOS Stream 10 | PEND | SKIPPED | SKIPPED | SKIPPED |
+-------------------------------+--------------------+------------------+-------------------------+-------------------+
| CentOS Stream 9 | PEND | SKIPPED | SKIPPED | SKIPPED |
+-------------------------------+--------------------+------------------+-------------------------+-------------------+
| Fedora Linux 42 | PEND | PEND | SKIPPED | SKIPPED |
+-------------------------------+--------------------+------------------+-------------------------+-------------------+
| Ubuntu 20.04 | PASS | SKIPPED | SKIPPED | SKIPPED |
+-------------------------------+--------------------+------------------+-------------------------+-------------------+
| openSUSE Leap 15.6 | PEND | SKIPPED | SKIPPED | SKIPPED |
+-------------------------------+--------------------+------------------+-------------------------+-------------------+
| Red Hat Enterprise Linux 9.5 | PEND | SKIPPED | SKIPPED | SKIPPED |
+-------------------------------+--------------------+------------------+-------------------------+-------------------+
| FreeBSD 14.2 | PEND | SKIPPED | SKIPPED | SKIPPED |
+-------------------------------+--------------------+------------------+-------------------------+-------------------+
| Ubuntu 24.04 | PEND | PEND | SKIPPED | SKIPPED |
+-------------------------------+--------------------+------------------+-------------------------+-------------------+
| Red Hat Enterprise Linux 8.10 | PEND | SKIPPED | SKIPPED | SKIPPED |
+-------------------------------+--------------------+------------------+-------------------------+-------------------+
| Ubuntu 22.04 | PEND | SKIPPED | SKIPPED | SKIPPED |
+-------------------------------+--------------------+------------------+-------------------------+-------------------+
| Alpine Linux 3.22.0 | PEND | SKIPPED | SKIPPED | SKIPPED |
+-------------------------------+--------------------+------------------+-------------------------+-------------------+
| Windows Server 2022 | SKIPPED | SKIPPED | PEND | PEND |
+-------------------------------+--------------------+------------------+-------------------------+-------------------+
Debian GNU/Linux 12
Kernel: 5.15
Compiler: gcc gcc (Debian 12.2.0-14+deb12u1) 12.2.0
CentOS Stream 10
Kernel: 5.15
Compiler: gcc gcc (GCC) 14.2.1 20250110 (Red Hat 14.2.1-8)
CentOS Stream 9
Kernel: 5.15
Compiler: gcc gcc (GCC) 11.5.0 20240719 (Red Hat 11.5.0-11)
Fedora Linux 42
Kernel: 5.15
Compiler: clang gcc (GCC) 15.2.1 20250808 (Red Hat 15.2.1-1)
Ubuntu 20.04
Kernel: 5.15
Compiler: gcc gcc (Ubuntu 9.4.0-1ubuntu1~20.04.2) 9.4.0
openSUSE Leap 15.6
Kernel: 5.15
Compiler: gcc gcc (SUSE Linux) 7.5.0
Red Hat Enterprise Linux 9.5
Kernel: 5.15
Compiler: gcc gcc (GCC) 11.5.0 20240719 (Red Hat 11.5.0-2)
FreeBSD 14.2
Kernel: 14.2-RELEASE
Compiler: clang 18.1.6
Ubuntu 24.04
Kernel: 5.15
Compiler: gcc gcc (Ubuntu 13.3.0-6ubuntu2~24.04) 13.3.0
Red Hat Enterprise Linux 8.10
Kernel: 5.15
Compiler: gcc gcc (GCC) 8.5.0 20210514 (Red Hat 8.5.0-22)
Ubuntu 22.04
Kernel: 5.15
Compiler: gcc gcc (Ubuntu 11.4.0-1ubuntu1~22.04) 11.4.0
Alpine Linux 3.22.0
Kernel: 5.15
Compiler: gcc gcc (Alpine 14.2.0) 14.2.0
Windows Server 2022
Kernel: 10.0.20348.2031
Compiler: clang 15.0.7, gcc 14.1.0 (MinGW), and MSVC VS 19.39.33521
To view detailed results, visit:
https://lab.dpdk.org/results/dashboard/patchsets/34609/
UNH-IOL DPDK Community Lab
To manage your email subscriptions, visit:
https://lab.dpdk.org/results/dashboard/preferences/subscriptions/
^ permalink raw reply [flat|nested] 23+ messages in thread* |PENDING| pw158834 [PATCH] [v2] gro : improve GRO performance based
[not found] <20251116060634.262352-1-kumaraparamesh92@gmail.com>
` (5 preceding siblings ...)
2025-11-16 12:21 ` |PENDING| pw158834 [PATCH] [v2] gro : improve GRO performance based dpdklab
@ 2025-11-16 12:25 ` dpdklab
2025-11-16 12:25 ` |SUCCESS| " dpdklab
` (15 subsequent siblings)
22 siblings, 0 replies; 23+ messages in thread
From: dpdklab @ 2025-11-16 12:25 UTC (permalink / raw)
To: Test Report; +Cc: dpdk-test-reports
Test-Label: iol-unit-amd64-testing
Test-Status: PENDING
http://dpdk.org/patch/158834
_Testing pending_
Submitter: Kumara Parameshwaran <kumaraparamesh92@gmail.com>
Date: Sunday, November 16 2025 06:06:34
DPDK git baseline: Repo:dpdk
Branch: master
CommitID:be0112878b4fc3a1b918370ed2fe615c52039d77
158834 --> testing pending
Upstream job id: Generic-Unit-Test-DPDK#393326
Test environment and result as below:
+-------------------------------+----------------+
| Environment | dpdk_unit_test |
+===============================+================+
| CentOS Stream 10 | PEND |
+-------------------------------+----------------+
| Fedora Linux 41 | PEND |
+-------------------------------+----------------+
| CentOS Stream 9 | PASS |
+-------------------------------+----------------+
| Fedora Linux 42 | PEND |
+-------------------------------+----------------+
| Red Hat Enterprise Linux 8.10 | PEND |
+-------------------------------+----------------+
| Ubuntu 22.04 | PEND |
+-------------------------------+----------------+
| Ubuntu 24.04 | PEND |
+-------------------------------+----------------+
| Ubuntu 20.04 | PEND |
+-------------------------------+----------------+
| Fedora Linux 40 | PEND |
+-------------------------------+----------------+
| Debian GNU/Linux 12 | PEND |
+-------------------------------+----------------+
| Red Hat Enterprise Linux 9.5 | PEND |
+-------------------------------+----------------+
| Windows Server 2022 | PEND |
+-------------------------------+----------------+
CentOS Stream 10
Kernel: 5.15
Compiler: gcc gcc (GCC) 14.2.1 20250110 (Red Hat 14.2.1-8)
Fedora Linux 41
Kernel: 5.15
Compiler: gcc gcc (GCC) 14.3.1 20250523 (Red Hat 14.3.1-1)
CentOS Stream 9
Kernel: 5.15
Compiler: gcc gcc (GCC) 11.5.0 20240719 (Red Hat 11.5.0-11)
Fedora Linux 42
Kernel: 5.15
Compiler: gcc gcc (GCC) 15.2.1 20250808 (Red Hat 15.2.1-1)
Red Hat Enterprise Linux 8.10
Kernel: 5.15
Compiler: gcc gcc (GCC) 8.5.0 20210514 (Red Hat 8.5.0-22)
Ubuntu 22.04
Kernel: 5.15
Compiler: gcc gcc (Ubuntu 11.4.0-1ubuntu1~22.04) 11.4.0
Ubuntu 24.04
Kernel: 5.15
Compiler: gcc gcc (Ubuntu 13.3.0-6ubuntu2~24.04) 13.3.0
Ubuntu 20.04
Kernel: 5.15
Compiler: gcc gcc (Ubuntu 9.4.0-1ubuntu1~20.04.2) 9.4.0
Fedora Linux 40
Kernel: 5.15
Compiler: gcc gcc (GCC) 14.2.1 20240912 (Red Hat 14.2.1-3)
Debian GNU/Linux 12
Kernel: 5.15
Compiler: gcc gcc (Debian 12.2.0-14+deb12u1) 12.2.0
Red Hat Enterprise Linux 9.5
Kernel: 5.15
Compiler: gcc gcc (GCC) 11.5.0 20240719 (Red Hat 11.5.0-2)
Windows Server 2022
Kernel: 10.0.20348.2031
Compiler: clang 15.0.7, gcc 14.1.0 (MinGW), and MSVC VS 19.39.33521
To view detailed results, visit:
https://lab.dpdk.org/results/dashboard/patchsets/34609/
UNH-IOL DPDK Community Lab
To manage your email subscriptions, visit:
https://lab.dpdk.org/results/dashboard/preferences/subscriptions/
^ permalink raw reply [flat|nested] 23+ messages in thread* |SUCCESS| pw158834 [PATCH] [v2] gro : improve GRO performance based
[not found] <20251116060634.262352-1-kumaraparamesh92@gmail.com>
` (6 preceding siblings ...)
2025-11-16 12:25 ` dpdklab
@ 2025-11-16 12:25 ` dpdklab
2025-11-16 12:29 ` dpdklab
` (14 subsequent siblings)
22 siblings, 0 replies; 23+ messages in thread
From: dpdklab @ 2025-11-16 12:25 UTC (permalink / raw)
To: Test Report; +Cc: dpdk-test-reports
Test-Label: iol-mellanox-Functional
Test-Status: SUCCESS
http://dpdk.org/patch/158834
_Functional Testing PASS_
Submitter: Kumara Parameshwaran <kumaraparamesh92@gmail.com>
Date: Sunday, November 16 2025 06:06:34
DPDK git baseline: Repo:dpdk
Branch: master
CommitID:be0112878b4fc3a1b918370ed2fe615c52039d77
158834 --> functional testing pass
Upstream job id: Template-DPDK-DTS-Pipeline#3340
Test environment and result as below:
Ubuntu 24.04
Kernel: 6.8.0-55-generic
Compiler: gcc 13.3.0
NIC: Mellanox ConnectX-5 100000 Mbps
Aggregate Results by Test Suite
+---------------------------------+--------+
| Test Suite | Result |
+=================================+========+
| blocklist | PASS |
+---------------------------------+--------+
| promisc_support | PASS |
+---------------------------------+--------+
| uni_pkt | PASS |
+---------------------------------+--------+
| dynamic_config | PASS |
+---------------------------------+--------+
| hello_world | PASS |
+---------------------------------+--------+
| l2fwd | PASS |
+---------------------------------+--------+
| port_restart_config_persistency | PASS |
+---------------------------------+--------+
| softnic | PASS |
+---------------------------------+--------+
| vlan | PASS |
+---------------------------------+--------+
To view detailed results, visit:
https://lab.dpdk.org/results/dashboard/patchsets/34609/
UNH-IOL DPDK Community Lab
To manage your email subscriptions, visit:
https://lab.dpdk.org/results/dashboard/preferences/subscriptions/
^ permalink raw reply [flat|nested] 23+ messages in thread* |SUCCESS| pw158834 [PATCH] [v2] gro : improve GRO performance based
[not found] <20251116060634.262352-1-kumaraparamesh92@gmail.com>
` (7 preceding siblings ...)
2025-11-16 12:25 ` |SUCCESS| " dpdklab
@ 2025-11-16 12:29 ` dpdklab
2025-11-16 12:31 ` |PENDING| " dpdklab
` (13 subsequent siblings)
22 siblings, 0 replies; 23+ messages in thread
From: dpdklab @ 2025-11-16 12:29 UTC (permalink / raw)
To: Test Report; +Cc: dpdk-test-reports
Test-Label: iol-marvell-Functional
Test-Status: SUCCESS
http://dpdk.org/patch/158834
_Functional Testing PASS_
Submitter: Kumara Parameshwaran <kumaraparamesh92@gmail.com>
Date: Sunday, November 16 2025 06:06:34
DPDK git baseline: Repo:dpdk
Branch: master
CommitID:be0112878b4fc3a1b918370ed2fe615c52039d77
158834 --> functional testing pass
Upstream job id: Template-DTS-Pipeline#255186
Test environment and result as below:
Ubuntu 20.04.6
Kernel: 5.4.105
Compiler: gcc 9.4
NIC: Marvell CN106XX 50000 Mbps
Target: arm64-native-linuxapp-gcc
Aggregate Results by Test Suite
+----------------+--------+
| Test Suite | Result |
+================+========+
| cmdline | PASS |
+----------------+--------+
| rxtx_callbacks | PASS |
+----------------+--------+
To view detailed results, visit:
https://lab.dpdk.org/results/dashboard/patchsets/34609/
UNH-IOL DPDK Community Lab
To manage your email subscriptions, visit:
https://lab.dpdk.org/results/dashboard/preferences/subscriptions/
^ permalink raw reply [flat|nested] 23+ messages in thread* |PENDING| pw158834 [PATCH] [v2] gro : improve GRO performance based
[not found] <20251116060634.262352-1-kumaraparamesh92@gmail.com>
` (8 preceding siblings ...)
2025-11-16 12:29 ` dpdklab
@ 2025-11-16 12:31 ` dpdklab
2025-11-16 12:33 ` dpdklab
` (12 subsequent siblings)
22 siblings, 0 replies; 23+ messages in thread
From: dpdklab @ 2025-11-16 12:31 UTC (permalink / raw)
To: Test Report; +Cc: dpdk-test-reports
Test-Label: iol-compile-arm64-testing
Test-Status: PENDING
http://dpdk.org/patch/158834
_Testing pending_
Submitter: Kumara Parameshwaran <kumaraparamesh92@gmail.com>
Date: Sunday, November 16 2025 06:06:34
DPDK git baseline: Repo:dpdk
Branch: master
CommitID:be0112878b4fc3a1b918370ed2fe615c52039d77
158834 --> testing pending
Upstream job id: Generic-DPDK-Compile-Meson#445078
Test environment and result as below:
+------------------------------+--------------------+
| Environment | dpdk_meson_compile |
+==============================+====================+
| Ubuntu 20.04 | PEND |
+------------------------------+--------------------+
| Red Hat Enterprise Linux 9.5 | PEND |
+------------------------------+--------------------+
| Fedora Linux 42 | PEND |
+------------------------------+--------------------+
| Debian GNU/Linux 12 | PEND |
+------------------------------+--------------------+
| CentOS Stream 9 | PEND |
+------------------------------+--------------------+
| CentOS Stream 10 | PEND |
+------------------------------+--------------------+
| Ubuntu 24.04 | PEND |
+------------------------------+--------------------+
| Ubuntu 22.04 | PEND |
+------------------------------+--------------------+
Ubuntu 20.04
Kernel: 5.15
Compiler: aarch64-linux-gnu-gcc gcc (Ubuntu 9.4.0-1ubuntu1~20.04.2) 9.4.0
Red Hat Enterprise Linux 9.5
Kernel: 5.4
Compiler: gcc gcc (GCC) 11.5.0 20240719 (Red Hat 11.5.0-2)
Fedora Linux 42
Kernel: 5.4
Compiler: gcc gcc (GCC) 15.2.1 20250808 (Red Hat 15.2.1-1)
Debian GNU/Linux 12
Kernel: 5.4
Compiler: gcc gcc (Debian 12.2.0-14+deb12u1) 12.2.0
CentOS Stream 9
Kernel: 5.4
Compiler: gcc gcc (GCC) 11.5.0 20240719 (Red Hat 11.5.0-11)
CentOS Stream 10
Kernel: 5.4
Compiler: gcc gcc (GCC) 14.2.1 20250110 (Red Hat 14.2.1-8)
Ubuntu 24.04
Kernel: 5.4
Compiler: gcc gcc (Ubuntu 13.3.0-6ubuntu2~24.04) 13.3.0
Ubuntu 22.04
Kernel: 5.4
Compiler: gcc gcc (Ubuntu 11.4.0-1ubuntu1~22.04) 11.4.0
To view detailed results, visit:
https://lab.dpdk.org/results/dashboard/patchsets/34609/
UNH-IOL DPDK Community Lab
To manage your email subscriptions, visit:
https://lab.dpdk.org/results/dashboard/preferences/subscriptions/
^ permalink raw reply [flat|nested] 23+ messages in thread* |PENDING| pw158834 [PATCH] [v2] gro : improve GRO performance based
[not found] <20251116060634.262352-1-kumaraparamesh92@gmail.com>
` (9 preceding siblings ...)
2025-11-16 12:31 ` |PENDING| " dpdklab
@ 2025-11-16 12:33 ` dpdklab
2025-11-16 12:38 ` dpdklab
` (11 subsequent siblings)
22 siblings, 0 replies; 23+ messages in thread
From: dpdklab @ 2025-11-16 12:33 UTC (permalink / raw)
To: Test Report; +Cc: dpdk-test-reports
Test-Label: iol-sample-apps-testing
Test-Status: PENDING
http://dpdk.org/patch/158834
_Testing pending_
Submitter: Kumara Parameshwaran <kumaraparamesh92@gmail.com>
Date: Sunday, November 16 2025 06:06:34
DPDK git baseline: Repo:dpdk
Branch: master
CommitID:be0112878b4fc3a1b918370ed2fe615c52039d77
158834 --> testing pending
Upstream job id: Template-DTS-Pipeline#255188
Test environment and result as below:
+--------------+----------------------+----------------------+
| Environment | dpdk_fips_validation | compressdev_zlib_pmd |
+==============+======================+======================+
| Ubuntu 20.04 | PEND | SKIPPED |
+--------------+----------------------+----------------------+
| Ubuntu 22.04 | SKIPPED | PASS |
+--------------+----------------------+----------------------+
Ubuntu 20.04
Kernel: 5.15
Compiler: gcc gcc (Ubuntu 9.4.0-1ubuntu1~20.04.2) 9.4.0
Ubuntu 22.04
Kernel: 5.15
Compiler: gcc gcc (Ubuntu 11.4.0-1ubuntu1~22.04.2) 11.4.0
To view detailed results, visit:
https://lab.dpdk.org/results/dashboard/patchsets/34609/
UNH-IOL DPDK Community Lab
To manage your email subscriptions, visit:
https://lab.dpdk.org/results/dashboard/preferences/subscriptions/
^ permalink raw reply [flat|nested] 23+ messages in thread* |PENDING| pw158834 [PATCH] [v2] gro : improve GRO performance based
[not found] <20251116060634.262352-1-kumaraparamesh92@gmail.com>
` (10 preceding siblings ...)
2025-11-16 12:33 ` dpdklab
@ 2025-11-16 12:38 ` dpdklab
2025-11-16 12:41 ` |SUCCESS| " dpdklab
` (10 subsequent siblings)
22 siblings, 0 replies; 23+ messages in thread
From: dpdklab @ 2025-11-16 12:38 UTC (permalink / raw)
To: Test Report; +Cc: dpdk-test-reports
Test-Label: iol-unit-arm64-testing
Test-Status: PENDING
http://dpdk.org/patch/158834
_Testing pending_
Submitter: Kumara Parameshwaran <kumaraparamesh92@gmail.com>
Date: Sunday, November 16 2025 06:06:34
DPDK git baseline: Repo:dpdk
Branch: master
CommitID:be0112878b4fc3a1b918370ed2fe615c52039d77
158834 --> testing pending
Upstream job id: Generic-Unit-Test-DPDK#393323
Test environment and result as below:
+------------------------------+--------------+---------------------------+------------------------------+----------------+
| Environment | lpm_autotest | cryptodev_sw_zuc_autotest | cryptodev_sw_snow3g_autotest | dpdk_unit_test |
+==============================+==============+===========================+==============================+================+
| Ubuntu 20.04 | PASS | SKIPPED | SKIPPED | PEND |
+------------------------------+--------------+---------------------------+------------------------------+----------------+
| Debian 12 (arm) | SKIPPED | PEND | PEND | SKIPPED |
+------------------------------+--------------+---------------------------+------------------------------+----------------+
| Debian GNU/Linux 12 | SKIPPED | SKIPPED | SKIPPED | PEND |
+------------------------------+--------------+---------------------------+------------------------------+----------------+
| Fedora Linux 40 | SKIPPED | SKIPPED | SKIPPED | PEND |
+------------------------------+--------------+---------------------------+------------------------------+----------------+
| CentOS Stream 9 | SKIPPED | SKIPPED | SKIPPED | PEND |
+------------------------------+--------------+---------------------------+------------------------------+----------------+
| Ubuntu 22.04 | SKIPPED | SKIPPED | SKIPPED | PEND |
+------------------------------+--------------+---------------------------+------------------------------+----------------+
| Fedora Linux 41 | SKIPPED | SKIPPED | SKIPPED | PEND |
+------------------------------+--------------+---------------------------+------------------------------+----------------+
| Ubuntu 24.04 | SKIPPED | SKIPPED | SKIPPED | PEND |
+------------------------------+--------------+---------------------------+------------------------------+----------------+
| Fedora Linux 42 | SKIPPED | SKIPPED | SKIPPED | PEND |
+------------------------------+--------------+---------------------------+------------------------------+----------------+
| CentOS Stream 10 | SKIPPED | SKIPPED | SKIPPED | PEND |
+------------------------------+--------------+---------------------------+------------------------------+----------------+
| Red Hat Enterprise Linux 9.5 | SKIPPED | SKIPPED | SKIPPED | PEND |
+------------------------------+--------------+---------------------------+------------------------------+----------------+
Ubuntu 20.04
Kernel: 5.4
Compiler: gcc gcc (Ubuntu 9.4.0-1ubuntu1~20.04.2) 9.4.0
Debian 12 (arm)
Kernel: Depends on container host
Compiler: gcc (Debian 12.2.0-14) 12.2.0
Debian GNU/Linux 12
Kernel: 5.4
Compiler: gcc gcc (Debian 12.2.0-14+deb12u1) 12.2.0
Fedora Linux 40
Kernel: 5.4
Compiler: gcc gcc (GCC) 14.2.1 20240912 (Red Hat 14.2.1-3)
CentOS Stream 9
Kernel: 5.4
Compiler: gcc gcc (GCC) 11.5.0 20240719 (Red Hat 11.5.0-11)
Ubuntu 22.04
Kernel: 5.4
Compiler: gcc gcc (Ubuntu 11.4.0-1ubuntu1~22.04) 11.4.0
Fedora Linux 41
Kernel: 5.4
Compiler: clang gcc (GCC) 14.3.1 20250523 (Red Hat 14.3.1-1)
Ubuntu 24.04
Kernel: 5.4
Compiler: gcc gcc (Ubuntu 13.3.0-6ubuntu2~24.04) 13.3.0
Fedora Linux 42
Kernel: 5.4
Compiler: clang gcc (GCC) 15.2.1 20250808 (Red Hat 15.2.1-1)
CentOS Stream 10
Kernel: 5.4
Compiler: gcc gcc (GCC) 14.2.1 20250110 (Red Hat 14.2.1-8)
Red Hat Enterprise Linux 9.5
Kernel: 5.4
Compiler: gcc gcc (GCC) 11.5.0 20240719 (Red Hat 11.5.0-2)
To view detailed results, visit:
https://lab.dpdk.org/results/dashboard/patchsets/34609/
UNH-IOL DPDK Community Lab
To manage your email subscriptions, visit:
https://lab.dpdk.org/results/dashboard/preferences/subscriptions/
^ permalink raw reply [flat|nested] 23+ messages in thread* |SUCCESS| pw158834 [PATCH] [v2] gro : improve GRO performance based
[not found] <20251116060634.262352-1-kumaraparamesh92@gmail.com>
` (11 preceding siblings ...)
2025-11-16 12:38 ` dpdklab
@ 2025-11-16 12:41 ` dpdklab
2025-11-16 12:45 ` dpdklab
` (9 subsequent siblings)
22 siblings, 0 replies; 23+ messages in thread
From: dpdklab @ 2025-11-16 12:41 UTC (permalink / raw)
To: Test Report; +Cc: dpdk-test-reports
Test-Label: iol-intel-Functional
Test-Status: SUCCESS
http://dpdk.org/patch/158834
_Functional Testing PASS_
Submitter: Kumara Parameshwaran <kumaraparamesh92@gmail.com>
Date: Sunday, November 16 2025 06:06:34
DPDK git baseline: Repo:dpdk
Branch: master
CommitID:be0112878b4fc3a1b918370ed2fe615c52039d77
158834 --> functional testing pass
Upstream job id: Template-DTS-Pipeline#255189
Test environment and result as below:
Ubuntu 24.04
Kernel: 6.8
Compiler: gcc gcc (Ubuntu 13.3.0-6ubuntu2~24.04) 13.3.0
NIC: Intel E810 (Arm Grace Server) 100000 Mbps
Aggregate Results by Test Suite
+------------+--------+
| Test Suite | Result |
+============+========+
| blocklist | PASS |
+------------+--------+
| uni_pkt | PASS |
+------------+--------+
Ubuntu 24.04 LTS
Kernel: 6.8.0-44-generic
Compiler: gcc 13.2.0
NIC: Intel Corporation Ethernet Controller XL710 for 40GbE QSFP+ 40 Mbps
Aggregate Results by Test Suite
+--------------------+--------+
| Test Suite | Result |
+====================+========+
| blocklist | PASS |
+--------------------+--------+
| uni_pkt | PASS |
+--------------------+--------+
| promisc_support | PASS |
+--------------------+--------+
| dynamic_queue_conf | PASS |
+--------------------+--------+
| hello_world | PASS |
+--------------------+--------+
| l2fwd | PASS |
+--------------------+--------+
| softnic | PASS |
+--------------------+--------+
Ubuntu 24.04
Kernel: 6.8
Compiler: gcc gcc (Ubuntu 13.3.0-6ubuntu2~24.04) 13.3.0
NIC: Intel Corporation 4xxx Series QAT 0 Mbps
Aggregate Results by Test Suite
+----------------------------+--------+
| Test Suite | Result |
+============================+========+
| crypto_perf_cryptodev_perf | PASS |
+----------------------------+--------+
To view detailed results, visit:
https://lab.dpdk.org/results/dashboard/patchsets/34609/
UNH-IOL DPDK Community Lab
To manage your email subscriptions, visit:
https://lab.dpdk.org/results/dashboard/preferences/subscriptions/
^ permalink raw reply [flat|nested] 23+ messages in thread* |SUCCESS| pw158834 [PATCH] [v2] gro : improve GRO performance based
[not found] <20251116060634.262352-1-kumaraparamesh92@gmail.com>
` (12 preceding siblings ...)
2025-11-16 12:41 ` |SUCCESS| " dpdklab
@ 2025-11-16 12:45 ` dpdklab
2025-11-16 12:46 ` dpdklab
` (8 subsequent siblings)
22 siblings, 0 replies; 23+ messages in thread
From: dpdklab @ 2025-11-16 12:45 UTC (permalink / raw)
To: Ali Alnubani, Test Report; +Cc: dpdk-test-reports
Test-Label: iol-mellanox-Performance
Test-Status: SUCCESS
http://dpdk.org/patch/158834
_Performance Testing PASS_
Submitter: Kumara Parameshwaran <kumaraparamesh92@gmail.com>
Date: Sunday, November 16 2025 06:06:34
DPDK git baseline: Repo:dpdk
Branch: master
CommitID:be0112878b4fc3a1b918370ed2fe615c52039d77
158834 --> performance testing pass
Upstream job id: Template-DTS-Pipeline#255177
Test environment and result as below:
Ubuntu 24.04
Kernel: 6.8
Compiler: gcc gcc (Ubuntu 13.3.0-6ubuntu2~24.04) 13.3.0
NIC: NVIDIA Mellanox ConnectX-7 100000 Mbps
Fail/Total: 0/6
Detail performance results:
+------------+---------+----------+-------------+------------------------------+
| frame_size | txd/rxd | num_cpus | num_threads | throughput difference from |
| | | | | expected |
+============+=========+==========+=============+==============================+
| 64 | 1024 | 1 | 1 | -0.5% |
+------------+---------+----------+-------------+------------------------------+
| 128 | 1024 | 1 | 1 | 0.0% |
+------------+---------+----------+-------------+------------------------------+
| 256 | 1024 | 1 | 1 | 1.4% |
+------------+---------+----------+-------------+------------------------------+
| 512 | 1024 | 1 | 1 | 0.1% |
+------------+---------+----------+-------------+------------------------------+
| 1024 | 1024 | 1 | 1 | 0.0% |
+------------+---------+----------+-------------+------------------------------+
| 1518 | 1024 | 1 | 1 | -0.2% |
+------------+---------+----------+-------------+------------------------------+
Ubuntu 24.04
Kernel: 6.8
Compiler: gcc gcc (Ubuntu 13.3.0-6ubuntu2~24.04) 13.3.0
NIC: Mellanox ConnectX-6 Lx 25000 Mbps
Fail/Total: 0/6
Detail performance results:
+------------+---------+----------+-------------+------------------------------+
| frame_size | txd/rxd | num_cpus | num_threads | throughput difference from |
| | | | | expected |
+============+=========+==========+=============+==============================+
| 64 | 1024 | 1 | 1 | 0.1% |
+------------+---------+----------+-------------+------------------------------+
| 128 | 1024 | 1 | 1 | -0.2% |
+------------+---------+----------+-------------+------------------------------+
| 256 | 1024 | 1 | 1 | -0.3% |
+------------+---------+----------+-------------+------------------------------+
| 512 | 1024 | 1 | 1 | 0.1% |
+------------+---------+----------+-------------+------------------------------+
| 1024 | 1024 | 1 | 1 | -0.0% |
+------------+---------+----------+-------------+------------------------------+
| 1518 | 1024 | 1 | 1 | 0.0% |
+------------+---------+----------+-------------+------------------------------+
To view detailed results, visit:
https://lab.dpdk.org/results/dashboard/patchsets/34609/
UNH-IOL DPDK Community Lab
To manage your email subscriptions, visit:
https://lab.dpdk.org/results/dashboard/preferences/subscriptions/
^ permalink raw reply [flat|nested] 23+ messages in thread* |SUCCESS| pw158834 [PATCH] [v2] gro : improve GRO performance based
[not found] <20251116060634.262352-1-kumaraparamesh92@gmail.com>
` (13 preceding siblings ...)
2025-11-16 12:45 ` dpdklab
@ 2025-11-16 12:46 ` dpdklab
2025-11-16 12:46 ` dpdklab
` (7 subsequent siblings)
22 siblings, 0 replies; 23+ messages in thread
From: dpdklab @ 2025-11-16 12:46 UTC (permalink / raw)
To: Test Report; +Cc: dpdk-test-reports
Test-Label: iol-intel-Performance
Test-Status: SUCCESS
http://dpdk.org/patch/158834
_Performance Testing PASS_
Submitter: Kumara Parameshwaran <kumaraparamesh92@gmail.com>
Date: Sunday, November 16 2025 06:06:34
DPDK git baseline: Repo:dpdk
Branch: master
CommitID:be0112878b4fc3a1b918370ed2fe615c52039d77
158834 --> performance testing pass
Upstream job id: Template-DTS-Pipeline#255179
Test environment and result as below:
Ubuntu 22.04
Kernel: 5.15
Compiler: gcc gcc (Ubuntu 11.4.0-1ubuntu1~22.04.2) 11.4.0
NIC: Intel E810 100000 Mbps
Fail/Total: 0/2
Detail performance results:
+------------+---------+----------+-------------+------------------------------+
| frame_size | txd/rxd | num_cpus | num_threads | throughput difference from |
| | | | | expected |
+============+=========+==========+=============+==============================+
| 64 | 512 | 1 | 1 | -0.6% |
+------------+---------+----------+-------------+------------------------------+
| 64 | 2048 | 1 | 1 | 2.5% |
+------------+---------+----------+-------------+------------------------------+
Ubuntu 20.04
Kernel: 5.4
Compiler: gcc gcc (Ubuntu 9.4.0-1ubuntu1~20.04.1) 9.4.0
NIC: Intel Corporation Ethernet Converged Network Adapter XL710-QDA2 40000 Mbps
Fail/Total: 0/4
Detail performance results:
+----------+-------------+---------+------------+------------------------------+
| num_cpus | num_threads | txd/rxd | frame_size | throughput difference from |
| | | | | expected |
+==========+=============+=========+============+==============================+
| 1 | 2 | 512 | 64 | -0.8% |
+----------+-------------+---------+------------+------------------------------+
| 1 | 2 | 2048 | 64 | -0.7% |
+----------+-------------+---------+------------+------------------------------+
| 1 | 1 | 512 | 64 | -2.5% |
+----------+-------------+---------+------------+------------------------------+
| 1 | 1 | 2048 | 64 | -0.5% |
+----------+-------------+---------+------------+------------------------------+
Ubuntu 24.04
Kernel: 6.8
Compiler: gcc gcc (Ubuntu 13.3.0-6ubuntu2~24.04) 13.3.0
NIC: Intel E810 (Arm Grace Server) 100000 Mbps
Fail/Total: 0/2
Detail performance results:
+------------+---------+----------+-------------+------------------------------+
| frame_size | txd/rxd | num_cpus | num_threads | throughput difference from |
| | | | | expected |
+============+=========+==========+=============+==============================+
| 64 | 512 | 1 | 1 | 0.2% |
+------------+---------+----------+-------------+------------------------------+
| 64 | 2048 | 1 | 1 | 1.7% |
+------------+---------+----------+-------------+------------------------------+
To view detailed results, visit:
https://lab.dpdk.org/results/dashboard/patchsets/34609/
UNH-IOL DPDK Community Lab
To manage your email subscriptions, visit:
https://lab.dpdk.org/results/dashboard/preferences/subscriptions/
^ permalink raw reply [flat|nested] 23+ messages in thread* |SUCCESS| pw158834 [PATCH] [v2] gro : improve GRO performance based
[not found] <20251116060634.262352-1-kumaraparamesh92@gmail.com>
` (14 preceding siblings ...)
2025-11-16 12:46 ` dpdklab
@ 2025-11-16 12:46 ` dpdklab
2025-11-16 13:05 ` dpdklab
` (6 subsequent siblings)
22 siblings, 0 replies; 23+ messages in thread
From: dpdklab @ 2025-11-16 12:46 UTC (permalink / raw)
To: Test Report; +Cc: dpdk-test-reports
Test-Label: iol-intel-Functional
Test-Status: SUCCESS
http://dpdk.org/patch/158834
_Functional Testing PASS_
Submitter: Kumara Parameshwaran <kumaraparamesh92@gmail.com>
Date: Sunday, November 16 2025 06:06:34
DPDK git baseline: Repo:dpdk
Branch: master
CommitID:be0112878b4fc3a1b918370ed2fe615c52039d77
158834 --> functional testing pass
Upstream job id: Template-DTS-Pipeline#255183
Test environment and result as below:
Ubuntu 24.04
Kernel: 6.8
Compiler: gcc gcc (Ubuntu 13.3.0-6ubuntu2~24.04) 13.3.0
NIC: Intel E810 (Arm Grace Server) 100000 Mbps
Aggregate Results by Test Suite
+------------+--------+
| Test Suite | Result |
+============+========+
| blocklist | PASS |
+------------+--------+
| uni_pkt | PASS |
+------------+--------+
Ubuntu 24.04 LTS
Kernel: 6.8.0-44-generic
Compiler: gcc 13.2.0
NIC: Intel Corporation Ethernet Controller XL710 for 40GbE QSFP+ 40 Mbps
Aggregate Results by Test Suite
+--------------------+--------+
| Test Suite | Result |
+====================+========+
| blocklist | PASS |
+--------------------+--------+
| uni_pkt | PASS |
+--------------------+--------+
| promisc_support | PASS |
+--------------------+--------+
| dynamic_queue_conf | PASS |
+--------------------+--------+
| hello_world | PASS |
+--------------------+--------+
| l2fwd | PASS |
+--------------------+--------+
| softnic | PASS |
+--------------------+--------+
Ubuntu 24.04
Kernel: 6.8
Compiler: gcc gcc (Ubuntu 13.3.0-6ubuntu2~24.04) 13.3.0
NIC: Intel Corporation 4xxx Series QAT 0 Mbps
Aggregate Results by Test Suite
+----------------------------+--------+
| Test Suite | Result |
+============================+========+
| crypto_perf_cryptodev_perf | PASS |
+----------------------------+--------+
Ubuntu 20.04
Kernel: 5.4
Compiler: gcc gcc (Ubuntu 9.4.0-1ubuntu1~20.04.1) 9.4.0
NIC: Intel Corporation Ethernet Converged Network Adapter XL710-QDA2 40000 Mbps
Aggregate Results by Test Suite
+-----------------------------+--------+
| Test Suite | Result |
+=============================+========+
| unit_tests_mbuf | PASS |
+-----------------------------+--------+
| vhost_virtio_user_interrupt | PASS |
+-----------------------------+--------+
| virtio_smoke | PASS |
+-----------------------------+--------+
To view detailed results, visit:
https://lab.dpdk.org/results/dashboard/patchsets/34609/
UNH-IOL DPDK Community Lab
To manage your email subscriptions, visit:
https://lab.dpdk.org/results/dashboard/preferences/subscriptions/
^ permalink raw reply [flat|nested] 23+ messages in thread* |SUCCESS| pw158834 [PATCH] [v2] gro : improve GRO performance based
[not found] <20251116060634.262352-1-kumaraparamesh92@gmail.com>
` (15 preceding siblings ...)
2025-11-16 12:46 ` dpdklab
@ 2025-11-16 13:05 ` dpdklab
2025-11-16 13:21 ` dpdklab
` (5 subsequent siblings)
22 siblings, 0 replies; 23+ messages in thread
From: dpdklab @ 2025-11-16 13:05 UTC (permalink / raw)
To: Test Report; +Cc: dpdk-test-reports
Test-Label: iol-sample-apps-testing
Test-Status: SUCCESS
http://dpdk.org/patch/158834
_Testing PASS_
Submitter: Kumara Parameshwaran <kumaraparamesh92@gmail.com>
Date: Sunday, November 16 2025 06:06:34
DPDK git baseline: Repo:dpdk
Branch: master
CommitID:be0112878b4fc3a1b918370ed2fe615c52039d77
158834 --> testing pass
Upstream job id: ACVP-FIPS-testing#11839
Test environment and result as below:
+--------------+----------------------+----------------------+
| Environment | dpdk_fips_validation | compressdev_zlib_pmd |
+==============+======================+======================+
| Ubuntu 20.04 | PASS | SKIPPED |
+--------------+----------------------+----------------------+
| Ubuntu 22.04 | SKIPPED | PASS |
+--------------+----------------------+----------------------+
Ubuntu 20.04
Kernel: 5.15
Compiler: gcc gcc (Ubuntu 9.4.0-1ubuntu1~20.04.2) 9.4.0
Ubuntu 22.04
Kernel: 5.15
Compiler: gcc gcc (Ubuntu 11.4.0-1ubuntu1~22.04.2) 11.4.0
To view detailed results, visit:
https://lab.dpdk.org/results/dashboard/patchsets/34609/
UNH-IOL DPDK Community Lab
To manage your email subscriptions, visit:
https://lab.dpdk.org/results/dashboard/preferences/subscriptions/
^ permalink raw reply [flat|nested] 23+ messages in thread* |SUCCESS| pw158834 [PATCH] [v2] gro : improve GRO performance based
[not found] <20251116060634.262352-1-kumaraparamesh92@gmail.com>
` (16 preceding siblings ...)
2025-11-16 13:05 ` dpdklab
@ 2025-11-16 13:21 ` dpdklab
2025-11-16 13:22 ` dpdklab
` (4 subsequent siblings)
22 siblings, 0 replies; 23+ messages in thread
From: dpdklab @ 2025-11-16 13:21 UTC (permalink / raw)
To: Test Report; +Cc: dpdk-test-reports
Test-Label: iol-unit-amd64-testing
Test-Status: SUCCESS
http://dpdk.org/patch/158834
_Testing PASS_
Submitter: Kumara Parameshwaran <kumaraparamesh92@gmail.com>
Date: Sunday, November 16 2025 06:06:34
DPDK git baseline: Repo:dpdk
Branch: master
CommitID:be0112878b4fc3a1b918370ed2fe615c52039d77
158834 --> testing pass
Upstream job id: Generic-Unit-Test-DPDK#393334
Test environment and result as below:
+-------------------------------+----------------+
| Environment | dpdk_unit_test |
+===============================+================+
| CentOS Stream 10 | PASS |
+-------------------------------+----------------+
| Fedora Linux 41 | PASS |
+-------------------------------+----------------+
| CentOS Stream 9 | PASS |
+-------------------------------+----------------+
| Fedora Linux 42 | PASS |
+-------------------------------+----------------+
| Red Hat Enterprise Linux 8.10 | PASS |
+-------------------------------+----------------+
| Ubuntu 22.04 | PASS |
+-------------------------------+----------------+
| Ubuntu 24.04 | PASS |
+-------------------------------+----------------+
| Ubuntu 20.04 | PASS |
+-------------------------------+----------------+
| Fedora Linux 40 | PASS |
+-------------------------------+----------------+
| Debian GNU/Linux 12 | PASS |
+-------------------------------+----------------+
| Red Hat Enterprise Linux 9.5 | PASS |
+-------------------------------+----------------+
| Windows Server 2022 | PASS |
+-------------------------------+----------------+
CentOS Stream 10
Kernel: 5.15
Compiler: gcc gcc (GCC) 14.2.1 20250110 (Red Hat 14.2.1-8)
Fedora Linux 41
Kernel: 5.15
Compiler: gcc gcc (GCC) 14.3.1 20250523 (Red Hat 14.3.1-1)
CentOS Stream 9
Kernel: 5.15
Compiler: gcc gcc (GCC) 11.5.0 20240719 (Red Hat 11.5.0-11)
Fedora Linux 42
Kernel: 5.15
Compiler: gcc gcc (GCC) 15.2.1 20250808 (Red Hat 15.2.1-1)
Red Hat Enterprise Linux 8.10
Kernel: 5.15
Compiler: gcc gcc (GCC) 8.5.0 20210514 (Red Hat 8.5.0-22)
Ubuntu 22.04
Kernel: 5.15
Compiler: gcc gcc (Ubuntu 11.4.0-1ubuntu1~22.04) 11.4.0
Ubuntu 24.04
Kernel: 5.15
Compiler: gcc gcc (Ubuntu 13.3.0-6ubuntu2~24.04) 13.3.0
Ubuntu 20.04
Kernel: 5.15
Compiler: gcc gcc (Ubuntu 9.4.0-1ubuntu1~20.04.2) 9.4.0
Fedora Linux 40
Kernel: 5.15
Compiler: gcc gcc (GCC) 14.2.1 20240912 (Red Hat 14.2.1-3)
Debian GNU/Linux 12
Kernel: 5.15
Compiler: gcc gcc (Debian 12.2.0-14+deb12u1) 12.2.0
Red Hat Enterprise Linux 9.5
Kernel: 5.15
Compiler: gcc gcc (GCC) 11.5.0 20240719 (Red Hat 11.5.0-2)
Windows Server 2022
Kernel: 10.0.20348.2031
Compiler: clang 15.0.7, gcc 14.1.0 (MinGW), and MSVC VS 19.39.33521
To view detailed results, visit:
https://lab.dpdk.org/results/dashboard/patchsets/34609/
UNH-IOL DPDK Community Lab
To manage your email subscriptions, visit:
https://lab.dpdk.org/results/dashboard/preferences/subscriptions/
^ permalink raw reply [flat|nested] 23+ messages in thread* |SUCCESS| pw158834 [PATCH] [v2] gro : improve GRO performance based
[not found] <20251116060634.262352-1-kumaraparamesh92@gmail.com>
` (17 preceding siblings ...)
2025-11-16 13:21 ` dpdklab
@ 2025-11-16 13:22 ` dpdklab
2025-11-16 13:50 ` dpdklab
` (3 subsequent siblings)
22 siblings, 0 replies; 23+ messages in thread
From: dpdklab @ 2025-11-16 13:22 UTC (permalink / raw)
To: Test Report; +Cc: dpdk-test-reports
Test-Label: iol-intel-Functional
Test-Status: SUCCESS
http://dpdk.org/patch/158834
_Functional Testing PASS_
Submitter: Kumara Parameshwaran <kumaraparamesh92@gmail.com>
Date: Sunday, November 16 2025 06:06:34
DPDK git baseline: Repo:dpdk
Branch: master
CommitID:be0112878b4fc3a1b918370ed2fe615c52039d77
158834 --> functional testing pass
Upstream job id: Template-DTS-Pipeline#255185
Test environment and result as below:
Ubuntu 24.04
Kernel: 6.8
Compiler: gcc gcc (Ubuntu 13.3.0-6ubuntu2~24.04) 13.3.0
NIC: Intel E810 (Arm Grace Server) 100000 Mbps
Aggregate Results by Test Suite
+------------+--------+
| Test Suite | Result |
+============+========+
| blocklist | PASS |
+------------+--------+
| uni_pkt | PASS |
+------------+--------+
Ubuntu 24.04 LTS
Kernel: 6.8.0-44-generic
Compiler: gcc 13.2.0
NIC: Intel Corporation Ethernet Controller XL710 for 40GbE QSFP+ 40 Mbps
Aggregate Results by Test Suite
+--------------------+--------+
| Test Suite | Result |
+====================+========+
| blocklist | PASS |
+--------------------+--------+
| uni_pkt | PASS |
+--------------------+--------+
| promisc_support | PASS |
+--------------------+--------+
| dynamic_queue_conf | PASS |
+--------------------+--------+
| hello_world | PASS |
+--------------------+--------+
| l2fwd | PASS |
+--------------------+--------+
| softnic | PASS |
+--------------------+--------+
Ubuntu 24.04
Kernel: 6.8
Compiler: gcc gcc (Ubuntu 13.3.0-6ubuntu2~24.04) 13.3.0
NIC: Intel Corporation 4xxx Series QAT 0 Mbps
Aggregate Results by Test Suite
+----------------------------+--------+
| Test Suite | Result |
+============================+========+
| crypto_perf_cryptodev_perf | PASS |
+----------------------------+--------+
Ubuntu 22.04
Kernel: 5.15
Compiler: gcc gcc (Ubuntu 11.4.0-1ubuntu1~22.04.2) 11.4.0
NIC: Intel Corporation QAT 8970 0 Mbps
Aggregate Results by Test Suite
+----------------------------+--------+
| Test Suite | Result |
+============================+========+
| crypto_perf_cryptodev_perf | PASS |
+----------------------------+--------+
Ubuntu 20.04
Kernel: 5.4
Compiler: gcc gcc (Ubuntu 9.4.0-1ubuntu1~20.04.1) 9.4.0
NIC: Intel Corporation Ethernet Converged Network Adapter XL710-QDA2 40000 Mbps
Aggregate Results by Test Suite
+-----------------------------+--------+
| Test Suite | Result |
+=============================+========+
| unit_tests_mbuf | PASS |
+-----------------------------+--------+
| vhost_virtio_user_interrupt | PASS |
+-----------------------------+--------+
| virtio_smoke | PASS |
+-----------------------------+--------+
To view detailed results, visit:
https://lab.dpdk.org/results/dashboard/patchsets/34609/
UNH-IOL DPDK Community Lab
To manage your email subscriptions, visit:
https://lab.dpdk.org/results/dashboard/preferences/subscriptions/
^ permalink raw reply [flat|nested] 23+ messages in thread* |SUCCESS| pw158834 [PATCH] [v2] gro : improve GRO performance based
[not found] <20251116060634.262352-1-kumaraparamesh92@gmail.com>
` (18 preceding siblings ...)
2025-11-16 13:22 ` dpdklab
@ 2025-11-16 13:50 ` dpdklab
2025-11-16 14:03 ` dpdklab
` (2 subsequent siblings)
22 siblings, 0 replies; 23+ messages in thread
From: dpdklab @ 2025-11-16 13:50 UTC (permalink / raw)
To: Test Report; +Cc: dpdk-test-reports
Test-Label: iol-broadcom-Performance
Test-Status: SUCCESS
http://dpdk.org/patch/158834
_Performance Testing PASS_
Submitter: Kumara Parameshwaran <kumaraparamesh92@gmail.com>
Date: Sunday, November 16 2025 06:06:34
DPDK git baseline: Repo:dpdk
Branch: master
CommitID:be0112878b4fc3a1b918370ed2fe615c52039d77
158834 --> performance testing pass
Upstream job id: Template-DTS-Pipeline#255181
Test environment and result as below:
Ubuntu 22.04
Kernel: 5.15
Compiler: gcc gcc (Ubuntu 11.4.0-1ubuntu1~22.04) 11.4.0
NIC: Broadcom Inc. and subsidiaries BCM57414 NetXtreme-E 10Gb/25Gb RDMA Ethernet Controller 16d7 25 Mbps
Fail/Total: 0/3
Detail performance results:
+------------+---------+----------+-------------+------------------------------+
| frame_size | txd/rxd | num_cpus | num_threads | throughput difference from |
| | | | | expected |
+============+=========+==========+=============+==============================+
| 64 | 128 | 1 | 1 | 0.2% |
+------------+---------+----------+-------------+------------------------------+
| 64 | 512 | 1 | 1 | -0.2% |
+------------+---------+----------+-------------+------------------------------+
| 64 | 2048 | 1 | 1 | -0.4% |
+------------+---------+----------+-------------+------------------------------+
Ubuntu 22.04
Kernel: 5.15
Compiler: gcc gcc (Ubuntu 11.4.0-1ubuntu1~22.04.2) 11.4.0
NIC: Arm Broadcom Inc. brcm_57414 25000 Mbps
Fail/Total: 0/2
Detail performance results:
+------------+---------+----------+-------------+------------------------------+
| frame_size | txd/rxd | num_cpus | num_threads | throughput difference from |
| | | | | expected |
+============+=========+==========+=============+==============================+
| 64 | 512 | 1 | 1 | -0.0% |
+------------+---------+----------+-------------+------------------------------+
| 64 | 2048 | 1 | 1 | 0.0% |
+------------+---------+----------+-------------+------------------------------+
To view detailed results, visit:
https://lab.dpdk.org/results/dashboard/patchsets/34609/
UNH-IOL DPDK Community Lab
To manage your email subscriptions, visit:
https://lab.dpdk.org/results/dashboard/preferences/subscriptions/
^ permalink raw reply [flat|nested] 23+ messages in thread* |SUCCESS| pw158834 [PATCH] [v2] gro : improve GRO performance based
[not found] <20251116060634.262352-1-kumaraparamesh92@gmail.com>
` (19 preceding siblings ...)
2025-11-16 13:50 ` dpdklab
@ 2025-11-16 14:03 ` dpdklab
2025-11-16 15:49 ` dpdklab
2025-11-16 17:18 ` dpdklab
22 siblings, 0 replies; 23+ messages in thread
From: dpdklab @ 2025-11-16 14:03 UTC (permalink / raw)
To: Test Report; +Cc: dpdk-test-reports
Test-Label: iol-compile-amd64-testing
Test-Status: SUCCESS
http://dpdk.org/patch/158834
_Testing PASS_
Submitter: Kumara Parameshwaran <kumaraparamesh92@gmail.com>
Date: Sunday, November 16 2025 06:06:34
DPDK git baseline: Repo:dpdk
Branch: master
CommitID:be0112878b4fc3a1b918370ed2fe615c52039d77
158834 --> testing pass
Upstream job id: Generic-DPDK-Compile-Meson#445082
Test environment and result as below:
+-------------------------------+--------------------+------------------+-------------------------+-------------------+----------------------+
| Environment | dpdk_meson_compile | dpdk_compile_ovs | dpdk_llvm_clang_compile | dpdk_msvc_compile | dpdk_mingw64_compile |
+===============================+====================+==================+=========================+===================+======================+
| Debian GNU/Linux 12 | PASS | SKIPPED | SKIPPED | SKIPPED | SKIPPED |
+-------------------------------+--------------------+------------------+-------------------------+-------------------+----------------------+
| CentOS Stream 10 | PASS | SKIPPED | SKIPPED | SKIPPED | SKIPPED |
+-------------------------------+--------------------+------------------+-------------------------+-------------------+----------------------+
| CentOS Stream 9 | PASS | SKIPPED | SKIPPED | SKIPPED | SKIPPED |
+-------------------------------+--------------------+------------------+-------------------------+-------------------+----------------------+
| Fedora Linux 42 | PASS | PASS | SKIPPED | SKIPPED | SKIPPED |
+-------------------------------+--------------------+------------------+-------------------------+-------------------+----------------------+
| Ubuntu 20.04 | PASS | SKIPPED | SKIPPED | SKIPPED | SKIPPED |
+-------------------------------+--------------------+------------------+-------------------------+-------------------+----------------------+
| openSUSE Leap 15.6 | PASS | SKIPPED | SKIPPED | SKIPPED | SKIPPED |
+-------------------------------+--------------------+------------------+-------------------------+-------------------+----------------------+
| Red Hat Enterprise Linux 9.5 | PASS | SKIPPED | SKIPPED | SKIPPED | SKIPPED |
+-------------------------------+--------------------+------------------+-------------------------+-------------------+----------------------+
| FreeBSD 14.2 | PASS | SKIPPED | SKIPPED | SKIPPED | SKIPPED |
+-------------------------------+--------------------+------------------+-------------------------+-------------------+----------------------+
| Ubuntu 24.04 | PASS | PASS | SKIPPED | SKIPPED | SKIPPED |
+-------------------------------+--------------------+------------------+-------------------------+-------------------+----------------------+
| Red Hat Enterprise Linux 8.10 | PASS | SKIPPED | SKIPPED | SKIPPED | SKIPPED |
+-------------------------------+--------------------+------------------+-------------------------+-------------------+----------------------+
| Ubuntu 22.04 | PASS | SKIPPED | SKIPPED | SKIPPED | SKIPPED |
+-------------------------------+--------------------+------------------+-------------------------+-------------------+----------------------+
| Alpine Linux 3.22.0 | PASS | SKIPPED | SKIPPED | SKIPPED | SKIPPED |
+-------------------------------+--------------------+------------------+-------------------------+-------------------+----------------------+
| Windows Server 2022 | SKIPPED | SKIPPED | PASS | PASS | PASS |
+-------------------------------+--------------------+------------------+-------------------------+-------------------+----------------------+
Debian GNU/Linux 12
Kernel: 5.15
Compiler: gcc gcc (Debian 12.2.0-14+deb12u1) 12.2.0
CentOS Stream 10
Kernel: 5.15
Compiler: gcc gcc (GCC) 14.2.1 20250110 (Red Hat 14.2.1-8)
CentOS Stream 9
Kernel: 5.15
Compiler: gcc gcc (GCC) 11.5.0 20240719 (Red Hat 11.5.0-11)
Fedora Linux 42
Kernel: 5.15
Compiler: clang gcc (GCC) 15.2.1 20250808 (Red Hat 15.2.1-1)
Ubuntu 20.04
Kernel: 5.15
Compiler: gcc gcc (Ubuntu 9.4.0-1ubuntu1~20.04.2) 9.4.0
openSUSE Leap 15.6
Kernel: 5.15
Compiler: gcc gcc (SUSE Linux) 7.5.0
Red Hat Enterprise Linux 9.5
Kernel: 5.15
Compiler: gcc gcc (GCC) 11.5.0 20240719 (Red Hat 11.5.0-2)
FreeBSD 14.2
Kernel: 14.2-RELEASE
Compiler: clang 18.1.6
Ubuntu 24.04
Kernel: 5.15
Compiler: gcc gcc (Ubuntu 13.3.0-6ubuntu2~24.04) 13.3.0
Red Hat Enterprise Linux 8.10
Kernel: 5.15
Compiler: gcc gcc (GCC) 8.5.0 20210514 (Red Hat 8.5.0-22)
Ubuntu 22.04
Kernel: 5.15
Compiler: gcc gcc (Ubuntu 11.4.0-1ubuntu1~22.04) 11.4.0
Alpine Linux 3.22.0
Kernel: 5.15
Compiler: gcc gcc (Alpine 14.2.0) 14.2.0
Windows Server 2022
Kernel: 10.0.20348.2031
Compiler: clang 15.0.7, gcc 14.1.0 (MinGW), and MSVC VS 19.39.33521
To view detailed results, visit:
https://lab.dpdk.org/results/dashboard/patchsets/34609/
UNH-IOL DPDK Community Lab
To manage your email subscriptions, visit:
https://lab.dpdk.org/results/dashboard/preferences/subscriptions/
^ permalink raw reply [flat|nested] 23+ messages in thread* |SUCCESS| pw158834 [PATCH] [v2] gro : improve GRO performance based
[not found] <20251116060634.262352-1-kumaraparamesh92@gmail.com>
` (20 preceding siblings ...)
2025-11-16 14:03 ` dpdklab
@ 2025-11-16 15:49 ` dpdklab
2025-11-16 17:18 ` dpdklab
22 siblings, 0 replies; 23+ messages in thread
From: dpdklab @ 2025-11-16 15:49 UTC (permalink / raw)
To: Test Report; +Cc: dpdk-test-reports
Test-Label: iol-compile-arm64-testing
Test-Status: SUCCESS
http://dpdk.org/patch/158834
_Testing PASS_
Submitter: Kumara Parameshwaran <kumaraparamesh92@gmail.com>
Date: Sunday, November 16 2025 06:06:34
DPDK git baseline: Repo:dpdk
Branch: master
CommitID:be0112878b4fc3a1b918370ed2fe615c52039d77
158834 --> testing pass
Upstream job id: Generic-DPDK-Compile-Meson#445070
Test environment and result as below:
+------------------------------+--------------------+
| Environment | dpdk_meson_compile |
+==============================+====================+
| Ubuntu 20.04 | PASS |
+------------------------------+--------------------+
| Red Hat Enterprise Linux 9.5 | PASS |
+------------------------------+--------------------+
| Fedora Linux 42 | PASS |
+------------------------------+--------------------+
| Debian GNU/Linux 12 | PASS |
+------------------------------+--------------------+
| CentOS Stream 9 | PASS |
+------------------------------+--------------------+
| CentOS Stream 10 | PASS |
+------------------------------+--------------------+
| Ubuntu 24.04 | PASS |
+------------------------------+--------------------+
| Ubuntu 22.04 | PASS |
+------------------------------+--------------------+
Ubuntu 20.04
Kernel: 5.15
Compiler: aarch64-linux-gnu-gcc gcc (Ubuntu 9.4.0-1ubuntu1~20.04.2) 9.4.0
Red Hat Enterprise Linux 9.5
Kernel: 5.4
Compiler: gcc gcc (GCC) 11.5.0 20240719 (Red Hat 11.5.0-2)
Fedora Linux 42
Kernel: 5.4
Compiler: gcc gcc (GCC) 15.2.1 20250808 (Red Hat 15.2.1-1)
Debian GNU/Linux 12
Kernel: 5.4
Compiler: gcc gcc (Debian 12.2.0-14+deb12u1) 12.2.0
CentOS Stream 9
Kernel: 5.4
Compiler: gcc gcc (GCC) 11.5.0 20240719 (Red Hat 11.5.0-11)
CentOS Stream 10
Kernel: 5.4
Compiler: gcc gcc (GCC) 14.2.1 20250110 (Red Hat 14.2.1-8)
Ubuntu 24.04
Kernel: 5.4
Compiler: gcc gcc (Ubuntu 13.3.0-6ubuntu2~24.04) 13.3.0
Ubuntu 22.04
Kernel: 5.4
Compiler: gcc gcc (Ubuntu 11.4.0-1ubuntu1~22.04) 11.4.0
To view detailed results, visit:
https://lab.dpdk.org/results/dashboard/patchsets/34609/
UNH-IOL DPDK Community Lab
To manage your email subscriptions, visit:
https://lab.dpdk.org/results/dashboard/preferences/subscriptions/
^ permalink raw reply [flat|nested] 23+ messages in thread* |SUCCESS| pw158834 [PATCH] [v2] gro : improve GRO performance based
[not found] <20251116060634.262352-1-kumaraparamesh92@gmail.com>
` (21 preceding siblings ...)
2025-11-16 15:49 ` dpdklab
@ 2025-11-16 17:18 ` dpdklab
22 siblings, 0 replies; 23+ messages in thread
From: dpdklab @ 2025-11-16 17:18 UTC (permalink / raw)
To: Test Report; +Cc: dpdk-test-reports
Test-Label: iol-unit-arm64-testing
Test-Status: SUCCESS
http://dpdk.org/patch/158834
_Testing PASS_
Submitter: Kumara Parameshwaran <kumaraparamesh92@gmail.com>
Date: Sunday, November 16 2025 06:06:34
DPDK git baseline: Repo:dpdk
Branch: master
CommitID:be0112878b4fc3a1b918370ed2fe615c52039d77
158834 --> testing pass
Upstream job id: Generic-Unit-Test-DPDK#393335
Test environment and result as below:
+------------------------------+--------------+---------------------------+------------------------------+----------------+
| Environment | lpm_autotest | cryptodev_sw_zuc_autotest | cryptodev_sw_snow3g_autotest | dpdk_unit_test |
+==============================+==============+===========================+==============================+================+
| Ubuntu 20.04 | PASS | SKIPPED | SKIPPED | PASS |
+------------------------------+--------------+---------------------------+------------------------------+----------------+
| Debian 12 (arm) | SKIPPED | PASS | PASS | SKIPPED |
+------------------------------+--------------+---------------------------+------------------------------+----------------+
| Debian GNU/Linux 12 | SKIPPED | SKIPPED | SKIPPED | PASS |
+------------------------------+--------------+---------------------------+------------------------------+----------------+
| Fedora Linux 40 | SKIPPED | SKIPPED | SKIPPED | PASS |
+------------------------------+--------------+---------------------------+------------------------------+----------------+
| CentOS Stream 9 | SKIPPED | SKIPPED | SKIPPED | PASS |
+------------------------------+--------------+---------------------------+------------------------------+----------------+
| Ubuntu 22.04 | SKIPPED | SKIPPED | SKIPPED | PASS |
+------------------------------+--------------+---------------------------+------------------------------+----------------+
| Fedora Linux 41 | SKIPPED | SKIPPED | SKIPPED | PASS |
+------------------------------+--------------+---------------------------+------------------------------+----------------+
| Ubuntu 24.04 | SKIPPED | SKIPPED | SKIPPED | PASS |
+------------------------------+--------------+---------------------------+------------------------------+----------------+
| Fedora Linux 42 | SKIPPED | SKIPPED | SKIPPED | PASS |
+------------------------------+--------------+---------------------------+------------------------------+----------------+
| CentOS Stream 10 | SKIPPED | SKIPPED | SKIPPED | PASS |
+------------------------------+--------------+---------------------------+------------------------------+----------------+
| Red Hat Enterprise Linux 9.5 | SKIPPED | SKIPPED | SKIPPED | PASS |
+------------------------------+--------------+---------------------------+------------------------------+----------------+
Ubuntu 20.04
Kernel: 5.4
Compiler: gcc gcc (Ubuntu 9.4.0-1ubuntu1~20.04.2) 9.4.0
Debian 12 (arm)
Kernel: Depends on container host
Compiler: gcc (Debian 12.2.0-14) 12.2.0
Debian GNU/Linux 12
Kernel: 5.4
Compiler: gcc gcc (Debian 12.2.0-14+deb12u1) 12.2.0
Fedora Linux 40
Kernel: 5.4
Compiler: gcc gcc (GCC) 14.2.1 20240912 (Red Hat 14.2.1-3)
CentOS Stream 9
Kernel: 5.4
Compiler: gcc gcc (GCC) 11.5.0 20240719 (Red Hat 11.5.0-11)
Ubuntu 22.04
Kernel: 5.4
Compiler: gcc gcc (Ubuntu 11.4.0-1ubuntu1~22.04) 11.4.0
Fedora Linux 41
Kernel: 5.4
Compiler: clang gcc (GCC) 14.3.1 20250523 (Red Hat 14.3.1-1)
Ubuntu 24.04
Kernel: 5.4
Compiler: gcc gcc (Ubuntu 13.3.0-6ubuntu2~24.04) 13.3.0
Fedora Linux 42
Kernel: 5.4
Compiler: clang gcc (GCC) 15.2.1 20250808 (Red Hat 15.2.1-1)
CentOS Stream 10
Kernel: 5.4
Compiler: gcc gcc (GCC) 14.2.1 20250110 (Red Hat 14.2.1-8)
Red Hat Enterprise Linux 9.5
Kernel: 5.4
Compiler: gcc gcc (GCC) 11.5.0 20240719 (Red Hat 11.5.0-2)
To view detailed results, visit:
https://lab.dpdk.org/results/dashboard/patchsets/34609/
UNH-IOL DPDK Community Lab
To manage your email subscriptions, visit:
https://lab.dpdk.org/results/dashboard/preferences/subscriptions/
^ permalink raw reply [flat|nested] 23+ messages in thread