From mboxrd@z Thu Jan 1 00:00:00 1970 Return-Path: Received: from mails.dpdk.org (mails.dpdk.org [217.70.189.124]) by inbox.dpdk.org (Postfix) with ESMTP id C2FD448B2A for ; Sun, 16 Nov 2025 14:08:42 +0100 (CET) Received: from mails.dpdk.org (localhost [127.0.0.1]) by mails.dpdk.org (Postfix) with ESMTP id B743140648; Sun, 16 Nov 2025 14:08:42 +0100 (CET) Received: from mail-pl1-f227.google.com (mail-pl1-f227.google.com [209.85.214.227]) by mails.dpdk.org (Postfix) with ESMTP id EE67540648 for ; Sun, 16 Nov 2025 14:08:40 +0100 (CET) Received: by mail-pl1-f227.google.com with SMTP id d9443c01a7336-297e264528aso33978245ad.2 for ; Sun, 16 Nov 2025 05:08:40 -0800 (PST) DKIM-Signature: v=1; a=rsa-sha256; c=relaxed/relaxed; d=iol.unh.edu; s=unh-iol; t=1763298520; x=1763903320; darn=dpdk.org; h=references:in-reply-to:cc:to:from:subject:message-id:date:from:to :cc:subject:date:message-id:reply-to; bh=fN6Z86x4KSdQRRFF7GemCef/GBuULI1EXxCjP9KCzCE=; b=RqtHw25QHBe4LVKBzhWFbyop5UAHPzxLgQxFYCa0pe+GzYlj95/z6UwrZWZVbftSwT j+KGCk7v8AZRM1JBxpje24lCWTPzn4iPUmDb1kOHd8FV5HsJuV7ZCZkuSWSkh1Xk/i0d eC29vLsBWAaiiiqv91HWHUQw8EHw/3wugBiEw= X-Google-DKIM-Signature: v=1; a=rsa-sha256; c=relaxed/relaxed; d=1e100.net; s=20230601; t=1763298520; x=1763903320; h=references:in-reply-to:cc:to:from:subject:message-id:date:x-gm-gg :x-gm-message-state:from:to:cc:subject:date:message-id:reply-to; bh=fN6Z86x4KSdQRRFF7GemCef/GBuULI1EXxCjP9KCzCE=; b=maTr7FYSdM44IkHFRlX3azifqua+QfNZNMoiSA4eAz3zABQzBLSdC15aXAK4MVl0x7 AVQGOMHU/AMAxeuzOV7mm18xYyipoVK6hYoP+mJFIf+ZbEejQO7uwqocwPAbxSGOIHbE JZX4a5pmJ8/NpRmOVMSWNbP/qdIBzObkY1/Gr21BMb8mtg2TrCkfCrW6aBLKSZPxreml 1+f7z7fRTYLbcns8JpPUoar/lagQWBOYW8w9wFJF9z99OsdNioOAnNjFHcZa7eGJ6I+2 JTRQZTUHkYWimLpk4Etxe4rJD8v7vuMO4+uGCmzXZoPZXCF/PhiW1ALj1uvF7ERqx7vT PspQ== X-Gm-Message-State: AOJu0Yzitv1W95elABCtigccP7d+F0Tx1nn8z+FW6i62FbWoW1oIf88q sAE5kA4+zrdFvSCY52cSIhD6k+nF8P4QeZufZxLmaR1foxNlMPu2Q0RkzjYJRyp3OLLnirI5dH2 Ex5FkY82UTvMxXF59eriJEMimqZW26e6Psd7pM9G2poB1J50IvICXtwfe9iXo X-Gm-Gg: ASbGncvCM373sbRGaKVqvwoBmxgellpSCUn53ZZmO6li6dQ4TE9VVTd0iIYIS6x0ylN TdXu7JTJ4ps4gzncx3vIfRu+4WI/E3uuE91O+cjazSrzmKcUOaLIM/Qs2nGPs5s+j/JSHJq0zbb MXtFQqYEXvfZqeXAKv2gM5MfZsvRui8XpympMuhI/cjqUfP4Udo2/XlCwtbiu7lPkbGdz+f00u8 ZxMdBqmAaOzL4ahZftmuyJjIPhc0954naGIaMh188ZkEYMraC20utWjAu/Kaasa/M0Dv26ow1s9 T4MVrzs6iqqlVibqYkPEKvX6BaRiDmgWlI6EtX6mnN4nLTnQkun6eIgrIo1t0OGuHhxgB+9vw3S E5mD2Nzt8 X-Google-Smtp-Source: AGHT+IHxJnSRVOEq6xsprfw/VT9OoqjINhCBykPQv0CcSABzxeT+wQZrOXfmsKWaCo5H+N1bJ71hXZ8OAo+E X-Received: by 2002:a17:903:240e:b0:272:c95c:866 with SMTP id d9443c01a7336-2986a6ca04fmr105874685ad.20.1763298520151; Sun, 16 Nov 2025 05:08:40 -0800 (PST) Received: from postal.iol.unh.edu (postal.iol.unh.edu. [2606:4100:3880:1234::84]) by smtp-relay.gmail.com with ESMTPS id d9443c01a7336-2985c241a5asm11436755ad.15.2025.11.16.05.08.40 (version=TLS1_2 cipher=ECDHE-ECDSA-AES128-GCM-SHA256 bits=128/128); Sun, 16 Nov 2025 05:08:40 -0800 (PST) X-Relaying-Domain: iol.unh.edu Date: Sun, 16 Nov 2025 05:08:40 -0800 (PST) Message-ID: <6919ccd8.170a0220.123ea8.8c82SMTPIN_ADDED_MISSING@mx.google.com> Received: from [172.21.0.16] (unknown [172.18.0.240]) by postal.iol.unh.edu (Postfix) with ESMTP id 4871F6051830; Sun, 16 Nov 2025 08:08:39 -0500 (EST) Subject: |SUCCESS| pw158833 [PATCH] [v2] net/ice: add MAC anti-spoof option From: dpdklab@iol.unh.edu To: Test Report Cc: dpdk-test-reports@iol.unh.edu, Bruce Richardson In-Reply-To: <20251116035749.45922-1-anurag.mandal@intel.com> References: <20251116035749.45922-1-anurag.mandal@intel.com> Content-Type: text/plain X-BeenThere: test-report@dpdk.org X-Mailman-Version: 2.1.29 Precedence: list List-Id: automatic DPDK test reports List-Unsubscribe: , List-Archive: List-Post: List-Help: List-Subscribe: , Errors-To: test-report-bounces@dpdk.org Test-Label: iol-compile-arm64-testing Test-Status: SUCCESS http://dpdk.org/patch/158833 _Testing PASS_ Submitter: Anurag Mandal Date: Sunday, November 16 2025 03:57:49 DPDK git baseline: Repo:dpdk-next-net-intel Branch: master CommitID:e5357d609907d504f4705e4899f3dad43cb4b70f 158833 --> testing pass Upstream job id: Generic-DPDK-Compile-Meson#445044 Test environment and result as below: +------------------------------+--------------------+ | Environment | dpdk_meson_compile | +==============================+====================+ | Red Hat Enterprise Linux 9.5 | PASS | +------------------------------+--------------------+ | Ubuntu 20.04 | PASS | +------------------------------+--------------------+ | Debian GNU/Linux 12 | PASS | +------------------------------+--------------------+ | Fedora Linux 42 | PASS | +------------------------------+--------------------+ | Ubuntu 22.04 | PASS | +------------------------------+--------------------+ | Ubuntu 24.04 | PASS | +------------------------------+--------------------+ | CentOS Stream 9 | PASS | +------------------------------+--------------------+ | CentOS Stream 10 | PASS | +------------------------------+--------------------+ Red Hat Enterprise Linux 9.5 Kernel: 5.4 Compiler: gcc gcc (GCC) 11.5.0 20240719 (Red Hat 11.5.0-2) Ubuntu 20.04 Kernel: 5.15 Compiler: aarch64-linux-gnu-gcc gcc (Ubuntu 9.4.0-1ubuntu1~20.04.2) 9.4.0 Debian GNU/Linux 12 Kernel: 5.4 Compiler: gcc gcc (Debian 12.2.0-14+deb12u1) 12.2.0 Fedora Linux 42 Kernel: 5.4 Compiler: gcc gcc (GCC) 15.2.1 20250808 (Red Hat 15.2.1-1) Ubuntu 22.04 Kernel: 5.4 Compiler: gcc gcc (Ubuntu 11.4.0-1ubuntu1~22.04) 11.4.0 Ubuntu 24.04 Kernel: 5.4 Compiler: gcc gcc (Ubuntu 13.3.0-6ubuntu2~24.04) 13.3.0 CentOS Stream 9 Kernel: 5.4 Compiler: gcc gcc (GCC) 11.5.0 20240719 (Red Hat 11.5.0-11) CentOS Stream 10 Kernel: 5.4 Compiler: gcc gcc (GCC) 14.2.1 20250110 (Red Hat 14.2.1-8) To view detailed results, visit: https://lab.dpdk.org/results/dashboard/patchsets/34608/ UNH-IOL DPDK Community Lab To manage your email subscriptions, visit: https://lab.dpdk.org/results/dashboard/preferences/subscriptions/