From mboxrd@z Thu Jan 1 00:00:00 1970 Return-Path: Received: from mails.dpdk.org (mails.dpdk.org [217.70.189.124]) by inbox.dpdk.org (Postfix) with ESMTP id AC44648B2A for ; Sun, 16 Nov 2025 14:35:22 +0100 (CET) Received: from mails.dpdk.org (localhost [127.0.0.1]) by mails.dpdk.org (Postfix) with ESMTP id 991B7402E3; Sun, 16 Nov 2025 14:35:22 +0100 (CET) Received: from mail-pf1-f227.google.com (mail-pf1-f227.google.com [209.85.210.227]) by mails.dpdk.org (Postfix) with ESMTP id 5A16A402E3 for ; Sun, 16 Nov 2025 14:35:21 +0100 (CET) Received: by mail-pf1-f227.google.com with SMTP id d2e1a72fcca58-7b6dd81e2d4so3154690b3a.0 for ; Sun, 16 Nov 2025 05:35:21 -0800 (PST) DKIM-Signature: v=1; a=rsa-sha256; c=relaxed/relaxed; d=iol.unh.edu; s=unh-iol; t=1763300120; x=1763904920; darn=dpdk.org; h=cc:to:from:subject:message-id:date:from:to:cc:subject:date :message-id:reply-to; bh=GpQxsyX5e+HEFptDNapFlOduAwM0DMhax8jdZevaYmU=; b=Ydwu4EMN7s8QAoFJuHnRROEKTCKGHbNe9m6LDEToHNJfZhG8DtgX71rnsDVpeJ9jJS ihqFbnAhkOas8aJbh2f0MXmJsIRkDjTQ3IE5dQ/M6VghcZyW8mFRVS1zc+AHJ3z3d5xo DHqrykIxwXjChj/ELtKlPfeBybeZ+Zd2Dr0yI= X-Google-DKIM-Signature: v=1; a=rsa-sha256; c=relaxed/relaxed; d=1e100.net; s=20230601; t=1763300120; x=1763904920; h=cc:to:from:subject:message-id:date:x-gm-gg:x-gm-message-state:from :to:cc:subject:date:message-id:reply-to; bh=GpQxsyX5e+HEFptDNapFlOduAwM0DMhax8jdZevaYmU=; b=oVRqlWCqjGGz4inW4zEGNqwORyyFzEFPoeSGCaDNFnXiV7AcJjrtOD8n+W8nS/eUrL hOKCv75njN7uwVbZ0CkMJLM02cG40O/+2ORl+2nQOBTETrbXigrCbTUmZSKfO0QSQD/J Tc7tGuU2An6cCiBaWSJe8E31TSO0RDTyypkTi5/P3cyVw3dtR48UcSnuW4X4cYEVBYIV hLZegnLmhcyI/8gS0/VtJqz6xJ9L3kUzM1bdFbm/7GWkuMpbSqw7sanUlqe3uWrcAECU PjtvjJ5cV2Xm7y//0sDKftPing0LMby9gyw9UG/bxmKbkLd6sMLnrISEwWYVP1SYM1iV KVHw== X-Gm-Message-State: AOJu0YzIkQGbvQY92LZPD2A3Z+xydXzqduQdOeVIL+GGiz8EFNRLqZOl 1ay3XWSi+zht+xmtxbFOLznSosoIEwHwaI2h5yh540Pv2BWBD2cKrWmXeDtqDAVkQ93ZYHWF1gk oJWb0n2ONbBx0RGK6eJ7s0gGbW4kyN9AU5IDB X-Gm-Gg: ASbGncsjNE2oO5DVSL4lNIFFh6Bc6HmDV61BHIoWWXPZ9iHZWj+IfCsLHPap7p4G3A7 Oq+ahAjvqYnm+fOXqmtD+JWrhF36iTXiyrxO/ZJXwyrxMYV5+C4PEOmS+N5f5Xp6RPKKk/gME0X PmDCDlTTL47D9FEJ02ZuJ7633N6Z1w8uJIN44eGODQKVqDOYjUV0eig9wmg5QYLpKkFnwR9nbx8 6GaQ7nF8iTIEp9R9gxNY29QVLjLcvRmPQgy+XdD1YHZOY+WzeYtg5N7uZ8TC+/4tNIddH42sV7q giT3kXwGUMiWlRMzssenaOFvzuqkWNIUDb5k8ubX0aKG29xBMTi847jyE+sh1vwFwBFML/fBeGB a4teD9OSstdW7NzboI8qwGr8fABZVKmE= X-Google-Smtp-Source: AGHT+IHtpSa6wk+Caj03v9+bSbPTzNBQT3+7+G0hNDCN7xHh0Ua3BMBArXLRnNU96N8vv9hNnlgMrH78z9Vu X-Received: by 2002:a05:6a20:431e:b0:341:4caf:bd53 with SMTP id adf61e73a8af0-35b9f7801eemr12352368637.3.1763300120594; Sun, 16 Nov 2025 05:35:20 -0800 (PST) Received: from postal.iol.unh.edu (postal.iol.unh.edu. [132.177.123.84]) by smtp-relay.gmail.com with ESMTPS id 41be03b00d2f7-bc366550b9bsm571157a12.0.2025.11.16.05.35.20 (version=TLS1_2 cipher=ECDHE-ECDSA-AES128-GCM-SHA256 bits=128/128); Sun, 16 Nov 2025 05:35:20 -0800 (PST) X-Relaying-Domain: iol.unh.edu Date: Sun, 16 Nov 2025 05:35:20 -0800 (PST) Message-ID: <6919d318.630a0220.165020.c385SMTPIN_ADDED_MISSING@mx.google.com> Received: from [172.21.0.4] (unknown [172.18.0.240]) by postal.iol.unh.edu (Postfix) with ESMTP id CED2E6051830; Sun, 16 Nov 2025 08:35:19 -0500 (EST) Subject: |SUCCESS| [GIT MASTER] 9784db2c5af1eecd02fc21132b59b5b266039b87 From: dpdklab@iol.unh.edu To: Test Report Cc: dpdk-test-reports@iol.unh.edu, Xueming Li , Christian Ehrhardt , Kevin Traynor , Luca Boccassi Content-Type: text/plain X-BeenThere: test-report@dpdk.org X-Mailman-Version: 2.1.29 Precedence: list List-Id: automatic DPDK test reports List-Unsubscribe: , List-Archive: List-Post: List-Help: List-Subscribe: , Errors-To: test-report-bounces@dpdk.org _Testing PASS_ Branch: tags/v22.11 9784db2c5af1eecd02fc21132b59b5b266039b87 --> testing pass Upstream job id: Generic-DPDK-Compile-Meson#444985 Test environment and result as below: +------------------------------+--------------------+ | Environment | dpdk_meson_compile | +==============================+====================+ | Fedora Linux 42 | PASS | +------------------------------+--------------------+ | Red Hat Enterprise Linux 9.5 | PASS | +------------------------------+--------------------+ | Ubuntu 20.04 | PASS | +------------------------------+--------------------+ | Debian GNU/Linux 12 | PASS | +------------------------------+--------------------+ | CentOS Stream 10 | PASS | +------------------------------+--------------------+ | Ubuntu 22.04 | PASS | +------------------------------+--------------------+ | CentOS Stream 9 | PASS | +------------------------------+--------------------+ | Ubuntu 24.04 | PASS | +------------------------------+--------------------+ Fedora Linux 42 Kernel: 5.4 Compiler: gcc gcc (GCC) 15.2.1 20250808 (Red Hat 15.2.1-1) Red Hat Enterprise Linux 9.5 Kernel: 5.4 Compiler: gcc gcc (GCC) 11.5.0 20240719 (Red Hat 11.5.0-2) Ubuntu 20.04 Kernel: 5.15 Compiler: aarch64-linux-gnu-gcc gcc (Ubuntu 9.4.0-1ubuntu1~20.04.2) 9.4.0 Debian GNU/Linux 12 Kernel: 5.4 Compiler: gcc gcc (Debian 12.2.0-14+deb12u1) 12.2.0 CentOS Stream 10 Kernel: 5.4 Compiler: gcc gcc (GCC) 14.2.1 20250110 (Red Hat 14.2.1-8) Ubuntu 22.04 Kernel: 5.4 Compiler: gcc gcc (Ubuntu 11.4.0-1ubuntu1~22.04) 11.4.0 CentOS Stream 9 Kernel: 5.4 Compiler: gcc gcc (GCC) 11.5.0 20240719 (Red Hat 11.5.0-11) Ubuntu 24.04 Kernel: 5.4 Compiler: gcc gcc (Ubuntu 13.3.0-6ubuntu2~24.04) 13.3.0 To view detailed results, visit: https://lab.dpdk.org/results/dashboard/tarballs/35614/ UNH-IOL DPDK Community Lab To manage your email subscriptions, visit: https://lab.dpdk.org/results/dashboard/preferences/subscriptions/