From mboxrd@z Thu Jan 1 00:00:00 1970 Return-Path: Received: from mails.dpdk.org (mails.dpdk.org [217.70.189.124]) by inbox.dpdk.org (Postfix) with ESMTP id 4FA3348B2A for ; Sun, 16 Nov 2025 14:50:42 +0100 (CET) Received: from mails.dpdk.org (localhost [127.0.0.1]) by mails.dpdk.org (Postfix) with ESMTP id 4A412402E3; Sun, 16 Nov 2025 14:50:42 +0100 (CET) Received: from mail-pl1-f227.google.com (mail-pl1-f227.google.com [209.85.214.227]) by mails.dpdk.org (Postfix) with ESMTP id 95DB3402E3 for ; Sun, 16 Nov 2025 14:50:40 +0100 (CET) Received: by mail-pl1-f227.google.com with SMTP id d9443c01a7336-29516a36affso37839175ad.3 for ; Sun, 16 Nov 2025 05:50:40 -0800 (PST) DKIM-Signature: v=1; a=rsa-sha256; c=relaxed/relaxed; d=iol.unh.edu; s=unh-iol; t=1763301040; x=1763905840; darn=dpdk.org; h=cc:to:from:subject:message-id:date:from:to:cc:subject:date :message-id:reply-to; bh=TnFP9JvQsXnXEq6iUlGfmcwqWQ2L+sS3tomdHTF4btM=; b=XRt65ItsgWWHc+hSHF4BX93fUYtYidypFH0jLCzpK9mShjXBOCIRXI5qltlDveIgHL bF1s1EhhUkgQxACPJKHpP4Hxp/o8I4VzvFkZwOwwJPijMMy2/IK6vVkA99NZB12NJYIe v+8l+bohWgktWgjDqB37mPu+lO25RIhQB1iqk= X-Google-DKIM-Signature: v=1; a=rsa-sha256; c=relaxed/relaxed; d=1e100.net; s=20230601; t=1763301040; x=1763905840; h=cc:to:from:subject:message-id:date:x-gm-gg:x-gm-message-state:from :to:cc:subject:date:message-id:reply-to; bh=TnFP9JvQsXnXEq6iUlGfmcwqWQ2L+sS3tomdHTF4btM=; b=PWSzvb4ttWDUiySBEWMRAjgDHRN5BNv6kqtGc1KSZ+20bFYdnEew8UuKfhsAFTlOPR by2wMkHvwupe8CjpXdT3TN8voiwXamTIaWI3fACBtkTqsEhh0O0G4NJmFR6oEifWxTqe c8NIpY3zXKugGRDgJ3fcr0KLYOLulRJUHiXqO+nLIsFZi0SeS0O5cryO1r63xk/Hl0XQ gKv8UITFc6aBesw9ul+6wFkcfxzTMdRVz2gH2+Y6pO6nni5C4a8M9aWQgmdkOgDE1Hzw 8yMljmk2uhFeR82rhasIyqlDkwTCRG1++ehG8XYdtd6atqFtOz+q1o5cZ2gnDh8tivhQ 9tMg== X-Gm-Message-State: AOJu0YyeLFq/zYb2G3ylt5MREggz3GtmOcFcfzS8ENchj2u4u/ea4Na4 sMs/y1WaBSArvVEaF+4xJGRyaDs6D4hzoEgeJsBtrzTcpwvDzwlDkbDtn/d/fYGQIQ2Rhq3JuQm QVD838/MGGL7bHSsxBbIdGqs/uHNmdvXfBfFz X-Gm-Gg: ASbGncuC8iahAf/3tSwnY+SpSGIh3AoPiWHsg8bCjYnnx4cEv7yPfiF6Ed8A+cAuukB PJrDe5FPt7E7vkkfnX/DTtyYLC0hGBj/FEJuNaHho07Y7VtknjW2YHOIyUqEPdQKVOg6xxtaYaC IdVBdZOizWz8grnTx2CuhYPWKFyDzBsf898LSJF4CV1fJVvFlbemjlJbhjFRpU4oN23shHCrY5y Hl/PfdNnK6yL72j8QirEQhGS+YoBU13apAdONRKyW49qA1q/GndvuVycD9vrhtqHJmmcMhsL9F2 94zA34xpokKrE6cpDAKg4REtWNP9BlVXzbi9LHkqsEkFXKVfp1c8GI6fzUAorZLOtPiDfSR+fJ2 fGWUP8mjTWbRwRqKtMVMjmLIfBZTPkaI= X-Google-Smtp-Source: AGHT+IHaq+LPTgx74omgc9F79pI3xUDIHQQm/0/gI9tUlETDb+1/wfvOH0uu1r6fwhbOQGAZo2cfC+BTmbqQ X-Received: by 2002:a17:902:e788:b0:295:9cb5:ae07 with SMTP id d9443c01a7336-2986a72bfa8mr97173625ad.38.1763301039857; Sun, 16 Nov 2025 05:50:39 -0800 (PST) Received: from postal.iol.unh.edu (postal.iol.unh.edu. [132.177.123.84]) by smtp-relay.gmail.com with ESMTPS id d9443c01a7336-2985c2422a6sm11746325ad.25.2025.11.16.05.50.39 (version=TLS1_2 cipher=ECDHE-ECDSA-AES128-GCM-SHA256 bits=128/128); Sun, 16 Nov 2025 05:50:39 -0800 (PST) X-Relaying-Domain: iol.unh.edu Date: Sun, 16 Nov 2025 05:50:39 -0800 (PST) Message-ID: <6919d6af.170a0220.2917a7.abbbSMTPIN_ADDED_MISSING@mx.google.com> Received: from [172.21.0.3] (unknown [172.18.0.240]) by postal.iol.unh.edu (Postfix) with ESMTP id 232746051830; Sun, 16 Nov 2025 08:50:39 -0500 (EST) Subject: |SUCCESS| [GIT MASTER] 0bd935abcb823f581ce53986986aa54eaf6f8140 From: dpdklab@iol.unh.edu To: Test Report Cc: dpdk-test-reports@iol.unh.edu, Xueming Li , Christian Ehrhardt , Kevin Traynor , Luca Boccassi Content-Type: text/plain X-BeenThere: test-report@dpdk.org X-Mailman-Version: 2.1.29 Precedence: list List-Id: automatic DPDK test reports List-Unsubscribe: , List-Archive: List-Post: List-Help: List-Subscribe: , Errors-To: test-report-bounces@dpdk.org _Testing PASS_ Branch: tags/v24.11 0bd935abcb823f581ce53986986aa54eaf6f8140 --> testing pass Upstream job id: Generic-DPDK-Compile-Meson#445034 Test environment and result as below: +------------------------------+--------------------+ | Environment | dpdk_meson_compile | +==============================+====================+ | Ubuntu 20.04 | PASS | +------------------------------+--------------------+ | Red Hat Enterprise Linux 9.5 | PASS | +------------------------------+--------------------+ | Debian GNU/Linux 12 | PASS | +------------------------------+--------------------+ | Fedora Linux 42 | PASS | +------------------------------+--------------------+ | CentOS Stream 10 | PASS | +------------------------------+--------------------+ | Ubuntu 22.04 | PASS | +------------------------------+--------------------+ | CentOS Stream 9 | PASS | +------------------------------+--------------------+ | Ubuntu 24.04 | PASS | +------------------------------+--------------------+ Ubuntu 20.04 Kernel: 5.15 Compiler: aarch64-linux-gnu-gcc gcc (Ubuntu 9.4.0-1ubuntu1~20.04.2) 9.4.0 Red Hat Enterprise Linux 9.5 Kernel: 5.4 Compiler: gcc gcc (GCC) 11.5.0 20240719 (Red Hat 11.5.0-2) Debian GNU/Linux 12 Kernel: 5.4 Compiler: gcc gcc (Debian 12.2.0-14+deb12u1) 12.2.0 Fedora Linux 42 Kernel: 5.4 Compiler: clang gcc (GCC) 15.2.1 20250808 (Red Hat 15.2.1-1) CentOS Stream 10 Kernel: 5.4 Compiler: gcc gcc (GCC) 14.2.1 20250110 (Red Hat 14.2.1-8) Ubuntu 22.04 Kernel: 5.4 Compiler: gcc gcc (Ubuntu 11.4.0-1ubuntu1~22.04) 11.4.0 CentOS Stream 9 Kernel: 5.4 Compiler: gcc gcc (GCC) 11.5.0 20240719 (Red Hat 11.5.0-11) Ubuntu 24.04 Kernel: 5.4 Compiler: gcc gcc (Ubuntu 13.3.0-6ubuntu2~24.04) 13.3.0 To view detailed results, visit: https://lab.dpdk.org/results/dashboard/tarballs/35616/ UNH-IOL DPDK Community Lab To manage your email subscriptions, visit: https://lab.dpdk.org/results/dashboard/preferences/subscriptions/