From mboxrd@z Thu Jan 1 00:00:00 1970 Return-Path: Received: from mails.dpdk.org (mails.dpdk.org [217.70.189.124]) by inbox.dpdk.org (Postfix) with ESMTP id 8606748B2A for ; Sun, 16 Nov 2025 15:03:02 +0100 (CET) Received: from mails.dpdk.org (localhost [127.0.0.1]) by mails.dpdk.org (Postfix) with ESMTP id 80596402E3; Sun, 16 Nov 2025 15:03:02 +0100 (CET) Received: from mail-vk1-f225.google.com (mail-vk1-f225.google.com [209.85.221.225]) by mails.dpdk.org (Postfix) with ESMTP id D78C1402E3 for ; Sun, 16 Nov 2025 15:03:00 +0100 (CET) Received: by mail-vk1-f225.google.com with SMTP id 71dfb90a1353d-55b104727c8so798168e0c.0 for ; Sun, 16 Nov 2025 06:03:00 -0800 (PST) DKIM-Signature: v=1; a=rsa-sha256; c=relaxed/relaxed; d=iol.unh.edu; s=unh-iol; t=1763301780; x=1763906580; darn=dpdk.org; h=references:in-reply-to:cc:to:from:subject:message-id:date:from:to :cc:subject:date:message-id:reply-to; bh=WaSCJCxdwR4BonEXqCOb/jLu1SkM2hOe414kAng5I2k=; b=hRYmVAUUtmcgKJAiSb3oA00tx/ixo/9FG1CJjcTnQxhvrrY35+VusKMrvkCTlVzRFf dlEVy6K4wJnOWyXKU89AaTm2hYByi6JUyZc+lN/khtIZHMq7WRpsYq34KYuVjRoB07LJ N8UMkUjLSUe7mxpaEX8jVrT1WxFB4gdf9hvfQ= X-Google-DKIM-Signature: v=1; a=rsa-sha256; c=relaxed/relaxed; d=1e100.net; s=20230601; t=1763301780; x=1763906580; h=references:in-reply-to:cc:to:from:subject:message-id:date:x-gm-gg :x-gm-message-state:from:to:cc:subject:date:message-id:reply-to; bh=WaSCJCxdwR4BonEXqCOb/jLu1SkM2hOe414kAng5I2k=; b=sIShTViXPsou1mSEjkIpCc9uFRx5ama1TBY2vzg+YAPWTUnc8ydWng6VTPb0dzw1/X uo/P2cMu51EKL88dKOTpBOSy3I8FSTvt/KsLQjp8AXz6rkiPBcnlcilJwCHMJpC+Sxjn R5wB1TVu+jSbWlhIxLo9WF7eoNkAbWV3NUWfGIAx0xxb2Xti8Vtn/MNEeLMN6XbI6d7a QkgUwIl1utliU3RSNc7VZ90+owU7iswffrR4ifie+b4YT6H9vn0wnAj+tTWhVN2yyZOk 3a9qUIIBLwmJSGEJIQcykuqIDZo2QFc60U52uCuYfioOjzVsIl6U3n7pWUYkNFwcdaBR ZzVA== X-Gm-Message-State: AOJu0YxWxqfAClnuyhjo7KvjozNOvwzFFWc+nuybv4YXPCOmJAOq8sgS W3gjpJwmgdURE9hkA8zfnDiCyyan/j2wfJsiFInyDYfDYfg6Ir4RI41jTDTKMTkL3DWUM+GeDqi lIcYPVwuCTiIatnUbfjfPCuH6I972c6g/WNnSPL7MB7gWcoRolANHi8Hyl0rT X-Gm-Gg: ASbGncuEAHEx+N1514cLAnkWiDmA6N335ovWtAke0p7nA/GAQq5YzxCEU2iJKvsJNi6 +RSnsgGtMXZMMMeLqphmXZZQdvo4CHGpgEkn3Bb4ycdiIh/R1/gpMk48sTjnUsNk8PYNyVzAkFh b22ec/BT5/CD36SFXZfuKbNnbQf/BhPthrJDRTIBzjc7R/GjmVuWg6cL3+TKswyHETHXIRIGGw3 q1rpDhSzY/ztRDnAGo2BCy/gaz/ItKwQg61kOgGU1GrqwraDPuCgnGKTISw+JG/AGE4QVdU9cPy o9GsaA+wrN4ThXR0keXfbhTOaE3uAM43kxHoURvWhiVpLZc8OvM7hZldkd2pHJObksk0zlZZV3Z 4HmDULjHN X-Google-Smtp-Source: AGHT+IFVOP0+fw6i971zXxd2z0EfxcZHdXEfSSvRuj0mxmaCQJiyuph2oBQEn8KelhrpQG0ba01JqKJEQxgi X-Received: by 2002:a05:6102:a54:b0:5db:2867:568d with SMTP id ada2fe7eead31-5dfc564a137mr2897190137.27.1763301780092; Sun, 16 Nov 2025 06:03:00 -0800 (PST) Received: from postal.iol.unh.edu (postal.iol.unh.edu. [2606:4100:3880:1234::84]) by smtp-relay.gmail.com with ESMTPS id 6a1803df08f44-882865bb054sm12784596d6.30.2025.11.16.06.03.00 (version=TLS1_2 cipher=ECDHE-ECDSA-AES128-GCM-SHA256 bits=128/128); Sun, 16 Nov 2025 06:03:00 -0800 (PST) X-Relaying-Domain: iol.unh.edu Date: Sun, 16 Nov 2025 06:03:00 -0800 (PST) Message-ID: <6919d994.050a0220.fc618.f363SMTPIN_ADDED_MISSING@mx.google.com> Received: from [172.21.0.5] (unknown [172.18.0.240]) by postal.iol.unh.edu (Postfix) with ESMTP id BDA176051830; Sun, 16 Nov 2025 09:02:59 -0500 (EST) Subject: |SUCCESS| pw158834 [PATCH] [v2] gro : improve GRO performance based From: dpdklab@iol.unh.edu To: Test Report Cc: dpdk-test-reports@iol.unh.edu In-Reply-To: <20251116060634.262352-1-kumaraparamesh92@gmail.com> References: <20251116060634.262352-1-kumaraparamesh92@gmail.com> Content-Type: text/plain X-BeenThere: test-report@dpdk.org X-Mailman-Version: 2.1.29 Precedence: list List-Id: automatic DPDK test reports List-Unsubscribe: , List-Archive: List-Post: List-Help: List-Subscribe: , Errors-To: test-report-bounces@dpdk.org Test-Label: iol-compile-amd64-testing Test-Status: SUCCESS http://dpdk.org/patch/158834 _Testing PASS_ Submitter: Kumara Parameshwaran Date: Sunday, November 16 2025 06:06:34 DPDK git baseline: Repo:dpdk Branch: master CommitID:be0112878b4fc3a1b918370ed2fe615c52039d77 158834 --> testing pass Upstream job id: Generic-DPDK-Compile-Meson#445082 Test environment and result as below: +-------------------------------+--------------------+------------------+-------------------------+-------------------+----------------------+ | Environment | dpdk_meson_compile | dpdk_compile_ovs | dpdk_llvm_clang_compile | dpdk_msvc_compile | dpdk_mingw64_compile | +===============================+====================+==================+=========================+===================+======================+ | Debian GNU/Linux 12 | PASS | SKIPPED | SKIPPED | SKIPPED | SKIPPED | +-------------------------------+--------------------+------------------+-------------------------+-------------------+----------------------+ | CentOS Stream 10 | PASS | SKIPPED | SKIPPED | SKIPPED | SKIPPED | +-------------------------------+--------------------+------------------+-------------------------+-------------------+----------------------+ | CentOS Stream 9 | PASS | SKIPPED | SKIPPED | SKIPPED | SKIPPED | +-------------------------------+--------------------+------------------+-------------------------+-------------------+----------------------+ | Fedora Linux 42 | PASS | PASS | SKIPPED | SKIPPED | SKIPPED | +-------------------------------+--------------------+------------------+-------------------------+-------------------+----------------------+ | Ubuntu 20.04 | PASS | SKIPPED | SKIPPED | SKIPPED | SKIPPED | +-------------------------------+--------------------+------------------+-------------------------+-------------------+----------------------+ | openSUSE Leap 15.6 | PASS | SKIPPED | SKIPPED | SKIPPED | SKIPPED | +-------------------------------+--------------------+------------------+-------------------------+-------------------+----------------------+ | Red Hat Enterprise Linux 9.5 | PASS | SKIPPED | SKIPPED | SKIPPED | SKIPPED | +-------------------------------+--------------------+------------------+-------------------------+-------------------+----------------------+ | FreeBSD 14.2 | PASS | SKIPPED | SKIPPED | SKIPPED | SKIPPED | +-------------------------------+--------------------+------------------+-------------------------+-------------------+----------------------+ | Ubuntu 24.04 | PASS | PASS | SKIPPED | SKIPPED | SKIPPED | +-------------------------------+--------------------+------------------+-------------------------+-------------------+----------------------+ | Red Hat Enterprise Linux 8.10 | PASS | SKIPPED | SKIPPED | SKIPPED | SKIPPED | +-------------------------------+--------------------+------------------+-------------------------+-------------------+----------------------+ | Ubuntu 22.04 | PASS | SKIPPED | SKIPPED | SKIPPED | SKIPPED | +-------------------------------+--------------------+------------------+-------------------------+-------------------+----------------------+ | Alpine Linux 3.22.0 | PASS | SKIPPED | SKIPPED | SKIPPED | SKIPPED | +-------------------------------+--------------------+------------------+-------------------------+-------------------+----------------------+ | Windows Server 2022 | SKIPPED | SKIPPED | PASS | PASS | PASS | +-------------------------------+--------------------+------------------+-------------------------+-------------------+----------------------+ Debian GNU/Linux 12 Kernel: 5.15 Compiler: gcc gcc (Debian 12.2.0-14+deb12u1) 12.2.0 CentOS Stream 10 Kernel: 5.15 Compiler: gcc gcc (GCC) 14.2.1 20250110 (Red Hat 14.2.1-8) CentOS Stream 9 Kernel: 5.15 Compiler: gcc gcc (GCC) 11.5.0 20240719 (Red Hat 11.5.0-11) Fedora Linux 42 Kernel: 5.15 Compiler: clang gcc (GCC) 15.2.1 20250808 (Red Hat 15.2.1-1) Ubuntu 20.04 Kernel: 5.15 Compiler: gcc gcc (Ubuntu 9.4.0-1ubuntu1~20.04.2) 9.4.0 openSUSE Leap 15.6 Kernel: 5.15 Compiler: gcc gcc (SUSE Linux) 7.5.0 Red Hat Enterprise Linux 9.5 Kernel: 5.15 Compiler: gcc gcc (GCC) 11.5.0 20240719 (Red Hat 11.5.0-2) FreeBSD 14.2 Kernel: 14.2-RELEASE Compiler: clang 18.1.6 Ubuntu 24.04 Kernel: 5.15 Compiler: gcc gcc (Ubuntu 13.3.0-6ubuntu2~24.04) 13.3.0 Red Hat Enterprise Linux 8.10 Kernel: 5.15 Compiler: gcc gcc (GCC) 8.5.0 20210514 (Red Hat 8.5.0-22) Ubuntu 22.04 Kernel: 5.15 Compiler: gcc gcc (Ubuntu 11.4.0-1ubuntu1~22.04) 11.4.0 Alpine Linux 3.22.0 Kernel: 5.15 Compiler: gcc gcc (Alpine 14.2.0) 14.2.0 Windows Server 2022 Kernel: 10.0.20348.2031 Compiler: clang 15.0.7, gcc 14.1.0 (MinGW), and MSVC VS 19.39.33521 To view detailed results, visit: https://lab.dpdk.org/results/dashboard/patchsets/34609/ UNH-IOL DPDK Community Lab To manage your email subscriptions, visit: https://lab.dpdk.org/results/dashboard/preferences/subscriptions/