From mboxrd@z Thu Jan 1 00:00:00 1970 Return-Path: Received: from mails.dpdk.org (mails.dpdk.org [217.70.189.124]) by inbox.dpdk.org (Postfix) with ESMTP id 6D7DD48B2A for ; Sun, 16 Nov 2025 15:23:48 +0100 (CET) Received: from mails.dpdk.org (localhost [127.0.0.1]) by mails.dpdk.org (Postfix) with ESMTP id 672E9402E3; Sun, 16 Nov 2025 15:23:48 +0100 (CET) Received: from mail-io1-f98.google.com (mail-io1-f98.google.com [209.85.166.98]) by mails.dpdk.org (Postfix) with ESMTP id D0EE1402E3 for ; Sun, 16 Nov 2025 15:23:46 +0100 (CET) Received: by mail-io1-f98.google.com with SMTP id ca18e2360f4ac-948a7964a41so101043639f.2 for ; Sun, 16 Nov 2025 06:23:46 -0800 (PST) DKIM-Signature: v=1; a=rsa-sha256; c=relaxed/relaxed; d=iol.unh.edu; s=unh-iol; t=1763303026; x=1763907826; darn=dpdk.org; h=references:in-reply-to:cc:to:from:subject:message-id:date:from:to :cc:subject:date:message-id:reply-to; bh=6oNucqtKxw8AaAgN62LxWDLUVf6BLCo96dvqlstdc1s=; b=LtVFI9L5qwNoeZkQ3LrpnCIfI+Zta/LWvtBHuleDvtibG5Yos9HJTsDGjdDV4vleFg MqIu/htfcyPOHQm4e+bhdvUCi/ZoCSKeoOQFbFanSMjmqp/6StMLjKrWMcVqeBdlax96 8vUQiYNBnRFhkGO18YTsLSFJC+3D6Ud0NCLsQ= X-Google-DKIM-Signature: v=1; a=rsa-sha256; c=relaxed/relaxed; d=1e100.net; s=20230601; t=1763303026; x=1763907826; h=references:in-reply-to:cc:to:from:subject:message-id:date:x-gm-gg :x-gm-message-state:from:to:cc:subject:date:message-id:reply-to; bh=6oNucqtKxw8AaAgN62LxWDLUVf6BLCo96dvqlstdc1s=; b=gGtrZ6xN8Mg2AaKORY96wAu3KJ8JDTPwr/j0WfSdVHAPOrIfUB8u0ko8Kgf+NTgdXS qeQh3Xj7gtFy/M2IVEfkHkRfPKMLCPbhxkmlrAyRvIJ+kr4wQ1H2keNBgzdSdPWPWU7N WpNUGbQvpp/ilkpQCADZzDiA/HWdK21r3VBSjP1k3IIOE27xLnpNv6OH4HiQBERaLlVO zY1d40t3EywmTTUQtCbrOoHbLK4KBRnf0AKQilmJqwISpLgh/bmw4MlbP6AicGRjn6Py KNwCCPoXVig5igEGq3D/qKBJQ5pzU/aX6ztS+qb3O2MC0GLeVmPPU/iERD2pjAl+JhLg ejCQ== X-Gm-Message-State: AOJu0YyKeQLsiNADfMdNF9Q//2EsKTusqmGYX2UK+XkuR+dCxUan0t1X EK+5ILOx6Nau8p6wRerMjkQqzMF18l/oRnc6uNvNspvItmH4kREdrfe5mLHCZLd03SN12O9UCwm lA1UVfAhz4IBlnMFh4SUoKn3k/ceQmpoWRyyk86mFCI7BxtpJEoRxe9GWbYAf X-Gm-Gg: ASbGncs7/s4gSLeGVxu8APrKV+nV8cDmjxy87DnkHq5RGsDC/9pZSOuGsndfiDPoIal PNfuITVBkXFVxpKUCs/tXxlPZK9Gojidmx2SyybackJMDLyKTb2YtDJ/9Ljti5UH0aWuUvcTKc3 orV5uyu1GKGCEQXVwtV2/Le9pQjg4Jn6WbE8vVYydo5SCQPmnBkIE2UNZ318Tqnx8QKoarkqFuc 0WCJ01JjxhaC/FtyNoslMkw56F3r2SWFFoEIysFzgejdfCe9/YWu1qTFVQJ0D4ErUCcGLDfTVqt j3hsfTfAsoXKBo1DcGVSpVxyvOjygsth5mHc1io7c2qClFlReV40UXj4xU/IF3QieAQjHPFpEqp Je+Eijbu3 X-Google-Smtp-Source: AGHT+IG1S9nhk48sYiRbVf+9hXyBRwUlja9Gy49e7QHzXYyoMsHAj+J9IqQWC/TXhWdiUothYd3rpQsDD195 X-Received: by 2002:a05:6602:3fcd:b0:948:89f2:ea34 with SMTP id ca18e2360f4ac-948e0cff685mr1260089839f.5.1763303026113; Sun, 16 Nov 2025 06:23:46 -0800 (PST) Received: from postal.iol.unh.edu (postal.iol.unh.edu. [2606:4100:3880:1234::84]) by smtp-relay.gmail.com with ESMTPS id 8926c6da1cb9f-5b7bd246b79sm645937173.5.2025.11.16.06.23.46 (version=TLS1_2 cipher=ECDHE-ECDSA-AES128-GCM-SHA256 bits=128/128); Sun, 16 Nov 2025 06:23:46 -0800 (PST) X-Relaying-Domain: iol.unh.edu Date: Sun, 16 Nov 2025 06:23:46 -0800 (PST) Message-ID: <6919de72.050a0220.f737f.0d1dSMTPIN_ADDED_MISSING@mx.google.com> Received: from [172.21.0.4] (unknown [172.18.0.240]) by postal.iol.unh.edu (Postfix) with ESMTP id AC63A6051830; Sun, 16 Nov 2025 09:23:45 -0500 (EST) Subject: |SUCCESS| pw158835 [PATCH] net/mlx5/hws: fix cap check for hash calc From: dpdklab@iol.unh.edu To: Test Report Cc: dpdk-test-reports@iol.unh.edu In-Reply-To: <20251116115925.158944-1-mkashani@nvidia.com> References: <20251116115925.158944-1-mkashani@nvidia.com> Content-Type: text/plain X-BeenThere: test-report@dpdk.org X-Mailman-Version: 2.1.29 Precedence: list List-Id: automatic DPDK test reports List-Unsubscribe: , List-Archive: List-Post: List-Help: List-Subscribe: , Errors-To: test-report-bounces@dpdk.org Test-Label: iol-unit-amd64-testing Test-Status: SUCCESS http://dpdk.org/patch/158835 _Testing PASS_ Submitter: Maayan Kashani Date: Sunday, November 16 2025 11:59:25 DPDK git baseline: Repo:dpdk-next-net-mlx Branch: master CommitID:ae657d56b1f0ea979b3f611edf28d773efc2ddcf 158835 --> testing pass Upstream job id: Generic-Unit-Test-DPDK#393408 Test environment and result as below: +-------------------------------+----------------+ | Environment | dpdk_unit_test | +===============================+================+ | CentOS Stream 9 | PASS | +-------------------------------+----------------+ | CentOS Stream 10 | PASS | +-------------------------------+----------------+ | Fedora Linux 40 | PASS | +-------------------------------+----------------+ | Debian GNU/Linux 12 | PASS | +-------------------------------+----------------+ | Ubuntu 20.04 | PASS | +-------------------------------+----------------+ | Red Hat Enterprise Linux 8.10 | PASS | +-------------------------------+----------------+ | Fedora Linux 42 | PASS | +-------------------------------+----------------+ | Ubuntu 22.04 | PASS | +-------------------------------+----------------+ | Fedora Linux 41 | PASS | +-------------------------------+----------------+ | Red Hat Enterprise Linux 9.5 | PASS | +-------------------------------+----------------+ | Ubuntu 24.04 | PASS | +-------------------------------+----------------+ | Windows Server 2022 | PASS | +-------------------------------+----------------+ CentOS Stream 9 Kernel: 5.15 Compiler: gcc gcc (GCC) 11.5.0 20240719 (Red Hat 11.5.0-11) CentOS Stream 10 Kernel: 5.15 Compiler: gcc gcc (GCC) 14.2.1 20250110 (Red Hat 14.2.1-8) Fedora Linux 40 Kernel: 5.15 Compiler: gcc gcc (GCC) 14.2.1 20240912 (Red Hat 14.2.1-3) Debian GNU/Linux 12 Kernel: 5.15 Compiler: gcc gcc (Debian 12.2.0-14+deb12u1) 12.2.0 Ubuntu 20.04 Kernel: 5.15 Compiler: gcc gcc (Ubuntu 9.4.0-1ubuntu1~20.04.2) 9.4.0 Red Hat Enterprise Linux 8.10 Kernel: 5.15 Compiler: gcc gcc (GCC) 8.5.0 20210514 (Red Hat 8.5.0-22) Fedora Linux 42 Kernel: 5.15 Compiler: gcc gcc (GCC) 15.2.1 20250808 (Red Hat 15.2.1-1) Ubuntu 22.04 Kernel: 5.15 Compiler: gcc gcc (Ubuntu 11.4.0-1ubuntu1~22.04) 11.4.0 Fedora Linux 41 Kernel: 5.15 Compiler: clang gcc (GCC) 14.3.1 20250523 (Red Hat 14.3.1-1) Red Hat Enterprise Linux 9.5 Kernel: 5.15 Compiler: gcc gcc (GCC) 11.5.0 20240719 (Red Hat 11.5.0-2) Ubuntu 24.04 Kernel: 5.15 Compiler: gcc gcc (Ubuntu 13.3.0-6ubuntu2~24.04) 13.3.0 Windows Server 2022 Kernel: 10.0.20348.2031 Compiler: clang 15.0.7, gcc 14.1.0 (MinGW), and MSVC VS 19.39.33521 To view detailed results, visit: https://lab.dpdk.org/results/dashboard/patchsets/34611/ UNH-IOL DPDK Community Lab To manage your email subscriptions, visit: https://lab.dpdk.org/results/dashboard/preferences/subscriptions/