From mboxrd@z Thu Jan 1 00:00:00 1970 Return-Path: Received: from mails.dpdk.org (mails.dpdk.org [217.70.189.124]) by inbox.dpdk.org (Postfix) with ESMTP id 1F20E48B2A for ; Sun, 16 Nov 2025 15:30:30 +0100 (CET) Received: from mails.dpdk.org (localhost [127.0.0.1]) by mails.dpdk.org (Postfix) with ESMTP id 1860E402E3; Sun, 16 Nov 2025 15:30:30 +0100 (CET) Received: from mail-pl1-f225.google.com (mail-pl1-f225.google.com [209.85.214.225]) by mails.dpdk.org (Postfix) with ESMTP id E7259402E3 for ; Sun, 16 Nov 2025 15:30:27 +0100 (CET) Received: by mail-pl1-f225.google.com with SMTP id d9443c01a7336-2984dfae043so31210015ad.0 for ; Sun, 16 Nov 2025 06:30:27 -0800 (PST) DKIM-Signature: v=1; a=rsa-sha256; c=relaxed/relaxed; d=iol.unh.edu; s=unh-iol; t=1763303427; x=1763908227; darn=dpdk.org; h=references:in-reply-to:cc:to:from:subject:message-id:date:from:to :cc:subject:date:message-id:reply-to; bh=obKoPAR6QYcD16F46o89rasZ5EdFGlD8WL3G1BzhqmI=; b=ZevaV3r82s7YpNyhTBzdtwNFBicAxQ90rnh6q+35W4ydzGTXl26UTYgMt/O7r1GQyO GanbJl4rEdz4L/xcsSEIKNDzi44NgxQjPPcGUVtvjW2ZhBFffaO8oWqV67vZyqrxRV00 nlAxyKuUV1LBoV42te9ym2s3+jMUrCcmE4/1I= X-Google-DKIM-Signature: v=1; a=rsa-sha256; c=relaxed/relaxed; d=1e100.net; s=20230601; t=1763303427; x=1763908227; h=references:in-reply-to:cc:to:from:subject:message-id:date:x-gm-gg :x-gm-message-state:from:to:cc:subject:date:message-id:reply-to; bh=obKoPAR6QYcD16F46o89rasZ5EdFGlD8WL3G1BzhqmI=; b=FWlgFFQlBB27UTN7U44Ea0ZCVWSD0ItILHtEAJ78/Jd4VIpghR/EK9bDc7URdQd7A0 6R7U3OeGUB0pOgc0Qh9G4ixup0S0N3wgPpJBCO82ydxvNrQl2WiOHMKi9hsg74T5WGVx UbVGxAeO69urs3CNNBljGqbB6y4vWpRY2999ax9GTCd1t4ezz4dOM/cna5NxxkuvCXFu 1uRmlzKI26ASqu5/ZtYaepl5rfWEbauc/AlFvdWngOy3G8NGTUEND+QWr+CnjIdVPMl7 DRzx8dzNueHk1D21Dru4uj1g+FgcjZ3PTOSmVJFVXPvUHzBkwgnUoIrT3pjg8878F/hn NI4Q== X-Gm-Message-State: AOJu0YyrVcxwjLjYlyvzlwzxk11E//PetpAKVg8rbh7khEul9JnFUGja 9Ypru7MulBsmNsbbDM83qZYI6iK1MK/KPSZJrXrU1g+MdbfgAdvUHHwAqbdUFpwJvpfTddi9HZW 3Ax8GZfQbMdsA0TYc1GGI15OZazYNZg3tgc238rwAZEt4DHsxO0Kz4w/DqRcu X-Gm-Gg: ASbGnctdXDm864ev8buwHPR2VL1Y88nDPzT4ffGKHqUvVDuRKQR8bU+PkkJEb3udB8h B2rEIVMQwdVv3a+uxZkyUUGqhXFd0S+s/LUG2hqnuYsYBJBxlQMH6/+YkLefkvUl7+m2kkrSzj1 niopTTgtOT4U4SVBauJWvL2yDcB+y0/tqMymbLBivB6SGafQacA1Q4GUUSPejSuugQp0Yv1bbMG WKcJvQxwc8+cPtPwNGLN5/LbOuVIgOVdJ1PzWud63aA/RqKYYmwdScQAenAoF7gQMT8U4W7pAaR SxioT68/f9fhzJ2f9y49yraqGnTf5Zhh+51+YTYki3NCcGlVhk7pqEHhx+bAEVNeHj9qRE5P15c y5L2EGw4/ X-Google-Smtp-Source: AGHT+IErp0TaZd0Cnc6bdHspaue8ohZHQkTAclslpWfGWfHTtnhM1Ywlanm+vqThXdRDYJUd0jqDRiZvjmrC X-Received: by 2002:a17:903:2f88:b0:298:60d5:d272 with SMTP id d9443c01a7336-2986a6d0e55mr91352985ad.17.1763303427112; Sun, 16 Nov 2025 06:30:27 -0800 (PST) Received: from postal.iol.unh.edu (postal.iol.unh.edu. [2606:4100:3880:1234::84]) by smtp-relay.gmail.com with ESMTPS id d9443c01a7336-2985c234814sm11736825ad.8.2025.11.16.06.30.26 (version=TLS1_2 cipher=ECDHE-ECDSA-AES128-GCM-SHA256 bits=128/128); Sun, 16 Nov 2025 06:30:27 -0800 (PST) X-Relaying-Domain: iol.unh.edu Date: Sun, 16 Nov 2025 06:30:27 -0800 (PST) Message-ID: <6919e003.170a0220.c5523.abf8SMTPIN_ADDED_MISSING@mx.google.com> Received: from [172.21.0.3] (unknown [172.18.0.240]) by postal.iol.unh.edu (Postfix) with ESMTP id 466E86051830; Sun, 16 Nov 2025 09:30:26 -0500 (EST) Subject: |SUCCESS| pw158836 [PATCH] net/mlx5: fix null dereference in modify From: dpdklab@iol.unh.edu To: Test Report Cc: dpdk-test-reports@iol.unh.edu In-Reply-To: <20251116121026.180707-1-shperetz@nvidia.com> References: <20251116121026.180707-1-shperetz@nvidia.com> Content-Type: text/plain X-BeenThere: test-report@dpdk.org X-Mailman-Version: 2.1.29 Precedence: list List-Id: automatic DPDK test reports List-Unsubscribe: , List-Archive: List-Post: List-Help: List-Subscribe: , Errors-To: test-report-bounces@dpdk.org Test-Label: iol-compile-amd64-testing Test-Status: SUCCESS http://dpdk.org/patch/158836 _Testing PASS_ Submitter: Shani Peretz Date: Sunday, November 16 2025 12:10:26 DPDK git baseline: Repo:dpdk-next-net-mlx Branch: master CommitID:ae657d56b1f0ea979b3f611edf28d773efc2ddcf 158836 --> testing pass Upstream job id: Generic-DPDK-Compile-Meson#445117 Test environment and result as below: +-------------------------------+--------------------+------------------+-------------------------+-------------------+----------------------+ | Environment | dpdk_meson_compile | dpdk_compile_ovs | dpdk_llvm_clang_compile | dpdk_msvc_compile | dpdk_mingw64_compile | +===============================+====================+==================+=========================+===================+======================+ | Ubuntu 20.04 | PASS | SKIPPED | SKIPPED | SKIPPED | SKIPPED | +-------------------------------+--------------------+------------------+-------------------------+-------------------+----------------------+ | FreeBSD 14.2 | PASS | SKIPPED | SKIPPED | SKIPPED | SKIPPED | +-------------------------------+--------------------+------------------+-------------------------+-------------------+----------------------+ | CentOS Stream 9 | PASS | SKIPPED | SKIPPED | SKIPPED | SKIPPED | +-------------------------------+--------------------+------------------+-------------------------+-------------------+----------------------+ | Debian GNU/Linux 12 | PASS | SKIPPED | SKIPPED | SKIPPED | SKIPPED | +-------------------------------+--------------------+------------------+-------------------------+-------------------+----------------------+ | CentOS Stream 10 | PASS | SKIPPED | SKIPPED | SKIPPED | SKIPPED | +-------------------------------+--------------------+------------------+-------------------------+-------------------+----------------------+ | Fedora Linux 42 | PASS | PASS | SKIPPED | SKIPPED | SKIPPED | +-------------------------------+--------------------+------------------+-------------------------+-------------------+----------------------+ | openSUSE Leap 15.6 | PASS | SKIPPED | SKIPPED | SKIPPED | SKIPPED | +-------------------------------+--------------------+------------------+-------------------------+-------------------+----------------------+ | Red Hat Enterprise Linux 8.10 | PASS | SKIPPED | SKIPPED | SKIPPED | SKIPPED | +-------------------------------+--------------------+------------------+-------------------------+-------------------+----------------------+ | Red Hat Enterprise Linux 9.5 | PASS | SKIPPED | SKIPPED | SKIPPED | SKIPPED | +-------------------------------+--------------------+------------------+-------------------------+-------------------+----------------------+ | Ubuntu 22.04 | PASS | SKIPPED | SKIPPED | SKIPPED | SKIPPED | +-------------------------------+--------------------+------------------+-------------------------+-------------------+----------------------+ | Ubuntu 24.04 | PASS | PASS | SKIPPED | SKIPPED | SKIPPED | +-------------------------------+--------------------+------------------+-------------------------+-------------------+----------------------+ | Alpine Linux 3.22.0 | PASS | SKIPPED | SKIPPED | SKIPPED | SKIPPED | +-------------------------------+--------------------+------------------+-------------------------+-------------------+----------------------+ | Windows Server 2022 | SKIPPED | SKIPPED | PASS | PASS | PASS | +-------------------------------+--------------------+------------------+-------------------------+-------------------+----------------------+ Ubuntu 20.04 Kernel: 4.19 Compiler: gcc gcc (Ubuntu 9.4.0-1ubuntu1~20.04.2) 9.4.0 FreeBSD 14.2 Kernel: 14.2-RELEASE Compiler: clang 18.1.6 CentOS Stream 9 Kernel: 5.15 Compiler: gcc gcc (GCC) 11.5.0 20240719 (Red Hat 11.5.0-11) Debian GNU/Linux 12 Kernel: 5.15 Compiler: gcc gcc (Debian 12.2.0-14+deb12u1) 12.2.0 CentOS Stream 10 Kernel: 5.15 Compiler: gcc gcc (GCC) 14.2.1 20250110 (Red Hat 14.2.1-8) Fedora Linux 42 Kernel: 5.15 Compiler: clang gcc (GCC) 15.2.1 20250808 (Red Hat 15.2.1-1) openSUSE Leap 15.6 Kernel: 5.15 Compiler: gcc gcc (SUSE Linux) 7.5.0 Red Hat Enterprise Linux 8.10 Kernel: 5.15 Compiler: gcc gcc (GCC) 8.5.0 20210514 (Red Hat 8.5.0-22) Red Hat Enterprise Linux 9.5 Kernel: 5.15 Compiler: gcc gcc (GCC) 11.5.0 20240719 (Red Hat 11.5.0-2) Ubuntu 22.04 Kernel: 5.15 Compiler: gcc gcc (Ubuntu 11.4.0-1ubuntu1~22.04) 11.4.0 Ubuntu 24.04 Kernel: 5.15 Compiler: gcc gcc (Ubuntu 13.3.0-6ubuntu2~24.04) 13.3.0 Alpine Linux 3.22.0 Kernel: 5.15 Compiler: gcc gcc (Alpine 14.2.0) 14.2.0 Windows Server 2022 Kernel: 10.0.20348.2031 Compiler: clang 15.0.7, gcc 14.1.0 (MinGW), and MSVC VS 19.39.33521 To view detailed results, visit: https://lab.dpdk.org/results/dashboard/patchsets/34610/ UNH-IOL DPDK Community Lab To manage your email subscriptions, visit: https://lab.dpdk.org/results/dashboard/preferences/subscriptions/