From mboxrd@z Thu Jan 1 00:00:00 1970 Return-Path: Received: from mails.dpdk.org (mails.dpdk.org [217.70.189.124]) by inbox.dpdk.org (Postfix) with ESMTP id 194A148B2A for ; Sun, 16 Nov 2025 15:41:02 +0100 (CET) Received: from mails.dpdk.org (localhost [127.0.0.1]) by mails.dpdk.org (Postfix) with ESMTP id 12DED402E3; Sun, 16 Nov 2025 15:41:02 +0100 (CET) Received: from mail-pl1-f228.google.com (mail-pl1-f228.google.com [209.85.214.228]) by mails.dpdk.org (Postfix) with ESMTP id 36C43402E3 for ; Sun, 16 Nov 2025 15:41:01 +0100 (CET) Received: by mail-pl1-f228.google.com with SMTP id d9443c01a7336-2955623e6faso31396645ad.1 for ; Sun, 16 Nov 2025 06:41:01 -0800 (PST) DKIM-Signature: v=1; a=rsa-sha256; c=relaxed/relaxed; d=iol.unh.edu; s=unh-iol; t=1763304060; x=1763908860; darn=dpdk.org; h=cc:to:from:subject:message-id:date:from:to:cc:subject:date :message-id:reply-to; bh=zuuvcDOitkxPFshRI4XUnk0nkHT0RWhrEECqmGqQ47w=; b=WXgC3k48CRDsmGy3YmDvCsjKnHFggd+UhbmGF4vfI/0l8M+Gd4diYtDbUWmUIMisb9 fA3aY2aDK3wANdz6q8mI8Wxkdzmdkivz9jlPalFsk9rNGF9TxxEk5ervsKf5il3Fe7Bk Z/Aw1571LNI0k0nA5azHr+O3J7aMb6yToJRk8= X-Google-DKIM-Signature: v=1; a=rsa-sha256; c=relaxed/relaxed; d=1e100.net; s=20230601; t=1763304060; x=1763908860; h=cc:to:from:subject:message-id:date:x-gm-gg:x-gm-message-state:from :to:cc:subject:date:message-id:reply-to; bh=zuuvcDOitkxPFshRI4XUnk0nkHT0RWhrEECqmGqQ47w=; b=s1goimrKBM6PXy64qWc/0APmkoTn8sq+nPZaXOuahqQtocq/VV3d7wnr0FtjlCz5Vt 62UZtwJXIrTg1Cu1vOx623dmlVX+1OzOA7bgTUqbr6H6AMvuqYwa2eF4xcSmXkDzYO/o pmbMkiKS6RKYNOyXuaYTuvqhiLlgJ8Y3OHL/znrstCuMwD+z2jZzZ7loUISbWn3T9xWV cU2O+GCxFcYyspTt1+5gYDFIqIeX77b+c46f40jax5/X8hYAXmIMmT4FCE0NSiNSa4+h CA6aUXg4U2n/1JwE8LahF5toFf3hzJ0yJ5QqrWYoIPMOakCL4pQNZzPwNjOrbsmnKdD9 cJgQ== X-Gm-Message-State: AOJu0YzUKoZgextZFH8WvwTUWSfxeD3luSdPXuXM+9yjQVCcwwmgczyE AwA6bBZxo52sHhOaUd47phQdsHDb70NZIIuNkFf95senM0VSFlFgOaU4AIpXRSCiDty7nPil4OW 0pUV7F3rVbRQHN/XC/w8rA/V/3YlCLqQ28+036lciCdY6YTUSF7Mg X-Gm-Gg: ASbGncugb0pB8MH/LUE415k7r1U2To+qhk+f4J2K19yYRJm9+zMXD736xYvWri4Bk+U 3sti8oA7Dn3UJ+43YrawbxF4ieTFPt31I7MbHIVAV4AvEHtmfArJakQu1V+PYus5McYDvR4xzlu NZJ2FwElvhukicpOpeF4QVMXvLOJyP/36ZRV80NtjGMMs5ibGiMO5b7ynFyMC5zMfmM9m7YkMh9 L17CCJEpsbhRJVIQFKLnXu6RcR+y9ZCitTjcTeaPNcJfl0Bgfg1Zqof+FlafSvoHQ5dJQqGsBZG LcufHLOU8ZrEnubYES7Y4XqsmdhLBYVdJ96wjAMOSQj2HN1CMZnG6Kag7UnACVmMOClYwsD/+VT fBNZ/HCyS X-Google-Smtp-Source: AGHT+IF73ElANuB5OVMlq3iiI7jrgbx9H5PFJFx2b9Av8GtwbAAW/WP0em68oxkI0T2nDnikvYMLUnDKLrAG X-Received: by 2002:a17:903:3c24:b0:295:557e:746d with SMTP id d9443c01a7336-2986a76b8a3mr104331415ad.57.1763304060401; Sun, 16 Nov 2025 06:41:00 -0800 (PST) Received: from postal.iol.unh.edu (postal.iol.unh.edu. [2606:4100:3880:1234::84]) by smtp-relay.gmail.com with ESMTPS id d9443c01a7336-2985c254302sm11918095ad.29.2025.11.16.06.41.00 (version=TLS1_2 cipher=ECDHE-ECDSA-AES128-GCM-SHA256 bits=128/128); Sun, 16 Nov 2025 06:41:00 -0800 (PST) X-Relaying-Domain: iol.unh.edu Date: Sun, 16 Nov 2025 06:41:00 -0800 (PST) Message-ID: <6919e27c.170a0220.2f225c.ce3dSMTPIN_ADDED_MISSING@mx.google.com> Received: from [172.21.0.3] (unknown [172.18.0.240]) by postal.iol.unh.edu (Postfix) with ESMTP id 911BF6051830; Sun, 16 Nov 2025 09:40:59 -0500 (EST) Subject: |SUCCESS| [GIT MASTER] 0bd935abcb823f581ce53986986aa54eaf6f8140 From: dpdklab@iol.unh.edu To: Test Report Cc: dpdk-test-reports@iol.unh.edu, Xueming Li , Christian Ehrhardt , Kevin Traynor , Luca Boccassi Content-Type: text/plain X-BeenThere: test-report@dpdk.org X-Mailman-Version: 2.1.29 Precedence: list List-Id: automatic DPDK test reports List-Unsubscribe: , List-Archive: List-Post: List-Help: List-Subscribe: , Errors-To: test-report-bounces@dpdk.org _Testing PASS_ Branch: tags/v24.11 0bd935abcb823f581ce53986986aa54eaf6f8140 --> testing pass Upstream job id: Generic-Unit-Test-DPDK#393285 Test environment and result as below: +------------------------------+----------------+--------------+------------------------------+---------------------------+ | Environment | dpdk_unit_test | lpm_autotest | cryptodev_sw_snow3g_autotest | cryptodev_sw_zuc_autotest | +==============================+================+==============+==============================+===========================+ | CentOS Stream 9 | PASS | SKIPPED | SKIPPED | SKIPPED | +------------------------------+----------------+--------------+------------------------------+---------------------------+ | CentOS Stream 10 | PASS | SKIPPED | SKIPPED | SKIPPED | +------------------------------+----------------+--------------+------------------------------+---------------------------+ | Debian GNU/Linux 12 | PASS | SKIPPED | SKIPPED | SKIPPED | +------------------------------+----------------+--------------+------------------------------+---------------------------+ | Fedora Linux 40 | PASS | SKIPPED | SKIPPED | SKIPPED | +------------------------------+----------------+--------------+------------------------------+---------------------------+ | Fedora Linux 41 | PASS | SKIPPED | SKIPPED | SKIPPED | +------------------------------+----------------+--------------+------------------------------+---------------------------+ | Fedora Linux 42 | PASS | SKIPPED | SKIPPED | SKIPPED | +------------------------------+----------------+--------------+------------------------------+---------------------------+ | Ubuntu 20.04 | PASS | PASS | SKIPPED | SKIPPED | +------------------------------+----------------+--------------+------------------------------+---------------------------+ | Ubuntu 24.04 | PASS | SKIPPED | SKIPPED | SKIPPED | +------------------------------+----------------+--------------+------------------------------+---------------------------+ | Red Hat Enterprise Linux 9.5 | PASS | SKIPPED | SKIPPED | SKIPPED | +------------------------------+----------------+--------------+------------------------------+---------------------------+ | Ubuntu 22.04 | PASS | SKIPPED | SKIPPED | SKIPPED | +------------------------------+----------------+--------------+------------------------------+---------------------------+ | Debian 12 (arm) | SKIPPED | SKIPPED | PASS | PASS | +------------------------------+----------------+--------------+------------------------------+---------------------------+ CentOS Stream 9 Kernel: 5.4 Compiler: gcc gcc (GCC) 11.5.0 20240719 (Red Hat 11.5.0-11) CentOS Stream 10 Kernel: 5.4 Compiler: gcc gcc (GCC) 14.2.1 20250110 (Red Hat 14.2.1-8) Debian GNU/Linux 12 Kernel: 5.4 Compiler: gcc gcc (Debian 12.2.0-14+deb12u1) 12.2.0 Fedora Linux 40 Kernel: 5.4 Compiler: gcc gcc (GCC) 14.2.1 20240912 (Red Hat 14.2.1-3) Fedora Linux 41 Kernel: 5.4 Compiler: gcc gcc (GCC) 14.3.1 20250523 (Red Hat 14.3.1-1) Fedora Linux 42 Kernel: 5.4 Compiler: clang gcc (GCC) 15.2.1 20250808 (Red Hat 15.2.1-1) Ubuntu 20.04 Kernel: 5.4 Compiler: gcc gcc (Ubuntu 9.4.0-1ubuntu1~20.04.2) 9.4.0 Ubuntu 24.04 Kernel: 5.4 Compiler: gcc gcc (Ubuntu 13.3.0-6ubuntu2~24.04) 13.3.0 Red Hat Enterprise Linux 9.5 Kernel: 5.4 Compiler: gcc gcc (GCC) 11.5.0 20240719 (Red Hat 11.5.0-2) Ubuntu 22.04 Kernel: 5.4 Compiler: gcc gcc (Ubuntu 11.4.0-1ubuntu1~22.04) 11.4.0 Debian 12 (arm) Kernel: Depends on container host Compiler: gcc (Debian 12.2.0-14) 12.2.0 To view detailed results, visit: https://lab.dpdk.org/results/dashboard/tarballs/35616/ UNH-IOL DPDK Community Lab To manage your email subscriptions, visit: https://lab.dpdk.org/results/dashboard/preferences/subscriptions/