From mboxrd@z Thu Jan 1 00:00:00 1970 Return-Path: Received: from mails.dpdk.org (mails.dpdk.org [217.70.189.124]) by inbox.dpdk.org (Postfix) with ESMTP id DC21648B10 for ; Sun, 16 Nov 2025 16:12:42 +0100 (CET) Received: from mails.dpdk.org (localhost [127.0.0.1]) by mails.dpdk.org (Postfix) with ESMTP id C223B402E3; Sun, 16 Nov 2025 16:12:42 +0100 (CET) Received: from mail-yw1-f226.google.com (mail-yw1-f226.google.com [209.85.128.226]) by mails.dpdk.org (Postfix) with ESMTP id 93566402E3 for ; Sun, 16 Nov 2025 16:12:41 +0100 (CET) Received: by mail-yw1-f226.google.com with SMTP id 00721157ae682-789505a2fe7so2065847b3.1 for ; Sun, 16 Nov 2025 07:12:41 -0800 (PST) DKIM-Signature: v=1; a=rsa-sha256; c=relaxed/relaxed; d=iol.unh.edu; s=unh-iol; t=1763305961; x=1763910761; darn=dpdk.org; h=cc:to:from:subject:message-id:date:from:to:cc:subject:date :message-id:reply-to; bh=mYpWG4EuVloKYayMOyZ6NcYGEcMpNGQmJ1skXPt7M7k=; b=UNw8yoVZrORWX3YC7tH8NYlpkOeXLvcdu4HJrmmmbK+WpivnSKAd4LO2YVSUFMLYk7 I6XjybqUqdWT/iR+aFHuLzuvdA33JbpQTx4MeZNQBCPgij/GYKug7VTOsaXNaxff6yJh vdJOiRjshz5Pq05ndAovGH4Ukg0fAcU1yyV/4= X-Google-DKIM-Signature: v=1; a=rsa-sha256; c=relaxed/relaxed; d=1e100.net; s=20230601; t=1763305961; x=1763910761; h=cc:to:from:subject:message-id:date:x-gm-gg:x-gm-message-state:from :to:cc:subject:date:message-id:reply-to; bh=mYpWG4EuVloKYayMOyZ6NcYGEcMpNGQmJ1skXPt7M7k=; b=bQa9T81YCDlkv6AKsHWyKtcbueVi3g6CHzybDossCAHRpK0btVv4NtlOTryxgP2LFQ YDcBrTp2+0vvan1N5ZNpwiINvdVBXS5ji7W3F4JqmSkz7YaYvMv66f6bV19TS568JdBb oEuhYNbvlqq9uiMj6IHd4AW4yRQLdzUzFMfxhgsziNM9pWyoGLKFEPy+2xrjVtof5L6T OsxArK38+o/2ndaPtMWuY71TmApF4z718BllogHVCXC1vTN6jNGC59WnDUBlLDDG8n/6 3HZHbFNqU5ap5AON+qnH06XyW+EWAZz1iqXJS2OxuK0jdNVxva11GGUc5XCU3/lGf55a IT4w== X-Gm-Message-State: AOJu0Yw/3Zu3leV7evIX6/DRNVu+PspbAS3h/06NiNvWFuthoQfddRFA whrsOtByOU0hAJzEKfTb++A97VPzH/gA+gbf+t9S++EIkn4ShqPYr4ZJ+ey4vdEzGXLRGB0P7G6 TKdEjQfks/5qrNW9/uI/M7IIPpfdUvP4fxjgU X-Gm-Gg: ASbGnctTjpq6p0GJp0VNcTW5203zsFreXGzGsJsEd8G7UG24IxvXrBbLg40oe00E2Ni nq1LxMBwaie/1bTxEFrpovjVB/rYJEiYDZoRuz6xGh4kTjXm3zUgxQwyhwG1bUDCoG0DbNN6q3+ If5BFtea5atbhDQXfzWN85AZqgSTiybIz5J3okEqK97fOK/2zcKghknTFM9+hSN5pqOrNvDO0i3 J+S28mFB/lOxqXjhYvB+TBVYCW5XzA8BoAXYcgL7jwAUX/SQVIzjeyTdowlzI6CzR06voGZ4d5u WURyu3EjfVCRoJBLSeUnYtVD+j/7XiaYWaRB+tx6tLu/4Bq7FzoPfB/nNLJZP3vB109a3iV2vNO EYxDleiLsba2Izdk1RZotDX38jTX4YKI= X-Google-Smtp-Source: AGHT+IHE6d9AuEH+XwEKqknagUS4ui+resKQ1JQEVdGS/qZqeAPWfH0MSkYyXVapu85LXVBQVtn6gysOpRFJ X-Received: by 2002:a05:690c:e4c8:b0:789:26a0:7f5a with SMTP id 00721157ae682-78929e43b9bmr68741647b3.2.1763305960770; Sun, 16 Nov 2025 07:12:40 -0800 (PST) Received: from postal.iol.unh.edu (postal.iol.unh.edu. [132.177.123.84]) by smtp-relay.gmail.com with ESMTPS id 00721157ae682-78945df637csm1503637b3.11.2025.11.16.07.12.40 (version=TLS1_2 cipher=ECDHE-ECDSA-AES128-GCM-SHA256 bits=128/128); Sun, 16 Nov 2025 07:12:40 -0800 (PST) X-Relaying-Domain: iol.unh.edu Date: Sun, 16 Nov 2025 07:12:40 -0800 (PST) Message-ID: <6919e9e8.050a0220.2fa68a.7b69SMTPIN_ADDED_MISSING@mx.google.com> Received: from [172.21.0.3] (unknown [172.18.0.240]) by postal.iol.unh.edu (Postfix) with ESMTP id 22D0F6051830; Sun, 16 Nov 2025 10:12:40 -0500 (EST) Subject: |WARNING| [GIT MASTER] 62f583c49bf67dd4d6733ece14e55fe6839e66d1 From: dpdklab@iol.unh.edu To: Test Report Cc: dpdk-test-reports@iol.unh.edu, Xueming Li , Christian Ehrhardt , Kevin Traynor , Luca Boccassi Content-Type: text/plain X-BeenThere: test-report@dpdk.org X-Mailman-Version: 2.1.29 Precedence: list List-Id: automatic DPDK test reports List-Unsubscribe: , List-Archive: List-Post: List-Help: List-Subscribe: , Errors-To: test-report-bounces@dpdk.org _Testing issues_ Branch: tags/v23.11 62f583c49bf67dd4d6733ece14e55fe6839e66d1 --> testing issues Upstream job id: Generic-Unit-Test-DPDK#393292 Test environment and result as below: +------------------------------+----------------+--------------+------------------------------+---------------------------+ | Environment | dpdk_unit_test | lpm_autotest | cryptodev_sw_snow3g_autotest | cryptodev_sw_zuc_autotest | +==============================+================+==============+==============================+===========================+ | CentOS Stream 9 | PASS | SKIPPED | SKIPPED | SKIPPED | +------------------------------+----------------+--------------+------------------------------+---------------------------+ | CentOS Stream 10 | PASS | SKIPPED | SKIPPED | SKIPPED | +------------------------------+----------------+--------------+------------------------------+---------------------------+ | Fedora Linux 40 | PASS | SKIPPED | SKIPPED | SKIPPED | +------------------------------+----------------+--------------+------------------------------+---------------------------+ | Fedora Linux 41 | PASS | SKIPPED | SKIPPED | SKIPPED | +------------------------------+----------------+--------------+------------------------------+---------------------------+ | Debian GNU/Linux 12 | PASS | SKIPPED | SKIPPED | SKIPPED | +------------------------------+----------------+--------------+------------------------------+---------------------------+ | Red Hat Enterprise Linux 9.5 | PASS | SKIPPED | SKIPPED | SKIPPED | +------------------------------+----------------+--------------+------------------------------+---------------------------+ | Fedora Linux 42 | PASS | SKIPPED | SKIPPED | SKIPPED | +------------------------------+----------------+--------------+------------------------------+---------------------------+ | Ubuntu 24.04 | PASS | SKIPPED | SKIPPED | SKIPPED | +------------------------------+----------------+--------------+------------------------------+---------------------------+ | Ubuntu 20.04 | PASS | PASS | SKIPPED | SKIPPED | +------------------------------+----------------+--------------+------------------------------+---------------------------+ | Ubuntu 22.04 | PASS | SKIPPED | SKIPPED | SKIPPED | +------------------------------+----------------+--------------+------------------------------+---------------------------+ | Debian 12 (arm) | SKIPPED | SKIPPED | PASS | PASS | +------------------------------+----------------+--------------+------------------------------+---------------------------+ CentOS Stream 9 Kernel: 5.4 Compiler: gcc gcc (GCC) 11.5.0 20240719 (Red Hat 11.5.0-11) CentOS Stream 10 Kernel: 5.4 Compiler: gcc gcc (GCC) 14.2.1 20250110 (Red Hat 14.2.1-8) Fedora Linux 40 Kernel: 5.4 Compiler: gcc gcc (GCC) 14.2.1 20240912 (Red Hat 14.2.1-3) Fedora Linux 41 Kernel: 5.4 Compiler: clang gcc (GCC) 14.3.1 20250523 (Red Hat 14.3.1-1) Debian GNU/Linux 12 Kernel: 5.4 Compiler: gcc gcc (Debian 12.2.0-14+deb12u1) 12.2.0 Red Hat Enterprise Linux 9.5 Kernel: 5.4 Compiler: gcc gcc (GCC) 11.5.0 20240719 (Red Hat 11.5.0-2) Fedora Linux 42 Kernel: 5.4 Compiler: gcc gcc (GCC) 15.2.1 20250808 (Red Hat 15.2.1-1) Ubuntu 24.04 Kernel: 5.4 Compiler: gcc gcc (Ubuntu 13.3.0-6ubuntu2~24.04) 13.3.0 Ubuntu 20.04 Kernel: 5.4 Compiler: gcc gcc (Ubuntu 9.4.0-1ubuntu1~20.04.2) 9.4.0 Ubuntu 22.04 Kernel: 5.4 Compiler: gcc gcc (Ubuntu 11.4.0-1ubuntu1~22.04) 11.4.0 Debian 12 (arm) Kernel: Depends on container host Compiler: gcc (Debian 12.2.0-14) 12.2.0 To view detailed results, visit: https://lab.dpdk.org/results/dashboard/tarballs/35615/ UNH-IOL DPDK Community Lab To manage your email subscriptions, visit: https://lab.dpdk.org/results/dashboard/preferences/subscriptions/